BEGIN:VCALENDAR
VERSION:2.0
PRODID:-//Sveriges Marknadsförbund - ECPv6.7.0//NONSGML v1.0//EN
CALSCALE:GREGORIAN
METHOD:PUBLISH
X-ORIGINAL-URL:https://svemarknad.se.hosting.brainforest.se
X-WR-CALDESC:Events for Sveriges Marknadsförbund
REFRESH-INTERVAL;VALUE=DURATION:PT1H
X-Robots-Tag:noindex
X-PUBLISHED-TTL:PT1H
BEGIN:VTIMEZONE
TZID:Europe/Stockholm
BEGIN:DAYLIGHT
TZOFFSETFROM:+0100
TZOFFSETTO:+0200
TZNAME:CEST
DTSTART:20260329T010000
END:DAYLIGHT
BEGIN:STANDARD
TZOFFSETFROM:+0200
TZOFFSETTO:+0100
TZNAME:CET
DTSTART:20261025T010000
END:STANDARD
END:VTIMEZONE
BEGIN:VEVENT
DTSTART;TZID=Europe/Stockholm:20260428T090000
DTEND;TZID=Europe/Stockholm:20260428T110000
DTSTAMP:20260425T183035
CREATED:20251208T100034Z
LAST-MODIFIED:20260423T080403Z
UID:65968-1777366800-1777374000@svemarknad.se.hosting.brainforest.se
SUMMARY:Online kurs gratis för medlemmar: Framgång i ett omvälvande marknadslandskap
DESCRIPTION:Denna kurs är fri för medlemmar – varmt välkommen att anmäla dig! \n\n\n\nFramgång i ett omvälvande marknadslandskap\n\n\n\nMarknadslandskapet förändras snabbare än någonsin. Nya teknologier\, AI-drivna lösningar och automatiserade plattformar utmanar traditionella arbetssätt och ställer höga krav på organisationers förmåga att anpassa sig. Men i denna skenande utveckling döljer sig också stora möjligheter. \n\n\n\nUnder kursen guidar vi er genom de mest disruptiva förändringarna just nu och hur dessa kan omvandlas till konkreta fördelar\, där täcker vi in hela organisationen. \n\n\n\n\n\n\n\nFöreläsare från Tre Kronor Media – A Making Science Company \n\n\n\nSophia Jernberg – Nordic COOIntroduktion \n\n\n\nJon Söderlind  – Head of Insight & Strategy & Daniel Montell – Head Of Digital StrategyMarknadschefens dilemma \n\n\n\nJessica Larholm – Nordic Digital DirectorFuture of Search” & ”Kreativitet och skalbarhet \n\n\n\nFanny Edenbro – Nordic Head of AI\, Cloud\, Cybersecurity & SoftwareBygga grunden för AI i organisationen \n\n\n\nKursdatum 28 april\n\n\n\nAnmälan: gör du nedanPris: 0 kr för medlem (4.950 kr + moms icke medlem)Kursen sker live online och du kommer att få en länk till Google-Meet. \n\n\n\nDag: 28 april 2026Tid: Kl 09.00 -11.00Plats: Online. Google-Meet-länk skickasAnmälan: se nedan \n\n\n\n\n\n\n	 \n\n\nAnmälan är bindande. Du kan överlåta din plats till kollega om förhinder uppstår.
URL:https://svemarknad.se.hosting.brainforest.se/evenemang/online-kurs-gratis-for-medlemmar-framgang-i-ett-omvalvande-marknadslandskap/
CATEGORIES:Kurser
ATTACH;FMTTYPE=image/jpeg:https://svemarknad.se.hosting.brainforest.se/wp-content/uploads/2025/12/Skarmbild-2025-12-08-Bara-2-Tre-Kronor.jpg
END:VEVENT
END:VCALENDAR