BEGIN:VCALENDAR
VERSION:2.0
PRODID:-//Sveriges Marknadsförbund - ECPv6.7.0//NONSGML v1.0//EN
CALSCALE:GREGORIAN
METHOD:PUBLISH
X-WR-CALNAME:Sveriges Marknadsförbund
X-ORIGINAL-URL:https://svemarknad.se.hosting.brainforest.se
X-WR-CALDESC:Events for Sveriges Marknadsförbund
REFRESH-INTERVAL;VALUE=DURATION:PT1H
X-Robots-Tag:noindex
X-PUBLISHED-TTL:PT1H
BEGIN:VTIMEZONE
TZID:Europe/Stockholm
BEGIN:DAYLIGHT
TZOFFSETFROM:+0100
TZOFFSETTO:+0200
TZNAME:CEST
DTSTART:20240331T010000
END:DAYLIGHT
BEGIN:STANDARD
TZOFFSETFROM:+0200
TZOFFSETTO:+0100
TZNAME:CET
DTSTART:20241027T010000
END:STANDARD
END:VTIMEZONE
BEGIN:VEVENT
DTSTART;TZID=Europe/Stockholm:20240905T083000
DTEND;TZID=Europe/Stockholm:20240905T110000
DTSTAMP:20260426T033107
CREATED:20240603T063943Z
LAST-MODIFIED:20240925T085149Z
UID:53225-1725525000-1725534000@svemarknad.se.hosting.brainforest.se
SUMMARY:Event Senior Talent Award
DESCRIPTION:Välkommen till prisceremoni samt panelsamtal om hur vi kan förebygga och motverka åldersdiskriminering på arbetsmarknaden!\n\n\n\nHur förebygger vi och motverkar åldersdiskriminering?\n\n\n\nEventet inleds med ett panelsamtal hur vi förebygger och motverkar åldersdiskriminering på arbetsmarknaden. Samtalet leds av John Mellkvist generalsekreterare för Plusskommissionen även juryordförande för Senior Talent Award. \n\n\n\nPrisceremoni – Vem blir vinnare av Senior Talent Award 2024?\n\n\n\nVinnare koras och priser delas ut\n\n\n\nSveriges Marknadsförbund arbetar med ledarskapsfrågor och kompetensutveckling och vill lyfta organisationer som är med och omdefinierar stereotypa begrepp och förlegade åldersstrukturer när det gäller ålder kopplat till jobb och kompetens. Sveriges Marknadsförbund vill med priset göra ett statement så att fler inspireras att fortsätta skapa tillväxt och trygghet i svenskt näringsliv. Sveriges Marknadsförbund stiftade  utmärkelsen Senior Talent Award år 2021.  \n\n\n\nSenior Talent Award är en utmärkelse riktat mot företag och organisationer som värdesätter senior kompetens och inte likställer talang med ålder. Juryn för Senior Talent Award utser också särskilda hedersomnämnanden till modiga och betydelsefulla individer\, som vågat gå mot strömmen och statuerat goda exempel för andra att inspireras av. \n\n\n\nOrdförande för juryn:John Mellkvist\, Generalsekreterare för Plusskommissionen (Juryordförande)Francesca O’Brien\, VD Sveriges MarknadsförbundÅsa Edman\, VD TNGPernilla Oldmark\, EVP People & Culture Axel JohnsonMaja Englund\, Chef marknad och kommunikation SPPMattias Munter\, Kommunikationschef Skandia \n\n\n\n\n\n\n\nTidigare vinnare\n\n\n\nVinnare 2023\n\n\n\n🏆 Camilla Läckberg (individ)🏆 Northvolt (företag)🏆 57:orna (organisation)  \n\n\n\n \n\n\n\nVinnare 2022\n\n\n\n🏆 Tomas Ledin (individ)🏆 Axel Johnson Group (företag) \n\n\n\nVinnare 2021\n\n\n\n🏆 Spendrups presschef Rose-Marie Hertzman (individ)🏆 ICA (företag) \n\n\n\nJuryn bedömer och berömmer utifrån de här kriterierna:\n\n\n\nFritt för medlemmar! Varmt välkommen!\n\n\n\nAnmälan:\n\n\n\nDag: 5 septemberTid: kl 08.30 – 11.00 Plats: Hos SPP\, Vasagatan 10\, Stockholm  – Rum: BiblioteketAnmälan: se nedan \n\n\n\n\n\n\n	 \n\n\nNoshow debiteras\n\n\n\nAvbokning sker senast 2 vardagar innan eventet men platsen kan alltid överlåtas till annan person – namnjustering sker till annika@svemarknad.seVid utebliven närvaro utgår avgift på 395 kr ex moms. Vi reserverar oss för ev. ändringar i programmet.
URL:https://svemarknad.se.hosting.brainforest.se/evenemang/event-senior-talent-award/
CATEGORIES:Seminarier
ATTACH;FMTTYPE=image/jpeg:https://svemarknad.se.hosting.brainforest.se/wp-content/uploads/2024/06/Y2A1695-scaled.jpg
END:VEVENT
END:VCALENDAR