BEGIN:VCALENDAR
VERSION:2.0
PRODID:-//Sveriges Marknadsförbund - ECPv6.7.0//NONSGML v1.0//EN
CALSCALE:GREGORIAN
METHOD:PUBLISH
X-WR-CALNAME:Sveriges Marknadsförbund
X-ORIGINAL-URL:https://svemarknad.se.hosting.brainforest.se
X-WR-CALDESC:Events for Sveriges Marknadsförbund
REFRESH-INTERVAL;VALUE=DURATION:PT1H
X-Robots-Tag:noindex
X-PUBLISHED-TTL:PT1H
BEGIN:VTIMEZONE
TZID:Europe/Stockholm
BEGIN:DAYLIGHT
TZOFFSETFROM:+0100
TZOFFSETTO:+0200
TZNAME:CEST
DTSTART:20240331T010000
END:DAYLIGHT
BEGIN:STANDARD
TZOFFSETFROM:+0200
TZOFFSETTO:+0100
TZNAME:CET
DTSTART:20241027T010000
END:STANDARD
END:VTIMEZONE
BEGIN:VEVENT
DTSTART;TZID=Europe/Stockholm:20241001T083000
DTEND;TZID=Europe/Stockholm:20241001T123000
DTSTAMP:20260424T100729
CREATED:20240612T091244Z
LAST-MODIFIED:20240919T081603Z
UID:53565-1727771400-1727785800@svemarknad.se.hosting.brainforest.se
SUMMARY:Skapa innehåll med Generativ AI
DESCRIPTION:Praktisk guide för marknadsförare och kommunikatörer\n\n\n\n\n\n\n\nBeskrivning:\n\n\n\nSkapa innehåll med Generativ AI\n\n\n\nDenna kurs är skräddarsydd för kommunikatörer som vill förstå och använda generativ AI på ett effektivt sätt i sitt arbete. Kursen täcker de grundläggande principerna för generativ AI\, inklusive dess potential och begränsningar. Kursen ger konkreta exempel på hur tekniken kan integreras i kommunikation – kreativt och för att effektivisera. Deltagarna kommer att lära sig om olika typer av generativa modeller\, hur man kan använda dessa verktyg för innehållsskapande\, samt bästa praxis inom området. Kursen är en blandning av teoretiska genomgångar och praktiska övningar för att ge en omfattande förståelse av generativ AI i en kommunikationskontext. \n\n\n\nVi går igenom:\n\n\n\n\nFörståelse för Generativ AI-teknik:De tekniska aspekterna av generativ AI\, inklusive neurala nätverk och algoritmer\n\n\n\n\n\nGenerativ AI i praktiken:Exempel på hur generativ AI används för innehållsskapande\, från text och bild till mer komplexa applikationer som video och musik.\n\n\n\nSkapa och Använda Prompts för Generativ AI:Hur utformar man effektiva prompts för att styra generativ AI? En viktig färdighet för att skapa målinriktat och relevant innehåll. Denna del inkluderar praktiska övningar där deltagarna får möjlighet att utforma och testa sina egna prompts.\n\n\n\n\nOm kursledaren:\n\n\n\nFelicia Kittelsen arbetar till vardags som content strateg och producent på Salgado Kommunikation och hon är en uppskattad föreläsare på bland annat Affärskompetens och Berghs school of communication. Hon har bakgrund inom psykologi och konst – som hjälper henne se samband mellan identitetsskapande och kulturen på sociala kanaler. \n\n\n\nLäs omdömen från tidigare kursdeltagare \n\n\n\nKursdatum 1 oktober 2024\n\n\n\nAnmälan: gör du nedanPris: 5.200 kr + moms för medlem (9.800 kr icke medlem)Kursen sker live online och du kommer att få en länk till Zoom \n\n\n\nDag: 1 oktober 2024Tid: 08.30-12.30Plats: Online. Zoom-länk skickasAnmälan: se nedan \n\n\n\nAnmälan är bindande.Sveriges Marknadsförbunds integritetspolicy.
URL:https://svemarknad.se.hosting.brainforest.se/evenemang/skapa-innehall-med-generativ-ai-3/
CATEGORIES:Kurser
ATTACH;FMTTYPE=image/jpeg:https://svemarknad.se.hosting.brainforest.se/wp-content/uploads/2024/04/skarmbild-2024-04-19-felicia-kittelsen.jpg
END:VEVENT
END:VCALENDAR