BEGIN:VCALENDAR
VERSION:2.0
PRODID:-//Sveriges Marknadsförbund - ECPv6.7.0//NONSGML v1.0//EN
CALSCALE:GREGORIAN
METHOD:PUBLISH
X-ORIGINAL-URL:https://svemarknad.se.hosting.brainforest.se
X-WR-CALDESC:Events for Sveriges Marknadsförbund
REFRESH-INTERVAL;VALUE=DURATION:PT1H
X-Robots-Tag:noindex
X-PUBLISHED-TTL:PT1H
BEGIN:VTIMEZONE
TZID:Europe/Stockholm
BEGIN:DAYLIGHT
TZOFFSETFROM:+0100
TZOFFSETTO:+0200
TZNAME:CEST
DTSTART:20240331T010000
END:DAYLIGHT
BEGIN:STANDARD
TZOFFSETFROM:+0200
TZOFFSETTO:+0100
TZNAME:CET
DTSTART:20241027T010000
END:STANDARD
END:VTIMEZONE
BEGIN:VEVENT
DTSTART;TZID=Europe/Stockholm:20241031T083000
DTEND;TZID=Europe/Stockholm:20241031T123000
DTSTAMP:20260424T085255
CREATED:20240918T082800Z
LAST-MODIFIED:20240919T081306Z
UID:53540-1730363400-1730377800@svemarknad.se.hosting.brainforest.se
SUMMARY:Skapa er digitala marknadsplan
DESCRIPTION:Digital Marknadsplan\n\n\n\nKonkreta verktyg och tips!\n\n\n\n\n\n\n\nBeskrivning:\n\n\n\nKursen fokuserar på att ge en snabb och praktisk översikt av viktiga aspekter inom digital marknadsföringsstrategi. Deltagarna kommer under en halvdag att lära sig att definiera mål\, välja KPI:er\, förstå grunderna i digital analys\, få en introduktion till Google Analytics 4 och lära sig att utvärdera marknadsföringsinsatser. \n\n\n\nKursens mål:\n\n\n\n● Förstå marknadsföringsfunneln.● Skapa SMART-mål och identifiera relevanta KPI:er.● Introduktion till digital analys och datahantering.● Översikt av Google Analytics 4 för datainsamling.● Strategier för utvärdering och optimering av digital marknadsföring. \n\n\n\nOm kursledaren:\n\n\n\nMattis Engstedt jobbar till vardags som senior kampanjspecialist och digital strateg på Salgado Kommunikation. Han har flerårig erfarenhet av digital marknadsföring och digital analys med spetskompetens inom programmatisk annonsering och spårning. Han är en erfaren utbildare och har hållit kurser på bland annat Medieinstitutet och Berghs school of communication. \n\n\n\nKursdatum 31 oktober 2024\n\n\n\nAnmälan: gör du nedanPris: 5.200 kr + moms för medlem (9.800 kr icke medlem)Kursen sker live online och du kommer att få en länk till Zoom \n\n\n\nDag: 31 oktober 2024Tid: 08.30-12.30Plats: Online. Zoom-länk skickasAnmälan: se nedan \n\n\n\nAnmälan är bindande.Sveriges Marknadsförbunds integritetspolicy.
URL:https://svemarknad.se.hosting.brainforest.se/evenemang/skapa-er-digitala-marknadsplan/
CATEGORIES:Kurser
ATTACH;FMTTYPE=image/jpeg:https://svemarknad.se.hosting.brainforest.se/wp-content/uploads/2024/06/mattis-1_3_kvadrat.jpg
END:VEVENT
END:VCALENDAR