BEGIN:VCALENDAR
VERSION:2.0
PRODID:-//Sveriges Marknadsförbund - ECPv6.7.0//NONSGML v1.0//EN
CALSCALE:GREGORIAN
METHOD:PUBLISH
X-ORIGINAL-URL:https://svemarknad.se.hosting.brainforest.se
X-WR-CALDESC:Events for Sveriges Marknadsförbund
REFRESH-INTERVAL;VALUE=DURATION:PT1H
X-Robots-Tag:noindex
X-PUBLISHED-TTL:PT1H
BEGIN:VTIMEZONE
TZID:Europe/Stockholm
BEGIN:DAYLIGHT
TZOFFSETFROM:+0100
TZOFFSETTO:+0200
TZNAME:CEST
DTSTART:20240331T010000
END:DAYLIGHT
BEGIN:STANDARD
TZOFFSETFROM:+0200
TZOFFSETTO:+0100
TZNAME:CET
DTSTART:20241027T010000
END:STANDARD
END:VTIMEZONE
BEGIN:VEVENT
DTSTART;TZID=Europe/Stockholm:20241105T090000
DTEND;TZID=Europe/Stockholm:20241105T160000
DTSTAMP:20260424T085142
CREATED:20240918T083400Z
LAST-MODIFIED:20240919T081245Z
UID:51786-1730797200-1730822400@svemarknad.se.hosting.brainforest.se
SUMMARY:Effektivisera arbetsprocesser med AI
DESCRIPTION:För marknadschefer som vill implementera AI i sin verksamhet\n\n\n\n\n\n\n\nBeskrivning:\n\n\n\nEffektivisera arbetsprocesser med AI.Denna kurs är avsedd för marknadschefer som vill fördjupa sin förståelse för Artificiell Intelligens och dess tillämpningar inom marknadsföring och affärsprocesser. Genom en kombination av teori och praktiska tillämpningar kommer deltagarna att få de verktyg och kunskaper som krävs för att framgångsrikt implementera AI i sina verksamheter. Kursen täcker allt från de grundläggande principerna av AI till hur man skapar och anpassar AI-lösningar för lösa specifika utmaningar. \n\n\n\nVi går igenom:\n\n\n\n● Grundläggande principer om AI i marknadsföring:En översikt av AI och dess potential för att förbättra arbetsprocesser inom marknadsföring och kommunikation.● AI i praktiken:Hur tekniken kan anpassas för att lösa specifika utmaningar i det dagliga arbetet.● Anpassning och modellträning:Lär dig hur du skapar anpassade GPT-modeller för ditt företags unika utmaningar och behov. \n\n\n\nOm kursledaren:\n\n\n\nFelicia Kittelsen arbetar till vardags som content strateg och producent på Salgado Kommunikation och hon är en uppskattad föreläsare på bland annat Affärskompetens och Berghs school of communication. Hon har bakgrund inom psykologi och konst – som hjälper henne se samband mellan identitetsskapande och kulturen på sociala kanaler. \n\n\n\nKursdatum 5 november 2024\n\n\n\nAnmälan: gör du nedanPris: 10.900 kr + moms för medlem (13.900 kr icke medlem)Kursen sker live online och du kommer att få en länk till Zoom \n\n\n\nDag: 5 november 2024Tid: 09.00-16.00Plats: Online. Zoom-länk skickasAnmälan: se nedan \n\n\n\nAnmälan är bindande.Sveriges Marknadsförbunds integritetspolicy.
URL:https://svemarknad.se.hosting.brainforest.se/evenemang/effektivisera-arbetsprocesser-med-ai/
CATEGORIES:Kurser
ATTACH;FMTTYPE=image/png:https://svemarknad.se.hosting.brainforest.se/wp-content/uploads/2023/04/felicia-kittelsen-2.png
END:VEVENT
END:VCALENDAR