BEGIN:VCALENDAR
VERSION:2.0
PRODID:-//Sveriges Marknadsförbund - ECPv6.7.0//NONSGML v1.0//EN
CALSCALE:GREGORIAN
METHOD:PUBLISH
X-ORIGINAL-URL:https://svemarknad.se.hosting.brainforest.se
X-WR-CALDESC:Events for Sveriges Marknadsförbund
REFRESH-INTERVAL;VALUE=DURATION:PT1H
X-Robots-Tag:noindex
X-PUBLISHED-TTL:PT1H
BEGIN:VTIMEZONE
TZID:Europe/Stockholm
BEGIN:DAYLIGHT
TZOFFSETFROM:+0100
TZOFFSETTO:+0200
TZNAME:CEST
DTSTART:20240331T010000
END:DAYLIGHT
BEGIN:STANDARD
TZOFFSETFROM:+0200
TZOFFSETTO:+0100
TZNAME:CET
DTSTART:20241027T010000
END:STANDARD
END:VTIMEZONE
BEGIN:VEVENT
DTSTART;TZID=Europe/Stockholm:20241106T083000
DTEND;TZID=Europe/Stockholm:20241106T093000
DTSTAMP:20260424T085257
CREATED:20241016T081300Z
LAST-MODIFIED:20241101T102852Z
UID:60517-1730881800-1730885400@svemarknad.se.hosting.brainforest.se
SUMMARY:Frukostseminarium om varumärke\, placebranding & SoMe-strategier hos A house
DESCRIPTION:Välkommen till frukostmöte hos A house Katarinahuset Slussen\n\n\n\nVarumärke\, placebranding och SoMe-strategier.\n\n\n\nVälkommen på god frukost och få lyssna på Richard Hammarskiöld\, grundare\, creative director och affärsutvecklingsansvarig på A house som har byggt platsvarumärket kring idén om att skapa en dynamisk och kreativ miljö som främjar samverkan och innovation inom kreativa branscher.  \n\n\n\nDu kommer också att träffa Mikaela Holmberg\, kommunikatör på Katarinahuset. Hon kommer att berätta om hur marknadsteamet arbetar med sociala medier för att positionera sig mot traditionella coworkingaktörer. Mikaela kommer att berätta om hur de arbetar i sina strategier för sociala medier samt hur destinationer använder dessa plattformar och skapar värdenI september invigde A house Katarinahuset på Slussen och under renoveringen har husets historia fått sätta tonen. Ledorden funktionalistisk avantgarde har resulterat i en egensinnig miljö där funkismöbler möter blottlagda pelare och rå betong. \n\n\n\nFöreläsare\n\n\n\n\n\n\n\nRichard Hammarskiöld – grundare\, creative director och affärsutvecklingsansvarig på A house Mikaela Holmberg – kommunikatör på Katarinahuset A house \n\n\n\nFritt för medlemmar!Välkommen – fråga\, nätverka och mingla!Vi ser fram emot att träffa dig! \n\n\n\n\n\n\n\n\n\n\n\nAnmälan:\n\n\n\nDag: 6 novemberTid: kl 08.30– 09.30Plats: Hos A house\, Katarinahuset – frukost ingårStadsgården 6\, samma ingång som hissarna upp till GondolenPris: Kostnadsfritt för medlemmar. \n\n\n\n\n\n\n	 \n\n\nNoshow debiterasAvbokning sker senast 2 vardagar innan eventet men platsen kan alltid överlåtas till annan person – namnjustering sker till annika@svemarknad.seVid utebliven närvaro utgår avgift på 395 kr ex moms. Vi reserverar oss för ev. ändringar i programmet.
URL:https://svemarknad.se.hosting.brainforest.se/evenemang/frukostseminarium-om-varumarke-placebranding-some-strategier-hos-a-house/
CATEGORIES:Frukosteminarium,Nätverk
ATTACH;FMTTYPE=image/jpeg:https://svemarknad.se.hosting.brainforest.se/wp-content/uploads/2024/10/KVADRAT_RICHARD-HAMMARSKIOLD.jpeg
END:VEVENT
END:VCALENDAR