BEGIN:VCALENDAR
VERSION:2.0
PRODID:-//Sveriges Marknadsförbund - ECPv6.7.0//NONSGML v1.0//EN
CALSCALE:GREGORIAN
METHOD:PUBLISH
X-ORIGINAL-URL:https://svemarknad.se.hosting.brainforest.se
X-WR-CALDESC:Events for Sveriges Marknadsförbund
REFRESH-INTERVAL;VALUE=DURATION:PT1H
X-Robots-Tag:noindex
X-PUBLISHED-TTL:PT1H
BEGIN:VTIMEZONE
TZID:Europe/Stockholm
BEGIN:DAYLIGHT
TZOFFSETFROM:+0100
TZOFFSETTO:+0200
TZNAME:CEST
DTSTART:20240331T010000
END:DAYLIGHT
BEGIN:STANDARD
TZOFFSETFROM:+0200
TZOFFSETTO:+0100
TZNAME:CET
DTSTART:20241027T010000
END:STANDARD
END:VTIMEZONE
BEGIN:VEVENT
DTSTART;TZID=Europe/Stockholm:20241113T083000
DTEND;TZID=Europe/Stockholm:20241113T123000
DTSTAMP:20260424T085204
CREATED:20240528T111216Z
LAST-MODIFIED:20241030T082144Z
UID:53004-1731486600-1731501000@svemarknad.se.hosting.brainforest.se
SUMMARY:Skapa den ultimata TikTok-strategin
DESCRIPTION:Beskrivning\n\n\n\nSkapa den ultimata TikTok-strategin\n\n\n\nFrån att identifiera aktuella trender till att förstå TikToks föränderliga algoritm\, förbereder denna kurs dig för att effektivt navigera och lyckas på en av världens mest inflytelserika sociala medieplattformar. Genom en kombination av teoretisk kunskap och praktiska övningar kommer vi att utforska hur man skapar engagerande innehåll\, lär känna sin målgrupp\, samt praktiska färdigheter för att utveckla och implementera en dynamisk strategi för TikTok. Vi utforskar plattformens unika ekosystem och lär oss hur man skapar innehåll som inte bara engagerar och underhåller\, men också bygger varumärkesmedvetenhet och främjar användarengagemang. \n\n\n\nVi går igenom:\n\n\n\n\nInblick i TikToks värld:En grundlig genomgång av TikTok som plattform\, dess kärnfunktioner\, användarbas och kulturella påverkan.\n\n\n\nInnehållsstrategi och kreativitet:Hur man planerar och producerar originellt och kreativt innehåll som sticker ut och engagerar TikToks unika publik.\n\n\n\nMarknadsföringsstrategier på TikTok:En dynamisk strategi för att använda TikTok för marknadsföring och varumärkesbyggande\, inklusive eventuella influencer-samarbeten och sponsrade inlägg\n\n\n\n\nOm kursledaren:\n\n\n\nMoa Wilén arbetar till vardags som marknadskoordinator & contentstrateg på Salgado Kommunikation och hon har tidigare föreläst på bland annat Stockholm School of Business och Medieinstitutet. Hon har en bakgrund inom medievetenskap och sociologi\, något som hjälper henne förstå hur olika typer av innehåll påverkar och engagerar olika målgrupper på sociala medier. \n\n\n\nKursdatum 13 november 2024\n\n\n\nAnmälan: gör du nedanPris: 5.200 kr + moms för medlem (9.800 kr icke medlem)Kursen sker live online och du kommer att få en länk till Zoom \n\n\n\nDag: 13 november 2024Tid: 08.30-12.30Plats: Online. Zoom-länk skickasAnmälan: se nedan \n\n\n\nAnmälan är bindande.Sveriges Marknadsförbunds integritetspolicy.
URL:https://svemarknad.se.hosting.brainforest.se/evenemang/skapa-den-ultimata-tiktok-strategin-2/
CATEGORIES:Kurser
ATTACH;FMTTYPE=image/png:https://svemarknad.se.hosting.brainforest.se/wp-content/uploads/2024/04/moa-wilen.png
END:VEVENT
END:VCALENDAR