BEGIN:VCALENDAR
VERSION:2.0
PRODID:-//Sveriges Marknadsförbund - ECPv6.7.0//NONSGML v1.0//EN
CALSCALE:GREGORIAN
METHOD:PUBLISH
X-WR-CALNAME:Sveriges Marknadsförbund
X-ORIGINAL-URL:https://svemarknad.se.hosting.brainforest.se
X-WR-CALDESC:Events for Sveriges Marknadsförbund
REFRESH-INTERVAL;VALUE=DURATION:PT1H
X-Robots-Tag:noindex
X-PUBLISHED-TTL:PT1H
BEGIN:VTIMEZONE
TZID:Europe/Stockholm
BEGIN:DAYLIGHT
TZOFFSETFROM:+0100
TZOFFSETTO:+0200
TZNAME:CEST
DTSTART:20240331T010000
END:DAYLIGHT
BEGIN:STANDARD
TZOFFSETFROM:+0200
TZOFFSETTO:+0100
TZNAME:CET
DTSTART:20241027T010000
END:STANDARD
END:VTIMEZONE
BEGIN:VEVENT
DTSTART;TZID=Europe/Stockholm:20241128T160000
DTEND;TZID=Europe/Stockholm:20241128T173000
DTSTAMP:20260424T072022
CREATED:20240918T143108Z
LAST-MODIFIED:20240919T080902Z
UID:59374-1732809600-1732815000@svemarknad.se.hosting.brainforest.se
SUMMARY:Nätverksträff AI och personuppgiftshantering
DESCRIPTION:Temat för nätverksträffen:\n\n\n\nPersonuppgiftshantering och AI – minimera risker och nyttja fördelar\n\n\n\nAI\, i sin kärna\, nyttjar maskininlärning för att bearbeta data\, underlätta beslutsfattande och anpassa sig till förändringar utan explicit mänsklig instruktion. Tekniken kommer att genomsyra alla branscher när den fortsätter att expandera men i ljuset av GDPR och annan dataskyddslagstiftning skapas i samma takt nya typer av frågeställningar kopplat till skydd av personuppgifter. Hur kan AI och dataskydd samexistera och vad ska vi tänka på när vi implementerar våra nya AI-verktyg i verksamheten? \n\n\n\n\nVad säger GDPR om AI?\n\n\n\nVad har vi lärt oss av praxis?\n\n\n\nHur kan man tänka när det gäller hantering av personuppgifter m.h.a. AI?  \n\n\n\n\nNätverksledare och föreläsare\n\n\n\n\n\n\n\nChrister Löfgren\, Attorney At Law\, Bergenstråhle & Partners Maria Parts\, Attorney At Law Bergenstråhle & Partners Henrik Carlsson\, Attorney At Law Bergenstråhle & Partners  \n\n\n\nVälkommen på nätverksträff arrangerad av Sveriges MarknadsförbundVi ser fram emot att tillsammans med er utforska de senaste trenderna\, utmaningarna och lösningarna som kan ta vår profession och organisation till nästa nivå. Detta är en unik chans att inte bara utöka ditt professionella nätverk utan även få insikter och inspiration från andra i branschen.Francesca O’Brien vd Sveriges Marknadsförbund välkomnar. \n\n\n\nFritt för medlemmar!Välkommen diskutera\, fråga\, nätverka och mingla!Vi ser fram emot att träffa dig! \n\n\n\nVälkommen till nätverksträff!För kunskap\, diskussion\, frågor\, nätverk och mingel! \n\n\n\nAnmälan:\n\n\n\nDag: 28 novemberTid: kl 16.00 – 17.30Plats: Hos Bergenstråhle & Partners\, Magnus Ladulåsgatan 63B\, StockholmPris: Kostnadsfritt för medlemmar. Förtäring ingår. \n\n\n\n\n\n\n	 \n\n\nNoshow debiteras\n\n\n\nAvbokning sker senast 2 vardagar innan eventet men platsen kan alltid överlåtas till annan person – namnjustering sker till annika@svemarknad.se.Vid utebliven närvaro utgår avgift på 395 kr ex moms. Vi reserverar oss för ev. ändringar i programmet.
URL:https://svemarknad.se.hosting.brainforest.se/evenemang/natverkstraff-ai-och-personuppgiftshantering/
CATEGORIES:Nätverk
ATTACH;FMTTYPE=image/jpeg:https://svemarknad.se.hosting.brainforest.se/wp-content/uploads/2024/09/skarmbild-2024-09-11-bergenstrahle_-christer-maria-henrik.jpg
END:VEVENT
END:VCALENDAR