BEGIN:VCALENDAR
VERSION:2.0
PRODID:-//Sveriges Marknadsförbund - ECPv6.7.0//NONSGML v1.0//EN
CALSCALE:GREGORIAN
METHOD:PUBLISH
X-WR-CALNAME:Sveriges Marknadsförbund
X-ORIGINAL-URL:https://svemarknad.se.hosting.brainforest.se
X-WR-CALDESC:Events for Sveriges Marknadsförbund
REFRESH-INTERVAL;VALUE=DURATION:PT1H
X-Robots-Tag:noindex
X-PUBLISHED-TTL:PT1H
BEGIN:VTIMEZONE
TZID:Europe/Stockholm
BEGIN:DAYLIGHT
TZOFFSETFROM:+0100
TZOFFSETTO:+0200
TZNAME:CEST
DTSTART:20240331T010000
END:DAYLIGHT
BEGIN:STANDARD
TZOFFSETFROM:+0200
TZOFFSETTO:+0100
TZNAME:CET
DTSTART:20241027T010000
END:STANDARD
END:VTIMEZONE
BEGIN:VEVENT
DTSTART;TZID=Europe/Stockholm:20241205T113000
DTEND;TZID=Europe/Stockholm:20241205T130000
DTSTAMP:20260424T072115
CREATED:20241016T091828Z
LAST-MODIFIED:20241204T072103Z
UID:60536-1733398200-1733403600@svemarknad.se.hosting.brainforest.se
SUMMARY:Lunchseminarium Göteborg 5 dec
DESCRIPTION:FULLBOKAT – ANMÄL DIG TILL VÄNTELISTAN NEDAN \n\n\n\nVälkommen till lunchseminarium!Diskutera\, fråga\, nätverka och mingla i Göteborg!\n\n\n\nAI för marknadsavdelningen – Maximera effekt och minimera kostnader\n\n\n\nSophia Jernberg\, Nordic COO – Tre Kronor Media\, Max Hallenberg\, CEO Tre Kronor Media GöteborgIda Angerbjörn\, Nordic Head of Social & Content\, Jessica Larholm\, Nordic Digital Director – Tre Kronor Media\n\n\n\nTre Kronor Media | a Making Science Company bjuder in till en djupdykning i AI:s värld!\n\n\n\n \n\n\n\nNyfiken på hur AI kan optimera din marknadsföring? Vill du få konkreta insikter\, lära dig om de senaste trenderna och upptäcka framgångsrika case? Då är detta event perfekt för dig! Tre Kronor Media har gedigen kunskap och erfarenhet av att implementera AI-lösningar för kommunikation inom olika branscher. Under eventet kommer de dela insikter\, ge praktiska tips och exempel på hur du kan använda AI i ditt företag. \n\n\n\nFöreläsare:Sophia Jernberg – Nordic COOTre Kronor Media – a Making Science CompanyIda Angerbjörn – Nordic Head of Social & ContentTre Kronor Media – a Making Science CompanyJessica Larholm – Nordic Digital DirectorTre Kronor Media – a Making Science CompanyMax Hallenberg – CEO GöteborgTre Kronor Media – a Making Science Company \n\n\n\n \n\n\n\nFritt för medlemmar!Välkommen diskutera\, fråga\, nätverka och mingla!Vi ser fram emot att träffa dig! \n\n\n\nFULLBOKAT – anmäl dig till väntelistan nedan\n\n\n\nDag: 5 decemberTid: kl 11.30-13.00Plats: Hos Tre Kronor Media\, Kungstorget 7\, GöteborgPris: Kostnadsfritt för medlemmar. Förtäring ingår. \n\n\n\n\n\n\n	 \n\n\nAnmälan till väntelista:\n\n\n\n\n\n\n	 \n\n\nNoshow debiterasAvbokning sker senast 2 vardagar innan eventet men platsen kan alltid överlåtas till annan person – namnjustering sker till annika@svemarknad.seVid utebliven närvaro utgår avgift på 395 kr ex moms. Vi reserverar oss för ev. ändringar i programmet.
URL:https://svemarknad.se.hosting.brainforest.se/evenemang/lunchseminarium-goteborg-5-dec/
CATEGORIES:Lunchseminarium
ATTACH;FMTTYPE=image/jpeg:https://svemarknad.se.hosting.brainforest.se/wp-content/uploads/2024/10/trekronor-goteborg2-.jpg
END:VEVENT
END:VCALENDAR