BEGIN:VCALENDAR
VERSION:2.0
PRODID:-//Sveriges Marknadsförbund - ECPv6.7.0//NONSGML v1.0//EN
CALSCALE:GREGORIAN
METHOD:PUBLISH
X-ORIGINAL-URL:https://svemarknad.se.hosting.brainforest.se
X-WR-CALDESC:Events for Sveriges Marknadsförbund
REFRESH-INTERVAL;VALUE=DURATION:PT1H
X-Robots-Tag:noindex
X-PUBLISHED-TTL:PT1H
BEGIN:VTIMEZONE
TZID:Europe/Stockholm
BEGIN:DAYLIGHT
TZOFFSETFROM:+0100
TZOFFSETTO:+0200
TZNAME:CEST
DTSTART:20250330T010000
END:DAYLIGHT
BEGIN:STANDARD
TZOFFSETFROM:+0200
TZOFFSETTO:+0100
TZNAME:CET
DTSTART:20251026T010000
END:STANDARD
END:VTIMEZONE
BEGIN:VEVENT
DTSTART;TZID=Europe/Stockholm:20250115T090000
DTEND;TZID=Europe/Stockholm:20250115T160000
DTSTAMP:20260424T055835
CREATED:20241210T132626Z
LAST-MODIFIED:20241220T150332Z
UID:61490-1736931600-1736956800@svemarknad.se.hosting.brainforest.se
SUMMARY:Social Video Workshop
DESCRIPTION:Kurs på plats i Stockholm eller via Zoom \n\n\n\nDenna kurs riktar sig främst till dig som har hand om företagets sociala medier. Lär dig producera kreativ innehåll och högkvalitativ video för att skilja dig från konkurrenterna och växa ditt varumärke på sociala medier samt driva riktad trafik till hemsida. \n\n\n\n\n\n\n\nLär dig producera kreativ innehåll och högkvalitativ video för att skilja dig från konkurrenterna och växa ditt varumärke på sociala medier samt driva riktad trafik till hemsida.Målet med Social Video Workshop är främst att ge dig nyckelingredienser som kommer (via videomarknadsföring) maximer din räckvidd på sociala medier samt stärka ditt varumärkes kommunikation online. \n\n\n\nVideo i sociala medier\n\n\n\nVideo är en av de mest kraftfulla kommunikationsformerna\, då den fångar både uppmärksamhet och engagemang på ett sätt som få andra format kan. Med algoritmer på sociala medier som prioriterar rörligt innehåll och en alltmer digital publik som konsumerar video på sociala medier\, har företag en unik möjlighet att nå sin målgrupp på ett mer personligt och engagerande sätt. Dessutom förväntar sig kunder autentiskt innehåll som förmedlar värde snabbt\, vilket gör video till ett oslagbart verktyg för både varumärkesbyggande och försäljning. Att behärska video och videoannonsering är därför avgörande för att inte hamna efter i en konkurrensutsatt digital värld. \n\n\n\nMen\, att skapa egen video kan vara lite avskräckande om man inte kan hela processen. Att planera\, spela in\, redigera och publicera video behöver inte vara svårt eller dyrt. Denna Workshop riktar sig främst till dig som arbetar med marknadsföring och har hand om företagets sociala medier. Helt enkelt – för dig som vill producera och marknadsföra video på ett smidigt och kostnadseffektiv sätt. \n\n\n\nInnehåll09:00-10:00  Filma med mobilen\n\n\n\nI första modulen kommer vi att titta på grundläggande utrustning du kan använda – beroende på din budget och dina mål. Du kommer att lära dig hur du bäst ställer in en kamera (eller mobilkamera) ljussättning\, mikrofoner m.m. På plats har vi olika stativ\, ljuskällor och mikrofoner\, men det går även bra att ta med eget till denna Workshop. \n\n\n\n\nUtrustning /kreativt kringutrustning\n\n\n\nKamera /mobil-inställningar för filmning\n\n\n\nAtt använda rätt ljus\n\n\n\nSå får du rätt på digital ljud och mikrofoner\n\n\n\n\n10:15-12:00  Planering och filmning\n\n\n\nHär lära du dig allt om videokomposition och sedan tränar på att filma en kort reklamfilm (eller intervju) tillsammans med andra i workshopen. Vi kommer även gå genom praktiska aspekter att tänka på när du gör videor med kundreferens samt hur du ökar kvaliteten på dina videor genom att lägga till rörelser\, djup och olika video-storlekar. \n\n\n\n\n Strategi och produktionsplanering\n\n\n\n Digitala Videoformat 2025\n\n\n\n Berättelsen\, video-längd och budskap\n\n\n\n Dramaturgi för sociala medier\n\n\n\n Dags att filma din reklamvideo eller interview\n\n\n\n Generativ AI för video\n\n\n\n\n13:00-14:30  Redigering och optimering\n\n\n\nVi kör en steg-för-steg genomgång av hela redigeringsprocessen med hjälp av Adobe Premiere Rush samt några andra redigeringsprogram /mobilappar. Du kommer att få dina videor att se professionella ut med text\, grafik och färgläggning samt lära dig ett tidseffektivt arbetsflöde. \n\n\n\n\n Genomgång av hela redigeringsprocessen\n\n\n\n Steg-för-steg → Adobe Premiere Rush\n\n\n\n Rush för mobilen\n\n\n\n Text\, grafik och färgläggning\n\n\n\n Lägga till musik\, berättarröst och ljudeffekter\n\n\n\n Effektiva arbetsflöden\n\n\n\n Komprimering för Sociala Medier\n\n\n\n Videoredigering i Canva Pro och Express\n\n\n\n\n14:45-16:00  Videomarknadsföring i Sociala Medier\n\n\n\nDenna social video workshop är speciellt utformad för ta din kunskap och snabbt omvandla den till värdefullt videoinnehåll. Du kommer även lära dig att optimering video för sociala medier\, sprida ditt företags budskap samt hur video kan omvandla dina följare till kunder. \n\n\n\n\n Videoinnehåll för sociala medier\n\n\n\n Arbeta med video och Ai\n\n\n\n Video för TikTok\, Reels & Youtube Shorts\n\n\n\n Specifikationer och riktlinjer\n\n\n\n Viral marknadsföring med video\n\n\n\n Video-algoritmer i Sociala Medier\n\n\n\n Att mäta resultat och arbeta med video-annonser\n\n\n\n\nPlats: Stockholm eller online via ZoomDatum: 15 januari 2025 \n\n\n\nKursledare: David Klein\n\n\n\nDavid Klein\n\n\n\nDavid har arbetat inom reklam & utbildningsbranschen i över 25 år och är en efterfrågad kursledare /föreläsare inom Marknadsföring\, Sociala Medier och Digital Design. Davids största passion är att inspirera och motivera framåttänkande människor och företag att uppfylla deras inneboende potential. David är även grundaren av utbildningsföretaget Grafiska Akademin samt Internet i fokus – södra Sveriges största konferens inom Sociala Medier & Digital Marknadsföring. \n\n\n\nKursdatum 15 januari 2025\n\n\n\nAnmälan: gör du nedanPris: 9.900 kr + moms för medlem (15.900 kr icke medlem) \n\n\n\nDag: 15 januari 2025Tid: 09.00 -16.00Plats: Drottninggatan 86\, Stockholm eller via ZoomAnmälan: se nedanFrukost och lunch ingår på plats \n\n\n\nAnmälan är bindande.Sveriges Marknadsförbunds integritetspolicy.
URL:https://svemarknad.se.hosting.brainforest.se/evenemang/social-video-workshop/
CATEGORIES:Kurser
ATTACH;FMTTYPE=image/jpeg:https://svemarknad.se.hosting.brainforest.se/wp-content/uploads/2023/01/davidklein-600x600-1.jpg
END:VEVENT
END:VCALENDAR