BEGIN:VCALENDAR
VERSION:2.0
PRODID:-//Sveriges Marknadsförbund - ECPv6.7.0//NONSGML v1.0//EN
CALSCALE:GREGORIAN
METHOD:PUBLISH
X-WR-CALNAME:Sveriges Marknadsförbund
X-ORIGINAL-URL:https://svemarknad.se.hosting.brainforest.se
X-WR-CALDESC:Events for Sveriges Marknadsförbund
REFRESH-INTERVAL;VALUE=DURATION:PT1H
X-Robots-Tag:noindex
X-PUBLISHED-TTL:PT1H
BEGIN:VTIMEZONE
TZID:Europe/Stockholm
BEGIN:DAYLIGHT
TZOFFSETFROM:+0100
TZOFFSETTO:+0200
TZNAME:CEST
DTSTART:20250330T010000
END:DAYLIGHT
BEGIN:STANDARD
TZOFFSETFROM:+0200
TZOFFSETTO:+0100
TZNAME:CET
DTSTART:20251026T010000
END:STANDARD
END:VTIMEZONE
BEGIN:VEVENT
DTSTART;TZID=Europe/Stockholm:20250124T113000
DTEND;TZID=Europe/Stockholm:20250124T123000
DTSTAMP:20260424T055545
CREATED:20241208T215834Z
LAST-MODIFIED:20241210T120524Z
UID:61410-1737718200-1737721800@svemarknad.se.hosting.brainforest.se
SUMMARY:Boksamtal: History Marketing
DESCRIPTION:OBS lunchwebbinarium! \n\n\n\nEtt digitalt boksamtal med Anders Sjöman som skrivit boken ”History Marketing – Företagens historia som strategisk tillgång”\n\n\n\nBoksamtalet leds av Carin Wikström\, juryledamot Årets Marknadsföringsbok\, och Christina Nerpin\, erfaren ledare inom marknad och kommunikation. Ställ frågor under samtalet i chatten\, eller spara dom för den öppna diskussionen efteråt. \n\n\n\nBoken ”History Marketing – Företagens historia som strategisk tillgång” fick Hedersomnämnande som Årets Marknadsföringsbok 2024. Läs mer här \n\n\n\n\n\n\n\nOm boken: Alla företag har en unik historia. History marketing är när de använder den som en strategisk tillgång för sin framtida utveckling. Anders går igenom grunderna i history marketing och presenterar en arbetsprocess för effektivt historiebruk. Anders ger exempel från svenska företag. ”History Marketing – Företagens historia som strategisk tillgång” är avsedd främst för företagsledare\, marknadsförare\, kommunikatörer\, företagsjurister\, personalchefer och alla entreprenörer som undrar hur historien kan skapa värde för just deras företag. \n\n\n\nDu behöver inte ha läst boken för att delta i webbinariet. Om man önskar köpa boken finns länk här: Centrum för Näringslingslivshistoria \n\n\n\nFöreläsare och författare\n\n\n\nAnders Sjöman\, kommunikations- och uppdragschef på Centrum för Näringslivshistoria\, författare till boken ”History Marketing – Företagens historia som strategisk tillgång” \n\n\n\n\n\n\n\n \n\n\n\nLäs juryns motivering för Hedersomnämnade Årets Marknadsföringsbok 2024 här. \n\n\n\n \n\n\n\nLedare av boksamtalet\n\n\n\nCarin Wikström juryledamot Årets MarknadsföringsbokMarknadschef SIFU UtbildningChristina Nerpin erfaren ledare inom marknad och kommunikation.Senior rekryteringskonsult Hammer & Hanborg \n\n\n\n\n\n\n\nFritt för medlemmar!\n\n\n\nAnmälan:\n\n\n\n1. Anmäl dig nedan.2. Dagen innan skickas Teamslänk för att delta (samt en påminnelse en timme innan webbinariet) \n\n\n\nDag: 24 januariTid: kl 11.30 – 12.30 (obs lunchwebbinarium)Plats: Online via TeamsAnmälan: se nedan \n\n\n\n\n\n\n	 \n\n\nNoshow debiterasAvbokning sker senast 2 vardagar innan eventet men platsen kan alltid överlåtas till annan person – namnjustering sker till annika@svemarknad.seVid utebliven närvaro utgår avgift på 495 kr ex moms. Vi reserverar oss för ev. ändringar i programmet.
URL:https://svemarknad.se.hosting.brainforest.se/evenemang/boksamtal-history-marketing/
CATEGORIES:Webbinarium
ATTACH;FMTTYPE=image/jpeg:https://svemarknad.se.hosting.brainforest.se/wp-content/uploads/2024/11/history-marketing-foretagens-historia-som-strategisk-tillgang.jpg
END:VEVENT
END:VCALENDAR