BEGIN:VCALENDAR
VERSION:2.0
PRODID:-//Sveriges Marknadsförbund - ECPv6.7.0//NONSGML v1.0//EN
CALSCALE:GREGORIAN
METHOD:PUBLISH
X-WR-CALNAME:Sveriges Marknadsförbund
X-ORIGINAL-URL:https://svemarknad.se.hosting.brainforest.se
X-WR-CALDESC:Events for Sveriges Marknadsförbund
REFRESH-INTERVAL;VALUE=DURATION:PT1H
X-Robots-Tag:noindex
X-PUBLISHED-TTL:PT1H
BEGIN:VTIMEZONE
TZID:Europe/Stockholm
BEGIN:DAYLIGHT
TZOFFSETFROM:+0100
TZOFFSETTO:+0200
TZNAME:CEST
DTSTART:20250330T010000
END:DAYLIGHT
BEGIN:STANDARD
TZOFFSETFROM:+0200
TZOFFSETTO:+0100
TZNAME:CET
DTSTART:20251026T010000
END:STANDARD
END:VTIMEZONE
BEGIN:VEVENT
DTSTART;TZID=Europe/Stockholm:20250206T090000
DTEND;TZID=Europe/Stockholm:20250206T101500
DTSTAMP:20260424T042746
CREATED:20241016T092047Z
LAST-MODIFIED:20250206T065159Z
UID:60541-1738832400-1738836900@svemarknad.se.hosting.brainforest.se
SUMMARY:Spaningar 2025 i ICC:s nya marknadsföringskod - dag 1
DESCRIPTION:Teamslänken är skickad i mejl kl 07.45. (Se ev skräpkorgen om du inte hittar länken eller mejla/ sms annika@svemarknad.se 073 – 052 00 91 så skickas länken igen) \n\n\n\nDAG 1 – 6 februari 2025 kl 09.00 – 10.15 Boka nedanDAG 2 – 7 februari 2025 kl 09.00 – 10.15 Boka här \n\n\n\nDen nya marknadsföringskoden\, som träder i kraft 2025\, innehåller uppdateringar inom områden som AI-användning/ AI-genererad reklam\, influencer marketing och algoritmer samt innehåller ett nytt kapitel om reklam riktad till barn och unga\, miljökommunikation och mångfald. Viktigt för oss alla som arbetar med marknadsföring och kommunikation att säkerställa nya kunskap i och med nya lagkraven. \n\n\n\nFräscha upp dina kunskaper!\n\n\n\nWebbinarium med Sveriges Marknadsförbunds experter.\n\n\n\nPassa på att få kunskap om flera viktiga områden frånSveriges Marknadsförbunds rådgivare. Snabb och effektiv uppdatering på många olika områden på samma dag.\n\n\n\nLäs mer om våra rådgivare nedan. Experterna har 15 minuters talartid.  \n\n\n\n6 februari 2025 Kl 09.00 – 10.15\n\n\n\nSpaningar i ICCs nya marknadsföringskod inom områdena:AI Artificiell Intelligens\, Juridik – marknadsrättsfrågor\, Medieval\, Rörlig kommunikation\, B2B frågor\n\n\n\nKonferencier \n\n\n\nFrancesca O’Brien vd Sveriges Marknadsförbund\n\n\n\n\n\n\n\nAI Artificiell Intelligens\n\n\n\nKl 09.00 Sara Öhman\n\n\n\n\n\n\n\nSara Öhman har sedan 2010 arbetat med flertalet marknadsorganisationer och dess utveckling av digitala kanaler\, till exempel Etihad Airways\, Getinge\, International Comittee of Red Cross och Asics. Idag verkar hon som fristående konsult med att stötta marknadsansvariga och deras chefer i att utveckla arbetet med moderna marknadsföringsmetoder och ställa om till ett mer datadrivet arbetssätt\, där arbetet med AI är en självklar del i att utveckla verktygslådan. \n\n\n\nJuridik – marknadsrättsfrågor\n\n\n\nKl 09.15 Christer Löfgren\n\n\n\n\n\n\n\nChrister Löfgren är jurist på IP-byrån Bergenstråhle & Partners och arbetar med kunder när det gäller IP-strategi\, registreringsskydd av varumärken\, design/formgivning och patent samt marknadsföringsrätt och tvister. I 28 år har Christer Löfgren följt\, granskat\, förklarat och kommenterat rättsutvecklingen inom immaterial- och marknadsrätten i Sverige och EU\, men också närliggande processrätt\, och vad den innebär för rättighetshavare och ombud. Christer var även redaktör i ca 15 år från starten av Bonnier Ledarskaps handbok om varumärken. Han har sedan starten 1995 t.o.m. 2020 som föredragande och sekreterare i juryn för SIGNUMPRISET granskat varumärkesarbetet\, marknadsmässigt och juridiskt\, hos alla nominerade. \n\n\n\nMedieval – strategi och transformation\n\n\n\nKl 09.30 Ebba Tärbe\n\n\n\n\n\n\n\nEbba Tärbe är rådgivare inom strategi\, media\, kommunikation och transformation. Hon arbetar på mediebyrån Scream. Ebba har lång erfarenhet av att arbeta med frågor gällande medieval\, kommunikationsstrategi\, datadriven marknadsföring och uppföljning av marknadsföringsinsatser för både svenska och internationella företag.Ebba har bakgrund från medie- och reklambyråbranschen och har även arbetat på marknadssidan. \n\n\n\nRörlig kommunikation\n\n\n\nKl 09.45 Mats Karsvall\n\n\n\n\n\n\n\nMats Karsvall är rådgivare med fokus på hur filmmediet kan användas på ett värdeskapande sätt i kommunikations-arbetet. Mats är kreativ chef/exekutiv producent och har arbetat med rörliga medier i över 20 år och har lång erfarenhet av kommunikation och varumärkesbyggande – från strategi och koncept till produktion. Han har arbetat med kampanjer för varumärken som Storytel\, Izettle\, Kaluha och Ericsson men också producerat och regisserat drama som tävlat i internationella sammanhang. Mats har också undervisat samt är anlitad föreläsare. \n\n\n\nB2B\n\n\n\nKl 10.00 Mikael Stange\n\n\n\n\n\n\n\nMikael Stange har + 20 års erfarenhet av marknad- och kommunikation inom B2B (de senaste sex åren som marknadschef för DHL) och är väl medveten om de utmaningar du inom en B2B-tung organisation kan ställas inför. Med Mikael kan du bolla marknadsföringsstrategier\, sponsorskap\, aktivering av koncept och kampanjer. Men också hur du kan jobba tightare och skapa förståelse för marknads roll gentemot sälj. Eller hur du “B2B” jobbar långsiktigt med varumärkesbyggande. Mikael har en bakgrund först inom journalistik\, därefter som copywriter och har även undervisat i kreativt skrivande på Forsbergs skola. Mellan 2022-2024 satt Mikael som styrelsemedlem i Sveriges Marknadsförbund. Idag jobbar Mikael i det egna bolaget Commercial Insights\, som specialiserar sig på insiktsdriven kommunikation\, rapporter och underlag.  \n\n\n\nHar du en fråga till Sveriges Marknadsförbunds rådgivare redan nu? Hör gärna av dig! info@svemarknad.se\n\n\n\nFritt för medlemmar!\n\n\n\nLänk till att boka även 7 februari (dag 2)\n\n\n\nAnmälan 6 februari\n\n\n\nOm AI Artificiell Intelligens\, Juridik – marknadsrättsfrågor\,Konsumentbeteende\, Rörlig kommunikation\, B2B\n\n\n\n1. Anmäl dig nedan.2. En timme innan webbinariet får du länken för att kunna delta.Dag: 6 februariTid: kl 09.00 – 10.15Plats: Online via TeamsAnmälan: \n\n\n\n\n\n\n	 \n\n\nNoshow debiteras\n\n\n\nAvbokning sker senast 2 vardagar innan eventet men platsen kan alltid överlåtas till annan person – namnjustering sker till annika@svemarknad.se.Vid utebliven närvaro utgår avgift på 495 kr ex moms. Vi reserverar oss för ev. ändringar i programmet.
URL:https://svemarknad.se.hosting.brainforest.se/evenemang/spaningar-2025/
CATEGORIES:Webbinarium
ATTACH;FMTTYPE=image/jpeg:https://svemarknad.se.hosting.brainforest.se/wp-content/uploads/2025/01/ALLAT_TOOTIE_DEC-2024.jpg
END:VEVENT
END:VCALENDAR