BEGIN:VCALENDAR
VERSION:2.0
PRODID:-//Sveriges Marknadsförbund - ECPv6.7.0//NONSGML v1.0//EN
CALSCALE:GREGORIAN
METHOD:PUBLISH
X-WR-CALNAME:Sveriges Marknadsförbund
X-ORIGINAL-URL:https://svemarknad.se.hosting.brainforest.se
X-WR-CALDESC:Events for Sveriges Marknadsförbund
REFRESH-INTERVAL;VALUE=DURATION:PT1H
X-Robots-Tag:noindex
X-PUBLISHED-TTL:PT1H
BEGIN:VTIMEZONE
TZID:Europe/Stockholm
BEGIN:DAYLIGHT
TZOFFSETFROM:+0100
TZOFFSETTO:+0200
TZNAME:CEST
DTSTART:20250330T010000
END:DAYLIGHT
BEGIN:STANDARD
TZOFFSETFROM:+0200
TZOFFSETTO:+0100
TZNAME:CET
DTSTART:20251026T010000
END:STANDARD
END:VTIMEZONE
BEGIN:VEVENT
DTSTART;TZID=Europe/Stockholm:20250207T090000
DTEND;TZID=Europe/Stockholm:20250207T101500
DTSTAMP:20260424T042747
CREATED:20240124T080000Z
LAST-MODIFIED:20250207T060925Z
UID:60868-1738918800-1738923300@svemarknad.se.hosting.brainforest.se
SUMMARY:Spaningar 2025 i ICC:s nya marknadsföringskod – dag 2
DESCRIPTION:Teamslänken mejlas till anmälda ca kl 07.45. (Se ev skräpkorgen om du inte hittar länken eller mejla/ sms annika@svemarknad.se 073 – 052 00 91 så skickas länken igen) \n\n\n\nDAG 1 – 6 februari 2025 kl 09.00 – 10.15 Boka härDAG 2 – 7 februari 2025 kl 09.00 – 10.15 Boka nedan \n\n\n\nDen nya marknadsföringskoden\, som träder i kraft 2025\, innehåller uppdateringar inom områden som AI-användning/ AI-genererad reklam\, influencer marketing och algoritmer samt innehåller ett nytt kapitel om reklam riktad till barn och unga\, miljökommunikation och mångfald. Viktigt för oss alla som arbetar med marknadsföring och kommunikation att säkerställa nya kunskap i och med nya lagkraven. \n\n\n\nFräscha upp dina kunskaper!\n\n\n\nWebbinarium med Sveriges Marknadsförbunds experter.\n\n\n\nPassa på att få kunskap om flera viktiga områden frånSveriges Marknadsförbunds rådgivare.Snabb och effektiv uppdatering på många olika områden på samma dag.\n\n\n\nLäs mer om våra rådgivare nedan. Experterna har 15 minuters talartid. \n\n\n\n7 februari 2025 Kl 09.00 – 10.15\n\n\n\nSpaningar i ICCs nya marknadsföringskod inom områdena:Varumärkesposition och utveckling\, Byråval\, HållbarhetEmployer Branding\, Konsumentbeteende \n\n\n\nKonferencier\n\n\n\nFrancesca O’Brien vd Sveriges Marknadsförbund\n\n\n\n\n\n\n\nVarumärkesposition och utveckling\n\n\n\nKl 09.00 Peter Wissing\n\n\n\n\n\n\n\nPeter Wissing är senior konsult med en tydlig inriktning på varumärke och utveckling av varumärken på olika marknader. Han samarbetar med flera av Sveriges allra starkaste varumärken. Peters insikter ger en samsyn runt varumärkets aktuella position i målgrupperna\, vilket gör det enklare att sätta varumärkesmål. Målen blir konkreta och enkla att kommunicera i hela företagets organisation. Peters analyser stannar sällan där utan går vidare med varumärkets operativa egenskaper\, t ex prisnivå\, kvalitet och service. Egenskaper som i sin tur påverkar målgruppens syn på varumärket och den upplevelse varumärket ger. Dessa operativa egenskaper är något som du som varumärkesägare kan arbeta vidare med och utveckla\, så att den övergripande varumärkespositionen utvecklas positivt. \n\n\n\nByråval\n\n\n\nKl 09.15 Ann Baron\n\n\n\n\n\n\n\nAnn Baron är rådgivare med fokus Byråval.Med bred erfarenhet från kommunikation på reklambyrå\, i ideell organisation\, i det privata och offentliga näringslivet och under många år som egen företagare inom försäljning\, digitalt utvecklingsarbete\, affärsutveckling\, varumärkesinsikter\, strategiskt och operativt arbete på många olika plattformar förstår jag vikten av ett bra partnersamarbete. Allt från att vara lärare på Berghs School of Communications till marknadsansvarig inom flertalet life science företag. Allt sammantaget har det gett mig kontinuerlig utveckling och en\, blandad och bred erfarenhet. Uppdragen har ofta inkluderat allt från intern & extern kommunikation\, både B2B och B2C\, varumärkeshantering\, mediastrategi\, varumärkesvård\, övergripande projektledning/koordination av både digitala och mer analoga uppdrag inkl. uppdrag ett antal som handlat om att utveckla affären att bli tidsenlig\, modern och kundanpassad. Under mina uppdrag har arbete med utvärdering\, genomlysning och upphandling av byrå och kommunikationstjänster ofta ingått. \n\n\n\nHållbarhet\n\n\n\nKl 09.30 Kaj Török\n\n\n\n\n\n\n\nKaj Török är Chief Reputation & Chief Sustainability Officer Max Burgers. Kaj har flera gånger utsetts till en av Sveriges 100 mest inflytelserika personer i gröna frågor och han har arbetat med kommunikation och hållbarhet sedan 1996 vilket gjort honom till en pionjär inom området.Kaj har en bakgrund från bland annat Det Naturliga Steget. Han var också med och grundade hållbarhetskommunikationsbyrån Futerra Stockholm. \n\n\n\nEmployer Branding\n\n\n\nKl 09.45 Christine Bard\n\n\n\n\n\n\n\nChristine Bard\, är senior konsult inom Employer Branding\, insiktsarbeten och varumärkesutveckling. Hon har lång erfarenhet av att utveckla och stärka samarbetet mellan Marknad\, Kommunikation och HR inom stora organisationer. Syftet med att överbrygga gapet är skapa samarbetsdrivna strategier för att attrahera\, rekrytera\, behålla och utveckla såväl medarbetare som kunder.  \n\n\n\nKonsumentbeteende\n\n\n\nKl 10.00 Henrik Sjödin\n\n\n\n\n\n\n\nHenrik Sjödin är ekonomie doktor från Handelshögskolan\, med inriktning på konsumentbeteende och marknadsföring. Sedan 2013 är han verksam som strateg och partner på Åkestam Holst NoA. Från uppdrag med företag inom vitt skilda branscher har han bred erfarenhet av insiktsarbete\, och med sin forskarbakgrund är han passionerat intresserad av beteendevetenskap och användbara metoder för att förstå konsumenter.Henrik drivs av att sätta fingret på beteenden som driver verksamheter framåt och att göra komplexa samband mer begripliga\, med hjälp av fakta\, kunskap och pedagogik.  \n\n\n\nHar du en fråga till Sveriges Marknadsförbunds rådgivare redan nu? Hör gärna av dig! info@svemarknad.se\n\n\n\nFritt för medlemmar!\n\n\n\nLänk till att boka även 6 februari (dag 1)\n\n\n\nAnmälan\n\n\n\n1. Anmäl dig nedan.2. En timme innan webbinariet får du länken för att kunna delta.Dag: 7 februari Tid: kl 09.00 – 10.15Plats: Online via TeamsAnmälan: \n\n\n\n\n\n\n\n\n	 \n\n\nNoshow debiteras\n\n\n\nAvbokning sker senast 2 vardagar innan eventet men platsen kan alltid överlåtas till annan person – namnjustering sker till annika@svemarknad.se.Vid utebliven närvaro utgår avgift på 495 kr ex moms. Vi reserverar oss för ev. ändringar i programmet.
URL:https://svemarknad.se.hosting.brainforest.se/evenemang/spaningar-2025-boka-2-halvdagar/
CATEGORIES:Webbinarium
ATTACH;FMTTYPE=image/jpeg:https://svemarknad.se.hosting.brainforest.se/wp-content/uploads/2024/10/alla_tootie_sep-2024.jpg
END:VEVENT
END:VCALENDAR