BEGIN:VCALENDAR
VERSION:2.0
PRODID:-//Sveriges Marknadsförbund - ECPv6.7.0//NONSGML v1.0//EN
CALSCALE:GREGORIAN
METHOD:PUBLISH
X-WR-CALNAME:Sveriges Marknadsförbund
X-ORIGINAL-URL:https://svemarknad.se.hosting.brainforest.se
X-WR-CALDESC:Events for Sveriges Marknadsförbund
REFRESH-INTERVAL;VALUE=DURATION:PT1H
X-Robots-Tag:noindex
X-PUBLISHED-TTL:PT1H
BEGIN:VTIMEZONE
TZID:Europe/Stockholm
BEGIN:DAYLIGHT
TZOFFSETFROM:+0100
TZOFFSETTO:+0200
TZNAME:CEST
DTSTART:20250330T010000
END:DAYLIGHT
BEGIN:STANDARD
TZOFFSETFROM:+0200
TZOFFSETTO:+0100
TZNAME:CET
DTSTART:20251026T010000
END:STANDARD
END:VTIMEZONE
BEGIN:VEVENT
DTSTART;TZID=Europe/Stockholm:20250312T113000
DTEND;TZID=Europe/Stockholm:20250312T130000
DTSTAMP:20260424T030804
CREATED:20241203T133206Z
LAST-MODIFIED:20250218T204200Z
UID:61309-1741779000-1741784400@svemarknad.se.hosting.brainforest.se
SUMMARY:Lunchseminarium Göteborg 12 mars –  AI och juridiken
DESCRIPTION:Välkommen till lunchseminarium!Diskutera\, fråga\, hämta kunskap\, nätverka och mingla i Göteborg! \n\n\n\nAlexandra Ståhl\, Ebba Tapper\, Engström & Hellman Advokatbyrå\n\n\n\nAI och juridiken –Vilka möjligheter och risker finns det med att använda AI-verktyg i verksamheten?\n\n\n\nEbba Tapper och Alexandra Ståhl på Engström & Hellman Advokatbyrå bjuder på kunskap och tips i juridikens värld för oss marknadsförare!\n\n\n\nVärlden förändras snabbt och fler branscher gör intåg och använder sig dagligen av AI-system och modeller för att effektivisera sitt arbete. AI-förordningen har redan trätt i kraft men bestämmelserna kommer löpande börja tillämpas fram till och med augusti 2026. Det är alltså hög tid för berörda företag att förbereda sig och påbörja sitt arbete för att möta kraven som ställs på leverantörer och användare av AI-systemen. \n\n\n\nEftersom AI-systemen ofta kommer behandla personuppgifter är det klokt att fräscha upp minnet av vilka skyldigheter vi har enligt GDPR för behandling av personuppgifter m.m. men också titta på vad man ska tänka på inför implementeringen av AI i verksamheten. Juridik är alltid mer tillgängligt och begripligt när en erfaren advokat kan förklara och svara på frågor – detta är ett tillfälle ni inte vill missa. \n\n\n\n\nVad ska vi tänka på när vi implementerar våra nya AI-verktyg i verksamheten?\n\n\n\nHur förhåller sig GDPR till AI? \n\n\n\nVad har vi lärt oss av praxis? \n\n\n\nHur kan man tänka när det gäller hantering av personuppgifter m.h.a. AI?\n\n\n\n\nFöreläsare:Ebba Tapper  – Advokat & Partner\, Engström & Hellman AdvokatbyråAlexandra Ståhl – Biträdande jurist\, Engström & Hellman Advokatbyrå \n\n\n\n \n\n\n\nEngström & HellmanEn affärsjuridisk advokatbyrå som arbetar med compliance\, fastighetsrättsliga och bolagsrättsliga frågor\, med avtal\, transaktioner och tvist. Engström & Hellman Advokatbyrå är en progressiv aktör i en konservativ bransch. Engström & Hellman Advokatbyrå var först med att teckna kollektivavtal och är den enda byrån som är HBTQI-certifierad. Engström & Hellman Advokatbyrå blev utnämnda till årets advokatbyrå 2023 av Regi. \n\n\n\n \n\n\n\nFritt för medlemmar!\n\n\n\nAnmälan:\n\n\n\nDag: 12 marsTid: kl 11.30-13.00Plats: Engström & Hellman Advokatbyrå\, Spannmålsgatan 19\, GöteborgPris: Kostnadsfritt för medlemmar. Förtäring ingår. \n\n\n\n\n\n\n	 \n\n\nNoshow debiterasAvbokning sker senast 2 vardagar innan eventet men platsen kan alltid överlåtas till annan person – namnjustering sker till annika@svemarknad.seVid utebliven närvaro utgår avgift på 495 kr ex moms. Vi reserverar oss för ev. ändringar i programmet.
URL:https://svemarknad.se.hosting.brainforest.se/evenemang/lunchseminarium-goteborg-12-mars-ai-och-juridiken/
CATEGORIES:Lunchseminarium,Nätverk
ATTACH;FMTTYPE=image/jpeg:https://svemarknad.se.hosting.brainforest.se/wp-content/uploads/2024/12/Bada-bada-.jpg
END:VEVENT
END:VCALENDAR