BEGIN:VCALENDAR
VERSION:2.0
PRODID:-//Sveriges Marknadsförbund - ECPv6.7.0//NONSGML v1.0//EN
CALSCALE:GREGORIAN
METHOD:PUBLISH
X-WR-CALNAME:Sveriges Marknadsförbund
X-ORIGINAL-URL:https://svemarknad.se.hosting.brainforest.se
X-WR-CALDESC:Events for Sveriges Marknadsförbund
REFRESH-INTERVAL;VALUE=DURATION:PT1H
X-Robots-Tag:noindex
X-PUBLISHED-TTL:PT1H
BEGIN:VTIMEZONE
TZID:Europe/Stockholm
BEGIN:DAYLIGHT
TZOFFSETFROM:+0100
TZOFFSETTO:+0200
TZNAME:CEST
DTSTART:20250330T010000
END:DAYLIGHT
BEGIN:STANDARD
TZOFFSETFROM:+0200
TZOFFSETTO:+0100
TZNAME:CET
DTSTART:20251026T010000
END:STANDARD
END:VTIMEZONE
BEGIN:VEVENT
DTSTART;TZID=Europe/Stockholm:20250327T173000
DTEND;TZID=Europe/Stockholm:20250327T193000
DTSTAMP:20260424T030648
CREATED:20250120T144240Z
LAST-MODIFIED:20250324T081115Z
UID:61726-1743096600-1743103800@svemarknad.se.hosting.brainforest.se
SUMMARY:AI-middag hos Monks
DESCRIPTION:Fullbokat men anmäl dig gärna till väntelistan nedan  \n\n\n\nAI som sous-chef? Varför inte\, tänkte vår medlemsbyrå Monks och byggde en AI-modell baserat på stjärnkocken Albin Edbergs recept. Vi välkomnar er nu till en unik kväll\, där Albin själv tar hjälp av Gen-AI för att skapa ett helt unikt recept – framför ögonen på gästerna i Monks kök. Givetvis ingår avsmakning av resultatet samt intressanta talare på ämnet AI\, marknadsföring och transformation. Monks\, som fått utmärkelsen ‘Årets AI-byrå’ av Adweek\, bjuder på kundcase och inspiration från hela världen. Talar gör Sander van der Vegte\, VP Labs. Monks (Monks R&D-avdelning) och Nora Henriksson\, Monks vd i Norden. Maten står Albin Edberg för.  \n\n\n\nFullsatt – men väntelista finns!Varmt välkommen! \n\n\n\nTalare:Sander van der Vegte\, VP Labs Monks (Monks R&D-avdelning)Nora Henriksson\, vd Monks NordenAlbin Edberg\, stjärnkock \n\n\n\n\n\n\n\n\n\n\n\n \n\n\n\nFritt för medlemmar!\n\n\n\nAnmälan:\n\n\n\nDag: 27 marsTid: kl 17.30 – 19.30Plats: Hos Monks\, Norrlandsgatan 18\, StockholmAnmälan: Fullsatt men anmäl dig gärna till väntelista nedan:Pris: Kostnadsfritt för medlemmar. (begränsat antal platser\, vi välkomnar en gäst från ditt företag) Ev frågor kontakta info@svemarknad.se \n\n\n\nNoshow debiterasAnmälan är bindande. Platsen kan alltid överlåtas till annan person – namnjustering sker till annika@svemarknad.seVid utebliven närvaro utgår avgift på 495 kr ex moms. Vi reserverar oss för ev. ändringar i programmet. \n\n\n\nAnmäl dig till väntelistan nedan:
URL:https://svemarknad.se.hosting.brainforest.se/evenemang/ai-middag-hos-monks/
CATEGORIES:Nätverk,Seminarier
ATTACH;FMTTYPE=image/jpeg:https://svemarknad.se.hosting.brainforest.se/wp-content/uploads/2025/01/FULLBOKAT-BILD-MONKS.jpg
END:VEVENT
END:VCALENDAR