BEGIN:VCALENDAR
VERSION:2.0
PRODID:-//Sveriges Marknadsförbund - ECPv6.7.0//NONSGML v1.0//EN
CALSCALE:GREGORIAN
METHOD:PUBLISH
X-WR-CALNAME:Sveriges Marknadsförbund
X-ORIGINAL-URL:https://svemarknad.se.hosting.brainforest.se
X-WR-CALDESC:Events for Sveriges Marknadsförbund
REFRESH-INTERVAL;VALUE=DURATION:PT1H
X-Robots-Tag:noindex
X-PUBLISHED-TTL:PT1H
BEGIN:VTIMEZONE
TZID:Europe/Stockholm
BEGIN:DAYLIGHT
TZOFFSETFROM:+0100
TZOFFSETTO:+0200
TZNAME:CEST
DTSTART:20250330T010000
END:DAYLIGHT
BEGIN:STANDARD
TZOFFSETFROM:+0200
TZOFFSETTO:+0100
TZNAME:CET
DTSTART:20251026T010000
END:STANDARD
END:VTIMEZONE
BEGIN:VEVENT
DTSTART;TZID=Europe/Stockholm:20250516T090000
DTEND;TZID=Europe/Stockholm:20250516T110000
DTSTAMP:20260423T232545
CREATED:20250225T104928Z
LAST-MODIFIED:20250307T124149Z
UID:62162-1747386000-1747393200@svemarknad.se.hosting.brainforest.se
SUMMARY:Copywriting med AI-fokus
DESCRIPTION:AI förändrar hur vi skapar och optimerar textbaserat innehåll. Denna kurs ger dig en praktiskintroduktion till hur du kan använda AI-verktyg för att effektivisera ditt copywriting-arbete\,från idé till färdig text. Du lär dig hur AI kan hjälpa till att generera\, analysera och förbättratexter för olika digitala kanaler – utan att tappa den mänskliga tonen och kreativiteten.Du vet hur du skapar effektiva prompts\, redigerar och anpassar AI-genererade texter för attmatcha varumärkets tonalitet samt använder AI som ett verktyg för att effektivisera dinskrivprocess utan att kompromissa med kvalitet och kreativitet. \n\n\n\nKursinnehåll:\n\n\n\nUnder denna kurs kommer du att lära dig följande:● Förstå AI:s roll inom copywriting och marknadsföring● Hur du använder AI-verktyg för att skapa effektiva texter● Skapa AI-genererade rubriker\, annonser\, blogginlägg och sociala medier-texter● Optimera och redigera AI-genererat innehåll för att bevara varumärkets tonalitet● Arbeta med prompts och AI-strategier för att få bättre resultat● Etiska och juridiska aspekter av AI-skapad copy● Hur AI kan effektivisera research och idéutveckling \n\n\n\nKursledare:\n\n\n\n\n\n\n\nTheo Hafström arbetar som Contentproducent på Salgado Kommunikation och har ett ögaför detaljer inom innehållsproduktion. Med flera års erfarenhet av att skapa engagerandecontent för olika sociala kanaler har han utvecklat en djup förståelse för vad som fångarpublikens intresse. Hans bakgrund inom journalistik\, kombinerat med ett stort intresse förmusik\, präglar hans kreativa arbetssätt och hjälper företag skapa innehåll som kännsrelevant\, trovärdigt och visuellt tilltalande. \n\n\n\nKursdatum 16 maj 2025\n\n\n\nAnmälan: gör du nedanPris: 3.995 kr + moms för medlem (4.995 kr icke medlem)Kursen sker live online och du kommer att få en länk till Zoom. \n\n\n\nDag: 16 maj 2025Tid: 09.00-11.00Plats: Online. Zoom-länk skickasAnmälan: se nedan \n\n\n\nAnmälan är bindande.Sveriges Marknadsförbunds integritetspolicy.
URL:https://svemarknad.se.hosting.brainforest.se/evenemang/copywriting-med-ai-fokus/
CATEGORIES:Kurser
ATTACH;FMTTYPE=image/jpeg:https://svemarknad.se.hosting.brainforest.se/wp-content/uploads/2025/02/Theo-Hafstrom.jpg
END:VEVENT
END:VCALENDAR