BEGIN:VCALENDAR
VERSION:2.0
PRODID:-//Sveriges Marknadsförbund - ECPv6.7.0//NONSGML v1.0//EN
CALSCALE:GREGORIAN
METHOD:PUBLISH
X-WR-CALNAME:Sveriges Marknadsförbund
X-ORIGINAL-URL:https://svemarknad.se.hosting.brainforest.se
X-WR-CALDESC:Events for Sveriges Marknadsförbund
REFRESH-INTERVAL;VALUE=DURATION:PT1H
X-Robots-Tag:noindex
X-PUBLISHED-TTL:PT1H
BEGIN:VTIMEZONE
TZID:Europe/Stockholm
BEGIN:DAYLIGHT
TZOFFSETFROM:+0100
TZOFFSETTO:+0200
TZNAME:CEST
DTSTART:20250330T010000
END:DAYLIGHT
BEGIN:STANDARD
TZOFFSETFROM:+0200
TZOFFSETTO:+0100
TZNAME:CET
DTSTART:20251026T010000
END:STANDARD
END:VTIMEZONE
BEGIN:VEVENT
DTSTART;TZID=Europe/Stockholm:20250520T090000
DTEND;TZID=Europe/Stockholm:20250520T094500
DTSTAMP:20260423T232657
CREATED:20250401T100126Z
LAST-MODIFIED:20250520T051354Z
UID:62437-1747731600-1747734300@svemarknad.se.hosting.brainforest.se
SUMMARY:Att våga skava i en trist kategori och varför det ger effekt – SBAB
DESCRIPTION:Teamslänken är skickad till anmälda deltagare. Den skickas igen samma morgon som webbinariet kl 08.00. Saknar du länken och vill delta – mejla till annika@svemarknad.se eller smsa till 073 – 052 00 91 \n\n\n\nKommunikation som skördat flera framgångar\n\n\n\n\nBalansgången: Humor i en förtroendekategori.\n\n\n\nVikten av att vara valbar – inte bara en prisfråga.\n\n\n\nHur bibehåller man företagsledningens förtroende?\n\n\n\n\nDet är några områden Patrik Söder\, Marknadschef på SBAB pratar kring under det här webbinariet. SBAB har under senare år växlat upp i sin marknadsföring vilket resulterat i stora tillväxtkliv och större marknadsandelar. Dessutom har kommunikationen skördat flera framgångar i bland annat 100-wattaren! Välkommen! \n\n\n\n\n\n\n\nFöreläsare:\n\n\n\nPatrik Söder\, Marknadschef SBAB \n\n\n\nFritt för medlemmar!\n\n\n\nVarmt välkommen!\n\n\n\nAnmälan:\n\n\n\n1. Anmäl dig nedan.2. En timme innan webbinariet får du länken för att kunna delta. \n\n\n\nDag: 20 majTid: kl 09.00 – 09.45Plats: Online via TeamsAnmälan: se nedan \n\n\n\n\n\n\n	 \n\n\nNoshow debiteras\n\n\n\nAvbokning sker senast 2 vardagar innan eventet men platsen kan alltid överlåtas till annan person – namnjustering sker till annika@svemarknad.se.Vid utebliven närvaro utgår avgift på 495 kr ex moms. Vi reserverar oss för ev. ändringar i programmet.
URL:https://svemarknad.se.hosting.brainforest.se/evenemang/att-vaga-skava-i-en-trist-kategori-och-varfor-det-ger-effekt-sbab/
CATEGORIES:Webbinarium
ATTACH;FMTTYPE=image/jpeg:https://svemarknad.se.hosting.brainforest.se/wp-content/uploads/2025/04/16_Patrik_So╠eder_SBAB_039-scaled.jpg
END:VEVENT
END:VCALENDAR