BEGIN:VCALENDAR
VERSION:2.0
PRODID:-//Sveriges Marknadsförbund - ECPv6.7.0//NONSGML v1.0//EN
CALSCALE:GREGORIAN
METHOD:PUBLISH
X-WR-CALNAME:Sveriges Marknadsförbund
X-ORIGINAL-URL:https://svemarknad.se.hosting.brainforest.se
X-WR-CALDESC:Events for Sveriges Marknadsförbund
REFRESH-INTERVAL;VALUE=DURATION:PT1H
X-Robots-Tag:noindex
X-PUBLISHED-TTL:PT1H
BEGIN:VTIMEZONE
TZID:Europe/Stockholm
BEGIN:DAYLIGHT
TZOFFSETFROM:+0100
TZOFFSETTO:+0200
TZNAME:CEST
DTSTART:20250330T010000
END:DAYLIGHT
BEGIN:STANDARD
TZOFFSETFROM:+0200
TZOFFSETTO:+0100
TZNAME:CET
DTSTART:20251026T010000
END:STANDARD
END:VTIMEZONE
BEGIN:VEVENT
DTSTART;TZID=Europe/Stockholm:20250611T083000
DTEND;TZID=Europe/Stockholm:20250611T123000
DTSTAMP:20260423T213952
CREATED:20250225T110932Z
LAST-MODIFIED:20250516T071110Z
UID:62169-1749630600-1749645000@svemarknad.se.hosting.brainforest.se
SUMMARY:TikTok-strategi
DESCRIPTION:TikTok har vuxit till en av de mest inflytelserika plattformarna för varumärken ochmarknadsförare. Denna kurs ger dig en strategisk förståelse för hur du kan använda denorganiska sidan av TikTok för att bygga varumärkeskännedom\, skapa engagerande innehålloch nå din målgrupp på ett autentiskt sätt. Vi går igenom algoritmens logik\, trender\, formatoch hur du kan optimera din närvaro för maximal räckvidd och konvertering.Efter kursen förstår du hur skapar engagerande innehåll som når rätt målgrupp. Du kanoptimera din närvaro på plattformen och utnyttja trender på rätt sätt för att utveckla enframgångsrik TikTok-strategi. \n\n\n\nKursinnehåll:\n\n\n\nUnder denna kurs kommer du att lära dig följande:● TikToks grunder och få förståelse för kulturen på plattformen● Vilka innehållsformat/typer dominerar på plattformen● Förstå TikToks algoritm● Tips för hur du kan tänka kring innehållsskapande● Hur man utveckla en långsiktig strategi för framgång på TikTok● Optimera ditt konto och dina videor för ökad synlighet● Övergripande förståelse för betald annonsering som komplement \n\n\n\nKursledare:\n\n\n\n\n\n\n\nMoa Wilén arbetar till vardags som marknadskoordinator och content producer på SalgadoKommunikation och hon har tidigare föreläst på bland annat Stockholm School of Businessoch Medieinstitutet. Hon har en bakgrund inom medievetenskap och sociologi\, något somhjälper henne förstå hur olika typer av innehåll påverkar och engagerar olika målgrupper påsociala medier. Moa har tidigare arbetat med att studera TikTok-communities och deraspåverkan på identitetsskapande hos unga kvinnor. \n\n\n\nKursdatum 11 juni 2025\n\n\n\nAnmälan: gör du nedanPris: 5.200 kr + moms för medlem (9.800 kr icke medlem)Kursen sker live online och du kommer att få en länk till Zoom. \n\n\n\nDag: 11 juni 2025Tid: 08.30 -12.30Plats: Online. Zoom-länk skickasAnmälan: se nedan \n\n\n\nAnmälan är bindande.Sveriges Marknadsförbunds integritetspolicy.
URL:https://svemarknad.se.hosting.brainforest.se/evenemang/tiktok-strategi-2/
CATEGORIES:Kurser
ATTACH;FMTTYPE=image/png:https://svemarknad.se.hosting.brainforest.se/wp-content/uploads/2024/04/moa-wilen.png
END:VEVENT
END:VCALENDAR