BEGIN:VCALENDAR
VERSION:2.0
PRODID:-//Sveriges Marknadsförbund - ECPv6.7.0//NONSGML v1.0//EN
CALSCALE:GREGORIAN
METHOD:PUBLISH
X-ORIGINAL-URL:https://svemarknad.se.hosting.brainforest.se
X-WR-CALDESC:Events for Sveriges Marknadsförbund
REFRESH-INTERVAL;VALUE=DURATION:PT1H
X-Robots-Tag:noindex
X-PUBLISHED-TTL:PT1H
BEGIN:VTIMEZONE
TZID:Europe/Stockholm
BEGIN:DAYLIGHT
TZOFFSETFROM:+0100
TZOFFSETTO:+0200
TZNAME:CEST
DTSTART:20250330T010000
END:DAYLIGHT
BEGIN:STANDARD
TZOFFSETFROM:+0200
TZOFFSETTO:+0100
TZNAME:CET
DTSTART:20251026T010000
END:STANDARD
END:VTIMEZONE
BEGIN:VEVENT
DTSTART;TZID=Europe/Stockholm:20250828T090000
DTEND;TZID=Europe/Stockholm:20250828T094500
DTSTAMP:20260423T184605
CREATED:20250401T115155Z
LAST-MODIFIED:20250828T053454Z
UID:62456-1756371600-1756374300@svemarknad.se.hosting.brainforest.se
SUMMARY:Så arbetar du smart med företagssidan på LinkedIn
DESCRIPTION:Teamslänken är skickad till anmälda deltagare. Länken skickas igen ca 1 timme innan webbinariet startar. Saknar du teamslänken mejla till annika@svemarknad.se eller smsa till 073 – 052 00 91 \n\n\n\nWebbinarium med LinkedIn-expert Linda Björck\n\n\n\nVälkommen på föreläsning med Linda Björck. Linda har utbildat i LinkedIn i 11 år och har fokus på marknadsföring\, kommunikation och social selling. Under 45 min kommer du få konkreta tips på hur företaget kan arbeta smart och få bättre effekt på LinkedIn.Den här föreläsningen riktar sig bäst till dig som använder LinkedIn via en företagssida. \n\n\n\nLinda är en av Sveriges ledande experter och har medverkat i media\, podcasts och TV4 Nyhetsmorgon. Varmt välkommen! \n\n\n\n\n\n\n\n \n\n\n\nFöreläsare:\n\n\n\nLinda Björck\, Utbildar & coachar marknadsförare\, chef & Vd till bättre resultat på LinkedIn\, Bygger ditt & företagets varumärke med beprövad strategi\, taktik & marknadsföring\,11 år föreläsare\, Topp 100-föreläsare\, LinkedInexpert. \n\n\n\nFritt för medlemmar!\n\n\n\nVarmt välkommen!\n\n\n\nAnmälan:\n\n\n\n1. Anmäl dig nedan.2. En timme innan webbinariet får du länken för att kunna delta. \n\n\n\nDag: 28 augusti Tid: kl 09.00 – 09.45Plats: Online via TeamsAnmälan: se nedan \n\n\n\n \n\n\n\n\n\n\n	 \n\n\n\n\n\n	\n\n\nNoshow debiteras\n\n\n\nAvbokning sker senast 2 vardagar innan eventet men platsen kan alltid överlåtas till annan person – namnjustering sker till annika@svemarknad.se.Vid utebliven närvaro utgår avgift på 495 kr ex moms. Vi reserverar oss för ev. ändringar i programmet.
URL:https://svemarknad.se.hosting.brainforest.se/evenemang/sa-arbetar-du-smart-med-foretagssidan-pa-linkedin/
CATEGORIES:Webbinarium
ATTACH;FMTTYPE=image/jpeg:https://svemarknad.se.hosting.brainforest.se/wp-content/uploads/2025/04/51674813809_f1ffc0a522_k.jpg
END:VEVENT
END:VCALENDAR