BEGIN:VCALENDAR
VERSION:2.0
PRODID:-//Sveriges Marknadsförbund - ECPv6.7.0//NONSGML v1.0//EN
CALSCALE:GREGORIAN
METHOD:PUBLISH
X-ORIGINAL-URL:https://svemarknad.se.hosting.brainforest.se
X-WR-CALDESC:Events for Sveriges Marknadsförbund
REFRESH-INTERVAL;VALUE=DURATION:PT1H
X-Robots-Tag:noindex
X-PUBLISHED-TTL:PT1H
BEGIN:VTIMEZONE
TZID:Europe/Stockholm
BEGIN:DAYLIGHT
TZOFFSETFROM:+0100
TZOFFSETTO:+0200
TZNAME:CEST
DTSTART:20250330T010000
END:DAYLIGHT
BEGIN:STANDARD
TZOFFSETFROM:+0200
TZOFFSETTO:+0100
TZNAME:CET
DTSTART:20251026T010000
END:STANDARD
END:VTIMEZONE
BEGIN:VEVENT
DTSTART;TZID=Europe/Stockholm:20250910T083000
DTEND;TZID=Europe/Stockholm:20250910T120000
DTSTAMP:20260423T172509
CREATED:20250313T113507Z
LAST-MODIFIED:20250909T111853Z
UID:62320-1757493000-1757505600@svemarknad.se.hosting.brainforest.se
SUMMARY:Fullbokat - Event Senior Talent Award
DESCRIPTION:FULLBOKAT – ANMÄL DIG TILL VÄNTELISTAN NEDAN – eller mejla till annika@svemarknad.se \n\n\n\nFRUKOST SERVERAS 08.30 – 09.00 \n\n\n\nVarför har åldersfrågan blivit så het?\n\n\n\nFöreläsning\, prisutdelning\, rundabordssamtal\n\n\n\nProgram:08.30-09.00 Frukost serveras09.00-09.15 Francesca O’Brien välkomnar09.15-09.45 Varför har åldersfrågan blivit så het? John Mellkvist föreläser09.45-10.30 Prisutdelning Senior Talent Award. Francesca O’Brien intervjuar pristagarna10.30-11.55 Hur går vi vidare? Rundabordssamtal leds av Camilla Wagner11.55-12.00 Avslut \n\n\n\nFrancesca O’Brien\, vd Sveriges MarknadsförbundJohn Mellkvist\, generalsekreterare Pluskommissionen\, Juryordförande Senior Talent AwardCamilla Wagner\, vd jämställdhetsbyrån Klara K \n\n\n\nVem blir vinnare av Senior Talent Award 2025?\n\n\n\nVinnare koras och priser delas ut\n\n\n\nSveriges Marknadsförbund arbetar med ledarskapsfrågor och kompetensutveckling och vill lyfta organisationer som är med och omdefinierar stereotypa begrepp och förlegade åldersstrukturer när det gäller ålder kopplat till jobb och kompetens. Sveriges Marknadsförbund vill med priset göra ett statement så att fler inspireras att fortsätta skapa tillväxt och trygghet i svenskt näringsliv. Sveriges Marknadsförbund stiftade utmärkelsen Senior Talent Award år 2021.  \n\n\n\nSenior Talent Award är en utmärkelse riktat mot företag och organisationer som värdesätter senior kompetens och inte likställer talang med ålder.Juryn för Senior Talent Award utser också särskilda hedersomnämnanden till modiga och betydelsefulla individer\, som vågat gå mot strömmen och statuerat goda exempel för andra att inspireras av. \n\n\n\nOrdförande för juryn:John Mellkvist\, Generalsekreterare Pluskommissionen (Juryordförande)Francesca O’Brien\, VD Sveriges MarknadsförbundPernilla Oldmark\, EVP People & Culture Axel JohnsonÅsa Edman\, VD TNGMaja Englund\, Chef marknad och kommunikation SPPCamilla Wagner\, VD Klara KMattias Munter\, Head of Public and Regulatory Affairs Skandia \n\n\n\n\n\n\n\nTidigare vinnare\n\n\n\nVinnare 2024\n\n\n\n🏆 Ingmar Skoog (individ)🏆 ICEHOTEL (företag)🏆 Polismyndigheten (organisation) \n\n\n\nVinnare 2023\n\n\n\n🏆 Camilla Läckberg (individ)🏆 Northvolt (företag)🏆 57:orna (organisation) \n\n\n\nVinnare 2022\n\n\n\n🏆 Tomas Ledin (individ)🏆 Axel Johnson Group (företag) \n\n\n\nVinnare 2021\n\n\n\n🏆 Spendrups presschef Rose-Marie Hertzman (individ)🏆 ICA (företag) \n\n\n\nJuryn bedömer och berömmer utifrån de här kriterierna:\n\n\n\nFritt! Varmt välkommen!\n\n\n\nAnmälan:\n\n\n\nDag: 10 septemberTid: Frukost 08.30 – 09.00 Seminarium: kl 09.00 – 12.00Plats: Hos SPP\, Vasagatan 10\, Sthlm –  Trappor: 1 våning upp. Hiss: tryck plan 3. Rum: Biblioteket.Anmälan: se nedan \n\n\n\nFULLBOKAT – ANMÄL DIG TILL VÄNTELISTAN NEDAN – eller mejla till annika@svemarknad.seVi återkommer till dig om vi hittat en plats. \n\n\n\nVÄNTELISTA:\n\n\n\n\n\n\n	 \n\n\n\n\n\n	 \n\n\nNoshow debiteras\n\n\n\nAvbokning sker senast 2 vardagar (48 tim) innan eventet men platsen kan alltid överlåtas till annan person – namnjustering sker till annika@svemarknad.se.Vid utebliven närvaro utgår avgift på 495 kr ex moms. Vi reserverar oss för ev. ändringar i programmet.
URL:https://svemarknad.se.hosting.brainforest.se/evenemang/event-senior-talent-award-2/
CATEGORIES:Nätverk,Seminarier
ATTACH;FMTTYPE=image/jpeg:https://svemarknad.se.hosting.brainforest.se/wp-content/uploads/2025/03/Tootie-SENIOR-TALENT-AWARD-2025.jpg
END:VEVENT
END:VCALENDAR