BEGIN:VCALENDAR
VERSION:2.0
PRODID:-//Sveriges Marknadsförbund - ECPv6.7.0//NONSGML v1.0//EN
CALSCALE:GREGORIAN
METHOD:PUBLISH
X-ORIGINAL-URL:https://svemarknad.se.hosting.brainforest.se
X-WR-CALDESC:Events for Sveriges Marknadsförbund
REFRESH-INTERVAL;VALUE=DURATION:PT1H
X-Robots-Tag:noindex
X-PUBLISHED-TTL:PT1H
BEGIN:VTIMEZONE
TZID:Europe/Stockholm
BEGIN:DAYLIGHT
TZOFFSETFROM:+0100
TZOFFSETTO:+0200
TZNAME:CEST
DTSTART:20250330T010000
END:DAYLIGHT
BEGIN:STANDARD
TZOFFSETFROM:+0200
TZOFFSETTO:+0100
TZNAME:CET
DTSTART:20251026T010000
END:STANDARD
END:VTIMEZONE
BEGIN:VEVENT
DTSTART;TZID=Europe/Stockholm:20250912T113000
DTEND;TZID=Europe/Stockholm:20250912T130000
DTSTAMP:20260423T172551
CREATED:20250624T093157Z
LAST-MODIFIED:20250909T112057Z
UID:63466-1757676600-1757682000@svemarknad.se.hosting.brainforest.se
SUMMARY:Fullbokat - När affären börjar med ett syfte - så bygger Lindex ett starkare erbjudande och varumärke
DESCRIPTION:FULLBOKAT – ANMÄL DIG TILL VÄNTELISTAN NEDAN – mejla till annika@svemarknad.se \n\n\n\nVälkommen till lunchseminarium i Göteborg den 12 september\n\n\n\n\n\n\n\nLindex blev Årets Varumärke 2024 \n\n\n\nSå bygger Lindex ett starkare erbjudande och varumärke\n\n\n\nKan ett högre syfte verkligen påverka försäljning\, erbjudande och kommunikation? På Lindex är svaret ett självklart ja. Lindex resa visar hur affären blir starkare när syftet är mer än fina ord – när det får forma allt från innovation till hur de möter sina kunder. \n\n\n\nUnder seminariet delar Linda Olsson\, Brand Experience Director på Lindex\, med sig av hur Lindex kopplar sitt syfte till affärsutveckling\, erbjudande och kommunikation. Du får ta del av konkreta exempel\, lärdomar och insikter från deras resa mot att bygga ett mer meningsfullt och relevant varumärke. \n\n\n\nDu får ta del av: \n\n\n\n\nHur ett tydligt syfte skapar konkurrenskraft och stärker relationen med alla stakeholders\n\n\n\nExempel på hur Lindex utvecklas sitt sätt att driva affären\, utveckla erbjudandet och kommunikationen med syftet i centrum\n\n\n\nViktigaste insikterna – och fallgropar – på vägen\n\n\n\n\nSeminariet är fritt för medlemmar men platserna är begränsade – först till kvarn gäller.  \n\n\n\nGourmetkorv bjuder på lunch. Giveaways från Lindex delas ut.\n\n\n\n\n\n\n\nhttps://svemarknad.se/intervju-med-malin-talcoth-grundare-agare-gourmetkorv/Om GourmetkorvDet började våren 2008\, i en liten lokal på Södra Larmgatan. Idén var enkel men genial\, ta korven på allvar – utan att bli tråkig. Sedan dess har vi haft ett tydligt mål\, att servera riktigt bra korv på ett lite annorlunda och väldigt smakfullt sätt. Hos oss är råvarorna alltid av högsta kvalitet. Våra korvar innehåller 85–95 % kött och görs i samarbetet med lokala charkuterier\, ofta enligt våra egna recept. Det har till och med gjort att vi fått uppmärksamhet i bland annat New York Times som tipsar om oss som ett måste för alla matälskare. Hos oss hittar du något för alla – oavsett om du vill ha klassisk bratwurst\, kryddiga nyheter eller vegetariska alternativ. Och vi nöjer oss inte där. Till korven väljer du hemlagat potatismos\, vår populära surkål eller en fräsch potatissallad. Sedan toppar du med vad du vill – ajvar\, coleslaw\, vitlökskräm eller kanske en klick Skagenröra.Välkommen in och låt oss överraska dig! Upptäck din nya favoritkorv hos oss på Gourmetkorv!Vi ses! Varmaste hälsningar Malin Talcoth\, Grundare & ägare. Läs intervju med Malin Tacoth här. \n\n\n\n\n\n\n\nAnmälan:\n\n\n\nFritt för medlemmar! Varmt välkommen! \n\n\n\nDag: Fredag 12 septemberTid: Kl 11.30 – 13.00 – Gourmetkorv bjuder på lunch. ”Giveaways” från Lindex delas ut.Plats: Lindex Huvudkontor\, Nils Erikssonsplatsen 6\, våning 6 (ingången mellan 7-eleven och Lindex-butiken inne i Centralhuset) GöteborgAnmälan: se nedan \n\n\n\nFullbokat. Väntelista – mejla till annika@svemarknad.se – så kollar vi om det finns plats. \n\n\n\n\n\n\n	 \n\n\n\nNoshow debiteras\n\n\n\nAvbokning sker senast 2 vardagar innan eventet men platsen kan alltid överlåtas till annan person – namnjustering sker till annika@svemarknad.se.Vid utebliven närvaro utgår avgift på 495 kr ex moms. Vi reserverar oss för ev. ändringar i programmet.
URL:https://svemarknad.se.hosting.brainforest.se/evenemang/nar-affaren-borjar-med-ett-syfte-sa-bygger-lindex-ett-starkare-erbjudande-och-varumarke/
CATEGORIES:Lunchseminarium,Nätverk
ATTACH;FMTTYPE=image/jpeg:https://svemarknad.se.hosting.brainforest.se/wp-content/uploads/2025/06/Lindex-scaled.jpg
END:VEVENT
END:VCALENDAR