BEGIN:VCALENDAR
VERSION:2.0
PRODID:-//Sveriges Marknadsförbund - ECPv6.7.0//NONSGML v1.0//EN
CALSCALE:GREGORIAN
METHOD:PUBLISH
X-ORIGINAL-URL:https://svemarknad.se.hosting.brainforest.se
X-WR-CALDESC:Events for Sveriges Marknadsförbund
REFRESH-INTERVAL;VALUE=DURATION:PT1H
X-Robots-Tag:noindex
X-PUBLISHED-TTL:PT1H
BEGIN:VTIMEZONE
TZID:Europe/Stockholm
BEGIN:DAYLIGHT
TZOFFSETFROM:+0100
TZOFFSETTO:+0200
TZNAME:CEST
DTSTART:20250330T010000
END:DAYLIGHT
BEGIN:STANDARD
TZOFFSETFROM:+0200
TZOFFSETTO:+0100
TZNAME:CET
DTSTART:20251026T010000
END:STANDARD
END:VTIMEZONE
BEGIN:VEVENT
DTSTART;TZID=Europe/Stockholm:20250919T090000
DTEND;TZID=Europe/Stockholm:20250919T090000
DTSTAMP:20260423T172433
CREATED:20250617T113308Z
LAST-MODIFIED:20250918T195957Z
UID:63379-1758272400-1758272400@svemarknad.se.hosting.brainforest.se
SUMMARY:Rapport från Cision - State of the Media 2025
DESCRIPTION:Teamslänken är utskickad till anmälda\, saknar du länken – mejla till annika@svemarknad.se eller sms:a 073 – 052 00 91 \n\n\n\nVad bör kommunikatörer och marknadsförare göra för att nå fram till svenska journalister?\n\n\n\n \n\n\n\nRapport State of the Media 2025 presenteras\n\n\n\nI över 15 års tid har Cisions globala journalistrapport State of the Media gett kommunikatörer världen över en inblick i journalisters vardag\, deras utmaningar och vad kommunikatörer och marknadsförare bör göra för göra nå fram till journalister och skapa synlighet för sina nyheter. I årets rapport har Cision samlat in svar från över 3 000 journalister världen över.Välkommen till webbinarium den 19 september med fokus på de svenska journalisternas svar. Hur de skiljer sig från journalister i andra länder samt hur utvecklingen ser ut jämfört med tidigare år?  \n\n\n\nFöreläsare:\n\n\n\nOskar Larsson\, Head of Marketing Cision Nordics \n\n\n\n\n\n\n\nFritt för medlemmar!\n\n\n\nVarmt välkommen!\n\n\n\nAnmälan:\n\n\n\n1. Anmäl dig nedan.2. En timme innan webbinariet får du länken för att kunna delta. \n\n\n\nDag: 19 septemberTid: kl 09.00 – 09.45Plats: Online via TeamsAnmälan: se nedan \n\n\n\n\n\n\n	 \n\n\n\nNoshow debiteras\n\n\n\nAvbokning sker senast 2 vardagar innan eventet men platsen kan alltid överlåtas till annan person – namnjustering sker till annika@svemarknad.se.Vid utebliven närvaro utgår avgift på 495 kr ex moms. Vi reserverar oss för ev. ändringar i programmet.
URL:https://svemarknad.se.hosting.brainforest.se/evenemang/rapport-fran-cision-state-of-the-media-2025/
CATEGORIES:Webbinarium
ATTACH;FMTTYPE=image/png:https://svemarknad.se.hosting.brainforest.se/wp-content/uploads/2025/06/Oskar-Larsson-Cision.png
END:VEVENT
END:VCALENDAR