BEGIN:VCALENDAR
VERSION:2.0
PRODID:-//Sveriges Marknadsförbund - ECPv6.7.0//NONSGML v1.0//EN
CALSCALE:GREGORIAN
METHOD:PUBLISH
X-ORIGINAL-URL:https://svemarknad.se.hosting.brainforest.se
X-WR-CALDESC:Events for Sveriges Marknadsförbund
REFRESH-INTERVAL;VALUE=DURATION:PT1H
X-Robots-Tag:noindex
X-PUBLISHED-TTL:PT1H
BEGIN:VTIMEZONE
TZID:Europe/Stockholm
BEGIN:DAYLIGHT
TZOFFSETFROM:+0100
TZOFFSETTO:+0200
TZNAME:CEST
DTSTART:20250330T010000
END:DAYLIGHT
BEGIN:STANDARD
TZOFFSETFROM:+0200
TZOFFSETTO:+0100
TZNAME:CET
DTSTART:20251026T010000
END:STANDARD
END:VTIMEZONE
BEGIN:VEVENT
DTSTART;TZID=Europe/Stockholm:20251008T083000
DTEND;TZID=Europe/Stockholm:20251008T123000
DTSTAMP:20260423T153001
CREATED:20250813T141718Z
LAST-MODIFIED:20250814T125143Z
UID:63984-1759912200-1759926600@svemarknad.se.hosting.brainforest.se
SUMMARY:Kom igång med Google Ads: Nybörjarkurs
DESCRIPTION:Google Ads är ett av de mest kraftfulla verktygen för att synas när det verkligen gäller: i sökresultat\, på YouTube och över det digitala nätverket. I denna grundkurs får du en praktisk introduktion till hur du skapar\, optimerar och analyserar kampanjer i Google Ads\, med fokus på att driva trafik\, leads och försäljning.Du lär dig hur du strukturerar kampanjer på rätt sätt\, väljer effektiva sökord\, förstår målgrupper och använder annonsbudgeten klokt. Kursen ger dig grunderna du behöver för att självständigt starta upp och utveckla annonskampanjer som levererar konkreta resultat\, vare sig du är småföretagare\, kommunikatör\, marknadsförare eller ny på området. \n\n\n\nKursinnehåll:\n\n\n\nUnder denna kurs kommer du att lära dig följande: \n\n\n\n\nGrunderna i hur Google Ads och vilka möjligheter plattformen erbjuder\n\n\n\nLära dig om annonsformat och när de lämpar sig bäst (sök\, display\, YouTube)\n\n\n\nSkapa och strukturera kampanjer med tydlig målsättning\n\n\n\nVälja rätt sökord och bygga en sökordsstrategi som ger resultat\n\n\n\nOptimera kampanjer och tolka resultat med hjälp av kampanjdata\n\n\n\nFå insikt i budgetering\, budstrategier och vad som påverkar annonsrankning\n\n\n\n\nKursens längd:\n\n\n\n4 timmar \n\n\n\nKursledare:\n\n\n\nMattis Engstedt är senior kampanjspecialist och digital strateg på SalgadoKommunikation. Han har mångårig erfarenhet av att arbeta med digital annonsering ochanalys för företag i olika branscher\, med särskild expertis inom Google Ads. Somutbildare är han uppskattad för sin pedagogiska stil och sitt fokus på hur verktyg somGoogle Ads faktiskt skapar affärsresultat. Mattis visar hur du med rätt struktur\, tydligamål och kontinuerlig optimering kan få ut maximalt värde av din annonsering \n\n\n\n\n\n\n\nKursdatum 8 oktober 2025\n\n\n\nAnmälan: gör du nedanPris: 5.200 kr + moms för medlem (9.800 kr icke medlem)Kursen sker live online och du kommer att få en länk till Zoom. \n\n\n\nDag: 8 oktober 2025Tid: Kl 08.30-12.30Plats: Online. Zoom-länk skickasAnmälan: se nedan \n\n\n\nAnmälan är bindande.Sveriges Marknadsförbunds integritetspolicy.
URL:https://svemarknad.se.hosting.brainforest.se/evenemang/kom-igang-med-google-ads-nyborjarkurs-for-foretagare/
CATEGORIES:Kurser
ATTACH;FMTTYPE=image/png:https://svemarknad.se.hosting.brainforest.se/wp-content/uploads/2025/08/Mattis.png
END:VEVENT
END:VCALENDAR