BEGIN:VCALENDAR
VERSION:2.0
PRODID:-//Sveriges Marknadsförbund - ECPv6.7.0//NONSGML v1.0//EN
CALSCALE:GREGORIAN
METHOD:PUBLISH
X-WR-CALNAME:Sveriges Marknadsförbund
X-ORIGINAL-URL:https://svemarknad.se.hosting.brainforest.se
X-WR-CALDESC:Events for Sveriges Marknadsförbund
REFRESH-INTERVAL;VALUE=DURATION:PT1H
X-Robots-Tag:noindex
X-PUBLISHED-TTL:PT1H
BEGIN:VTIMEZONE
TZID:Europe/Stockholm
BEGIN:DAYLIGHT
TZOFFSETFROM:+0100
TZOFFSETTO:+0200
TZNAME:CEST
DTSTART:20250330T010000
END:DAYLIGHT
BEGIN:STANDARD
TZOFFSETFROM:+0200
TZOFFSETTO:+0100
TZNAME:CET
DTSTART:20251026T010000
END:STANDARD
END:VTIMEZONE
BEGIN:VEVENT
DTSTART;TZID=Europe/Stockholm:20251023T090000
DTEND;TZID=Europe/Stockholm:20251023T130000
DTSTAMP:20260423T152832
CREATED:20250703T124636Z
LAST-MODIFIED:20251031T073537Z
UID:63730-1761210000-1761224400@svemarknad.se.hosting.brainforest.se
SUMMARY:Tendensdagen 2025
DESCRIPTION:Se film och bilder från Tendensdagen 2025\, Konserthuset\n\n\n\nPROGRAM\n\n\n\nTendensdagen 23 okt på Konserthuset\, Hötorget\n\n\n\nTORSDAG 23 OKTOBER Tid: Inregistrering från kl 08.00. Program kl 09.00 – 13.00 (Vi bjuder på kaffe och tävling utanför Konserthuset på morgonen\, frukost serveras ej)Tävlingsmöjlighet: Start kl 08.00 runt Hötorget – Läs mer nedan eller härPlats: Konserthuset\, OBS ingång Kungsgatan 43 Grünewaldsalen\, Hötorget\, Stockholm.Anmälan: Scrolla längst ner för att boka din plats. \n\n\n\nSe hit! Tävling – Var med och tävla! Orientera dig på Hötorget på Tendensdagens morgon – vinn ett exklusivt träningspass med en världsstjärna. Svensk Orientering guidar dig! Läs mer här\n\n\n\nATT NAVIGERA I FÖRÄNDRING\n\n\n\nDen politiska kartan ritas om. Gränser förflyttas. Förändringens vindar blåser. Vi är på väg mot Mars och klimathaveri på samma gång. Att orientera sig är svårare än det varit på flera decennier.När förtroendet för traditionella auktoriteter vacklar har vi som marknadsförare både ansvar och möjligheter att agera. De företag och varumärken vi representerar har ofta större räckvidd och genomslagskraft än många andra samhällsaktörer. Inte sällan är det upp till oss att bestämma hur de ska användas.Hur anpassar vi oss utan att tappa riktningen? Vilka värden håller oss på kurs när omvärlden skiftar? Vilka lärdomar behöver vi samla in för att hitta nya perspektiv? Vart blåser vinden\, när väljer vi den och när går vi i motsatt riktning?Förhoppningsvis kan årets upplaga av Tendensdagen hjälpa oss att hitta svar på frågorna. \n\n\n\nInledning av Konserthusets marknadschef Patrick Benjaminsson samt musik av Brasskvintetten\n\n\n\nKl 09.00-09.05\n\n\n\nJoakim Agnas – trumpetMikael Nilsson – trumpetSarah Lindblom – hornKarl Frisendahl – trombonKarl-Johan Elf – tuba \n\n\n\nOm årets tema: Att navigera i förändring\n\n\n\nKl 09.05-09.10\n\n\n\nFrancesca O’Brien\, VD Sveriges Marknadsförbund Tendensdagens konferencier.\n\n\n\n \n\n\n\n\n\n\n\nPROGRAMPUNKT 1\n\n\n\nKl 09.10-09.30\n\n\n\nAlla är nöjda – men av helt olika skäl. Om att navigera kundrelationer i en tid av förändring\n\n\n\nHur ska man navigera kundrelationer i en tid där allt förändras snabbt? Nöjdheten bland kunder är fortfarande relativt hög\, men skrapar man på ytan framträder en ny verklighet: alla är nöjda men av helt olika skäl. Företagskunder är ofta mer nöjda än privatkunder\, och bakom varje snittbetyg döljer sig skiftande behov\, krav och drivkrafter. Johan Parmler tar oss med in i kundnöjdhetens paradox och visar varför det inte längre handlar om att göra rätt saker\, utan att göra rätt sak\, för rätt kund\, vid rätt tidpunkt. \n\n\n\n\n\n\n\nJohan Parmler\, VD och chefsanalytiker på Svenskt Kvalitetsindex.Med en bakgrund inom statistik\, ekonomi och affärsutveckling är han en av Sveriges ledande experter på kundnöjdhet och marknadsinsikter. Varje år hjälper han ett femtiotal företag att förstå vad som verkligen driver kunders förväntningar\, upplevelser och lojalitet\, och hur man agerar på det. \n\n\n\nPROGRAMPUNKT 2 – Panelsamtal\n\n\n\nKl 09.30-09.55\n\n\n\nAtt vinna tillit i ett hackat medielandskap\n\n\n\nModerator: Brit StakstonPanel: Anna Careborg\, nyhetsdirektör SVT\, Linda Corsvall\, kommunikationsdirektör\, Socialstyrelsen\, Jonas Johansson\, kommunikationschef\, Länsstyrelsen i Stockholms län\n\n\n\nI dagens medielandskap är alla avsändare. Algoritmer och strategiska aktörer påverkar vad vi ser i flödet och gör att gränsen mellan fakta och åsikter suddas ut. För samhällsaktörer innebär det både ett hot och en möjlighet. Tillit är det som håller ihop ett samhälle och har blivit en av vår tids mest avgörande tillgångar. En valuta som kan vinnas eller förloras beroende på hur kommunikationen sker. Hur kan vi bygga\, bevara och återupprätta tillit i en tid präglad av strategisk manipulation och fabricerat AI-innehåll?    \n\n\n\n\n\n\n\nBrit Stakston\, mediestrateg och kommunikationsrådgivare\, Stakston PR I sitt dagliga arbete analyserar hon medieutvecklingen och digitaliseringens effekter på samhällsutvecklingen med fokus på demokrati\, medieutveckling och samhällsengagemang. Flitigt anlitad expert i medier och arbetar som kommunikationsrådgivare med spetskompetensen inom digitalisering. Driver även reportagesajten Blankspot tillsammans med journalisten Martin Schibbye. Styrelsemedlem i Svensk Biblioteksförening\, Sveriges Tidskrifter och Svenska Wikimedia.  \n\n\n\n\n\n\n\nAnna Careborg\, nyhets- och sportdirektör SVTHar som nyhetsdirektör ansvaret för SVT:s nyhetsutbud och medarbetare\, från korrespondenterna ute i världen till de lokala reportrarna på SVT:s 50 redaktioner runt om i Sverige. Är även övergripande ansvarig för de initiativ SVT Nyheter initierat de senaste åren för att motverka desinformation – som SVT Verifierar och Nyhetskoll\, en satsning tillsammans med UR på trovärdiga nyheter för tonåringar. Sitter bland annat i styrelsen för Utgivarna\, som samlar svenska publicister\, och i styrgruppen för Medier & Demokrati.   \n\n\n\n\n\n\n\nLinda Corsvall\, kommunikationsdirektör SocialstyrelsenSom kommunikationsdirektör på Socialstyrelsen har Linda Corsvall de senaste åren ansvarat för myndighetens kommunikation både under en pandemi och under den så kallade LVU-kampanjen där myndigheten har i uppdrag att motverka desinformation. LVU – kampanjen har påverkat tilliten till Sveriges socialtjänster och myndigheten har arbetat med att skapa kommunikation och dialoger för att både korrigera felaktig information och för att bygga tillit. Det har haft påverkan både på arbetssätt\, ledarskapet och val av kommunikationsinsatser. \n\n\n\n\n\n\n\nJonas Johansson\, kommunikationschef\, Länsstyrelsen i Stockholms länHanterar som kommunikationschef på Länsstyrelsen Stockholm\, som också är högsta civila totalförsvarsmyndighet\, regelbundet kriser i såväl den egna verksamheten som det omgivande samhället – däribland pandemin\, Rysslands fullskaliga invasion av Ukraina och förtroendekris för den egna myndighetsledningen. \n\n\n\nPROGRAMPUNKT 3 – samtal\n\n\n\nKl 09.55-10.20\n\n\n\nDemokratiska värden – aktivism eller överlevnadsstrategi\n\n\n\nAnette Novak\, Lars Strannegård\, Johan Landeström\n\n\n\nEtt medielandskap som fylls av AI-genererat innehåll: fakes\, fördomar och fantasier.En tilltagande maktkoncentration där världens mäktigaste köper medier och distributionsplattformar – för att påverka innehållet och manipulera användarna.Välfinansierade krafter som sprider narrativ om ljugande medier\, värdelösa tjänstemän\, politiserade akademiker och stämplar alla som tror på demokrati och medmänsklighet som ”aktivister”. Makrotrenderna är mörka. Många tystnar och väljer bort att försvara oberoende journalistik\, akademisk frihet och sina medmänniskor.Men mitt i denna oroande utveckling finns aktörer som vågar investera i och stå upp för de värden som demokratin bygger på. Och som anser att det är värt det. \n\n\n\n\n\n\n\nAnette Novak\, journalist\, mediestrateg och tidigare myndighetschefMed en framgångsrik ledarkarriär inom svenska nyhetsmedier har Anette byggt djup kunskap om bland annat medielogik\, digitala förändringsprocesser och mediernas roll i det alltmer komplexa informationsekosystemet. På senare år har hon som VD lett Svenska Filminstitutet\, IT- och designforskningsinstitutet RISE Interactive\, regeringens medieutredning och varit mediemyndighetschef. Hennes breda expertis – som omfattar allt från innehålls- och affärsfrågor till användarmönster\, digital teknik och policy – har lett till styrelseuppdrag i bland annat Sveriges Radio\, World Editors Forum och EIT Culture & Creativity. Anette är ordförande i Kungl. Ingenjörsvetenskapsakademiens avdelning för Informationsteknik och nybliven hedersdoktor vid Umeå Universitet. \n\n\n\n\n\n\n\nLars Strannegård\, professor i företagsekonomi och rektor för Handelshögskolan i StockholmLars Strannegård disputerade vid Göteborgs universitet år 1998. Efter disputationen flyttade Strannegård till Handelshögskolan i Stockholm där han utnämndes till docent år 2002. Han har genom sin forskning stor kännedom om framtidsfrågor som hållbarhet\, internationalisering\, bildning och kreativitet. Han är en internationellt välkänd forskare och har varit gästforskare vid bland annat Stanforduniversitetet\, University of St. Gallen samt Svenska kulturinstitutet i Paris. \n\n\n\n\n\n\n\nJohan Landeström\, marknadschef FörsvarsmaktenMånga års erfarenhet av marknadsföring och affärsutveckling i olika roller. Bland annat som marknadschef och varumärkesstrateg på Apoteket AB men även som konsult och då arbetat med varumärken inom bl.a. bank\, finans\, tech och retail. Johan är en ofta anlitad föredragshållare. \n\n\n\nPROGRAMPUNKT 4\n\n\n\nKl 10.20-10.40\n\n\n\nSjälvregleringens betydelse i dagens reklamlandskap\n\n\n\nMed avstamp i både historien och dagens snabbrörliga medielandskap diskuterar Reklamombudsmannen hur nya trender\, teknologier och konsumentkrav påverkar granskningen av reklam. Genom exempel från aktuell praxis och reflektioner från ett långt yrkesliv belyses RO:s roll i en tid där etiken sätts på prov – och där RO behövs mer än någonsin. \n\n\n\n\n\n\n\nPeter Knutsson\, RO Stiftelsen ReklamombudsmannenPeter Knutsson är sedan augusti 2024 reklamombudsman. Han har varit departementsråd på Justitiedepartementet och Finansdepartementet med ansvar för bland annat konsumentfrågor\, spelmarknad och offentlig upphandling. Peter har även arbetat på Finansinspektionen\, Konsumentverket\, Konkurrensverket och EU-kommissionen. \n\n\n\nPROGRAMPUNKT 5\n\n\n\nKl 10.40-10.55\n\n\n\nÅrets Marknadschef – B2B koras\n\n\n\nÅrets Marknadschef – B2C koras\n\n\n\nVem blir Årets Marknadschef 2025? Vinnarna koras. Nominerade och finalister Årets Marknadschef: B2B läs mer här. B2C läs mer här. \n\n\n\nJuryn för Årets Marknadschef:Francesca O’Brien Sveriges Marknadsförbund\, Patrik Gamryd Kantar\, Christina Nerpin Hammer & Hanborg\, Malin Otterström JCDecaux\, Robert Skölfman fd Regi\, Fredrik Lundgren\, HowCom (juryordförande)  \n\n\n\n\n\n\n\nVinnarna förra året: Årets Marknadschef B2C Helena Gouveia IKEA\, Årets Marknadschef B2B Cecilia Forsberg Telia. \n\n\n\n\n\n\n\n\n\n\n\nTÄVLING för Tendensdagens gäster\n\n\n\nKl 10.55-11.00\n\n\n\nTendensdagens gäster har möjlighet att vinna ett fint pris. \n\n\n\nPAUS\n\n\n\nKl 11.00-11.30\n\n\n\nTÄVLING för Tendensdagens gäster\n\n\n\nKl 11.30-11.35\n\n\n\nTendensdagens gäster har möjlighet att vinna ett fint pris. \n\n\n\nPROGRAMPUNKT 6\n\n\n\nKl 11.35-12.00\n\n\n\nFramtidens viktigaste marknadsroll är….\n\n\n\nDen snabba utvecklingen inom AI\, Crispr-teknologin\, kvant och Med Tech gör att vi kommer må bättre\, vara friskare och leva längre. Och med det kommer också att vi kommer behöva jobba längre. Men med vad och hur? Vilka kunskaper och egenskaper kommer krävas av oss och våra kollegor och andra och hur kommer vi dit? \n\n\n\n\n\n\n\nFredrik Hildebrand\, framtidsspanareFredrik Hildebrand är framtidsspanare\, föredragshållare\, fd CMO på Esatto och fd Brand & Communications Director på Creuna. Under de senaste tjugo åren har han gått från analog Art Director till digital evangelist men fortfarande med det humanistiska i centrum. Han har trendspanat från bl a SXSW på nationella och internationella scener under snart tio år och är en återkommande föreläsare på Berghs School of Communication och har dessutom designat en cirkulationsplats på Öland. \n\n\n\nPROGRAMPUNKT 7\n\n\n\nKl 12.00-12.25\n\n\n\nÅrets Varumärke koras\n\n\n\nVilket blir Årets Varumärke 2025? Vinnaren koras.Nominerade och finalister. Läs mer här. \n\n\n\nJuryn för Årets Varumärke:Johan Eriksson PWC (juryordförande)\, Francesca O’Brien Sveriges Marknadsförbund\, Tom Thörnblom Lyko\, Sara Abrahamsson Hammer & Hanborg\, Peter Wissing Evimetrix\, Rolf van den Brink Dagens Opinion \n\n\n\n\n\n\n\nVinnare förra året: Lindex \n\n\n\n\n\n\n\nPROGRAMPUNKT 8\n\n\n\nKl 12.25-12.55\n\n\n\nÄr mångfald framtiden – eller gårdagens snack?\n\n\n\nMedan DEI monteras ner globalt\, ställer Aaron Kroon frågan som många undviker: hur bygger man egentligen en framgångsrik affär på mångfald – på riktigt? I sin föreläsning utmanar Aaron det bekväma och visar hur mod\, riktning och affärsfokus gör mångfald till ett verktyg för att leda\, inte följa. \n\n\n\n\n\n\n\nAaron Kroon\, tidigare hög chef på bla Schibsted och Vattenfall. Nu eget bolag Black BatmanAaron Kroon är en banbrytande ledare och tidigare toppchef inom näringslivet med roller som innovationsdirektör på Vattenfall\, nordisk HR-direktör på Schibsted och HR-direktör på Blocket i bagaget. Idag driver han förändring som entreprenör\, författare och VD\, och är Sveriges ledande expert på mångfald och inkludering. Aaron har prisats för att ha skapat Sveriges mest inkluderande arbetsplats och har under 2024 utsetts till en av Sveriges 100 mäktigaste personer och en av landets tre främsta ledare. Hans bästsäljande bok All Inclusive: Nycklarna till ett inkluderande ledarskap har fått stor uppmärksamhet och resulterat i en slutsåld show på Oscarsteatern i november 2024. År 2025 rankades han dessutom som nummer 5 på listan över Sveriges superkommunikatörer. \n\n\n\nAVSLUT\n\n\n\nKl 12.55-13.00\n\n\n\nSammanfattning: Att navigera i förändring\n\n\n\nFrancesca O’Brien\, VD Sveriges Marknadsförbund Tendensdagens konferencier. \n\n\n\nANMÄLAN\n\n\n\nDag: 23 oktoberTid: Program kl 09.00 – 13.00 – inregistrering från kl 08.00.Plats: Konserthuset\, Hötorget\, Stockholm – obs ingång Kungsgatan 43Pris: Kostnadsfritt för medlemmar. Icke medlem 5.500 kr + momsAnmälan är bindandePlatsen kan överlåtas till annan person – namnjusteringar sker till annika@svemarknad.seVid avbokning el utebliven närvaro utgår avgift på 995 kr ex moms. \n\n\n\nAlla deltagare får en goodiebag!\n\n\n\n\n\n\n	 \n\n\nSamarbetspartners:\n\n\n\n\n\n\n\nJust nu finns ett fåtal biljetter kvar – så passa på – boka på knappen  ovan för biljett.
URL:https://svemarknad.se.hosting.brainforest.se/evenemang/tendensdagen-2025-2/
CATEGORIES:Event,Nätverk,Seminarier
ATTACH;FMTTYPE=image/jpeg:https://svemarknad.se.hosting.brainforest.se/wp-content/uploads/2025/10/TOTTIE-_NY_NY_ALLA-TALARE_Inkl-Fredrik-L_NY-TD-BILD-.jpg
END:VEVENT
END:VCALENDAR