BEGIN:VCALENDAR
VERSION:2.0
PRODID:-//Sveriges Marknadsförbund - ECPv6.7.0//NONSGML v1.0//EN
CALSCALE:GREGORIAN
METHOD:PUBLISH
X-WR-CALNAME:Sveriges Marknadsförbund
X-ORIGINAL-URL:https://svemarknad.se.hosting.brainforest.se
X-WR-CALDESC:Events for Sveriges Marknadsförbund
REFRESH-INTERVAL;VALUE=DURATION:PT1H
X-Robots-Tag:noindex
X-PUBLISHED-TTL:PT1H
BEGIN:VTIMEZONE
TZID:Europe/Stockholm
BEGIN:DAYLIGHT
TZOFFSETFROM:+0100
TZOFFSETTO:+0200
TZNAME:CEST
DTSTART:20250330T010000
END:DAYLIGHT
BEGIN:STANDARD
TZOFFSETFROM:+0200
TZOFFSETTO:+0100
TZNAME:CET
DTSTART:20251026T010000
END:STANDARD
END:VTIMEZONE
BEGIN:VEVENT
DTSTART;TZID=Europe/Stockholm:20251029T083000
DTEND;TZID=Europe/Stockholm:20251029T123000
DTSTAMP:20260423T135519
CREATED:20250813T140118Z
LAST-MODIFIED:20250813T140702Z
UID:63981-1761726600-1761741000@svemarknad.se.hosting.brainforest.se
SUMMARY:Datadriven marknadsföring med Google Analytics 4 (GA4)
DESCRIPTION:Google Analytics 4 (GA4) är det självklara verktyget för dig som vill förstå hur besökare rör sig på din webbplats och hur din digitala närvaro presterar. Denna kurs ger dig en grundlig och praktiskt inriktad introduktion till GA4\, med fokus på hur du kan använda plattformen för att analysera trafik\, identifiera mönster och fatta bättre beslut baserat på data. Hur du kan få ut mer av din kommunikation och dina marknadsföringsinsatser helt enkelt!Du lär dig hur du arbetar i GA4:s gränssnitt\, skapar anpassade rapporter\, tolkar användarbeteenden och följer konverteringar\, vare sig du arbetar operativt med marknadsföring eller har ett övergripande digitalt ansvar. \n\n\n\nKursinnehåll:\n\n\n\nUnder denna kurs kommer du att lära dig följande: \n\n\n\n\nNavigera i GA4:s gränssnitt och förstå struktur och funktioner\n\n\n\nSkapa och tolka rapporter kring trafik\, beteende och konverteringar\n\n\n\nFörstå hur du arbetar med händelsespårning och sätter upp anpassade mål\n\n\n\nAnalysera kundresan och förbättra användarupplevelsen\n\n\n\nFå insikt i hur du integrerar GA4 med andra Google-verktyg som Google Ads\n\n\n\nAnvända analysen för att fatta faktabaserade och strategiska beslut\n\n\n\n\nKursens längd:\n\n\n\n4 timmar \n\n\n\nKursledare:\n\n\n\nMattis Engstedt är senior kampanjspecialist och digital strateg på SalgadoKommunikation. Han har lång erfarenhet av digital analys\, spårning och optimering ochär särskilt inriktad på att hjälpa företag fatta bättre beslut baserat på data. Med enpedagogisk och lösningsorienterad stil visar Mattis hur du kan använda GA4 för attomvandla data till konkreta insikter och förbättrade digitala resultat. Han är särskiltuppskattad för sin förmåga att förklara tekniska verktyg på ett tydligt\, tillämpbart ochengagerande sätt. \n\n\n\n \n\n\n\n\n\n\n\nKursdatum 29 oktober 2025\n\n\n\nAnmälan: gör du nedanPris: 5.200 kr + moms för medlem (9.800 kr icke medlem)Kursen sker live online och du kommer att få en länk till Zoom. \n\n\n\nDag: 29 oktober 2025Tid: Kl 08.30-12.30Plats: Online. Zoom-länk skickasAnmälan: se nedan \n\n\n\nAnmälan är bindande.Sveriges Marknadsförbunds integritetspolicy.
URL:https://svemarknad.se.hosting.brainforest.se/evenemang/datadriven-marknadsforing-med-google-analytics-4-ga4/
CATEGORIES:Kurser
ATTACH;FMTTYPE=image/jpeg:https://svemarknad.se.hosting.brainforest.se/wp-content/uploads/2024/06/mattis-1_3_kvadrat.jpg
END:VEVENT
END:VCALENDAR