BEGIN:VCALENDAR
VERSION:2.0
PRODID:-//Sveriges Marknadsförbund - ECPv6.7.0//NONSGML v1.0//EN
CALSCALE:GREGORIAN
METHOD:PUBLISH
X-ORIGINAL-URL:https://svemarknad.se.hosting.brainforest.se
X-WR-CALDESC:Events for Sveriges Marknadsförbund
REFRESH-INTERVAL;VALUE=DURATION:PT1H
X-Robots-Tag:noindex
X-PUBLISHED-TTL:PT1H
BEGIN:VTIMEZONE
TZID:Europe/Stockholm
BEGIN:DAYLIGHT
TZOFFSETFROM:+0100
TZOFFSETTO:+0200
TZNAME:CEST
DTSTART:20250330T010000
END:DAYLIGHT
BEGIN:STANDARD
TZOFFSETFROM:+0200
TZOFFSETTO:+0100
TZNAME:CET
DTSTART:20251026T010000
END:STANDARD
END:VTIMEZONE
BEGIN:VEVENT
DTSTART;TZID=Europe/Stockholm:20251107T113000
DTEND;TZID=Europe/Stockholm:20251107T130000
DTSTAMP:20260423T135800
CREATED:20250909T135101Z
LAST-MODIFIED:20250925T113753Z
UID:64420-1762515000-1762520400@svemarknad.se.hosting.brainforest.se
SUMMARY:Framtidens OOH: Exklusiv lunch i JCDecaux nya showroom
DESCRIPTION:Välkommen till exklusiv lunch och seminarium med JCDecaux\n\n\n\nMitt i pulsen på Kungsgatan 18 har vi skapat en plats dedikerad till framtidens utomhusreklam. En inspirerande miljö där du nu får en unik möjlighet att vara bland de allra första att uppleva det som kommer att bli kronjuvelerna i Stockholms tunnelbana. \n\n\n\nSveriges Marknadsförbund och JCDecaux bjuder in dig som medlem till en exklusiv förhandsvisning av de nya\, banbrytande digitala formaten som kommer att omdefiniera medielandskapet från 2026. \n\n\n\nUnder en inspirerande lunch får du både uppleva den nya tekniken och ta del av strategiska insikter som omvandlar synlighet till verkligt genomslag: \n\n\n\n\nSuper Bowl-effekten och utomhusErik Modig\, en av landets främsta marknadsföringsforskare\, delar med sig av den senaste vetenskapen kring hur man bygger varumärke och skapar maximal effekt i utomhuskanalen.\n\n\n\nVisning av framtidens mediekartaJonas Bergman presenterar utomhusreklamens roll i en effektiv mediemix och dess unika förmåga att bygga varumärke i dagens medielandskap. Därefter presenteras de nya medieformaten inför 2026.\n\n\n\n\nVår ambition är att du lämnar oss inspirerad\, med nya perspektiv och värdefulla insikter som vässar din strategi inför framtiden. \n\n\n\nVi bjuder på lunch. Antalet platser är begränsat. \n\n\n\nVarmt välkommen! \n\n\n\nFöreläsare:\n\n\n\n\n\n\n\nErik Modig\, en av landets främsta marknadsföringsforskare \n\n\n\n\n\n\n\nJonas Bergman\, JCDecaux \n\n\n\nFritt för medlemmar!\n\n\n\nVarmt välkommen! \n\n\n\nAnmälan:\n\n\n\nDag: 7 novemberTid: 11.30 – 13.00 lunch ingårPlats: Kungsgatan 18\, StockholmAnmälan: se nedan \n\n\n\n\n\n\n	 \n\n\nNoshow debiteras\n\n\n\nAvbokning sker senast 2 vardagar innan eventet men platsen kan alltid överlåtas till annan person – namnjustering sker till annika@svemarknad.se.Vid utebliven närvaro utgår avgift på 495 kr ex moms. Vi reserverar oss för ev. ändringar i programmet.
URL:https://svemarknad.se.hosting.brainforest.se/evenemang/lunchseminarium-med-jcdecaux-nytt-showroom/
CATEGORIES:Lunchseminarium,Nätverk,Seminarier
ATTACH;FMTTYPE=image/jpeg:https://svemarknad.se.hosting.brainforest.se/wp-content/uploads/2025/09/Bild-ihop-JCDecaux_2_ERik-modig-och-Jonas-Bergman.jpg
END:VEVENT
END:VCALENDAR