BEGIN:VCALENDAR
VERSION:2.0
PRODID:-//Sveriges Marknadsförbund - ECPv6.7.0//NONSGML v1.0//EN
CALSCALE:GREGORIAN
METHOD:PUBLISH
X-ORIGINAL-URL:https://svemarknad.se.hosting.brainforest.se
X-WR-CALDESC:Events for Sveriges Marknadsförbund
REFRESH-INTERVAL;VALUE=DURATION:PT1H
X-Robots-Tag:noindex
X-PUBLISHED-TTL:PT1H
BEGIN:VTIMEZONE
TZID:Europe/Stockholm
BEGIN:DAYLIGHT
TZOFFSETFROM:+0100
TZOFFSETTO:+0200
TZNAME:CEST
DTSTART:20250330T010000
END:DAYLIGHT
BEGIN:STANDARD
TZOFFSETFROM:+0200
TZOFFSETTO:+0100
TZNAME:CET
DTSTART:20251026T010000
END:STANDARD
END:VTIMEZONE
BEGIN:VEVENT
DTSTART;TZID=Europe/Stockholm:20251118T153000
DTEND;TZID=Europe/Stockholm:20251118T190000
DTSTAMP:20260423T135854
CREATED:20251111T141451Z
LAST-MODIFIED:20251111T150955Z
UID:65447-1763479800-1763492400@svemarknad.se.hosting.brainforest.se
SUMMARY:Direktsändning från We don´t have time - prisutdelning Greenhush Award prize ceremony
DESCRIPTION:Join a live COP30 broadcast and networking event in our Stockholm studio – with Greenhush Award prize ceremony\n\n\n\n2025 års Greenhushpris delas ut den 18/11 i direktsändning från We don´t have times rapportering från COP-mötet i Brasilien.  \n\n\n\nVälkommen att delta i sändningen! \n\n\n\nLänk till anmälan: https://www.wedonthavetime.org/events/greenskills
URL:https://svemarknad.se.hosting.brainforest.se/evenemang/direktsandning-fran-we-dont-have-time-prisutdelning-greenhush-award-prize-ceremony/
CATEGORIES:Webbinarium
ATTACH;FMTTYPE=image/jpeg:https://svemarknad.se.hosting.brainforest.se/wp-content/uploads/2025/11/We-dont-have-time-1.jpg
END:VEVENT
END:VCALENDAR