BEGIN:VCALENDAR
VERSION:2.0
PRODID:-//Sveriges Marknadsförbund - ECPv6.7.0//NONSGML v1.0//EN
CALSCALE:GREGORIAN
METHOD:PUBLISH
X-ORIGINAL-URL:https://svemarknad.se.hosting.brainforest.se
X-WR-CALDESC:Events for Sveriges Marknadsförbund
REFRESH-INTERVAL;VALUE=DURATION:PT1H
X-Robots-Tag:noindex
X-PUBLISHED-TTL:PT1H
BEGIN:VTIMEZONE
TZID:Europe/Stockholm
BEGIN:DAYLIGHT
TZOFFSETFROM:+0100
TZOFFSETTO:+0200
TZNAME:CEST
DTSTART:20250330T010000
END:DAYLIGHT
BEGIN:STANDARD
TZOFFSETFROM:+0200
TZOFFSETTO:+0100
TZNAME:CET
DTSTART:20251026T010000
END:STANDARD
END:VTIMEZONE
BEGIN:VEVENT
DTSTART;TZID=Europe/Stockholm:20251119T090000
DTEND;TZID=Europe/Stockholm:20251119T120000
DTSTAMP:20260423T135935
CREATED:20250813T132255Z
LAST-MODIFIED:20251104T144154Z
UID:63966-1763542800-1763553600@svemarknad.se.hosting.brainforest.se
SUMMARY:ChatGPT för ledare: Lär dig utveckla dina strategier med AI‑drivet stöd
DESCRIPTION:I en värld med ständigt nya AI-verktyg ökar behovet av att som ledare kunna integrera teknologin i strategiska beslut och som ett naturligt stöd i arbetsprocessen. I denna kurs får du som ledare\, VD eller chef en praktisk och strategisk introduktion till hur AI kan användas för att höja din effektivitet\, förbättra beslutsunderlag och stärka ledarskapet. Genom konkreta exempel och övningar lär du dig att använda ChatGPT i vardagliga ledarsituationer: allt från strategiska val och kommunikationsplaner till förbättrad team‑samordning\, utan att det blir mindre personligt eller mänskligt i din ledarstil. Även andra AI-verktyg som stödjer det dagliga arbetet kommer att presenteras. \n\n\n\nKursinnehåll:\n\n\n\n\nUnder denna kurs kommer du att lära dig följande:\n\n\n\nAtt integrera ChatGPT i strategiska beslut och långsiktiga planer\n\n\n\nEffektiv hantering av research\, rapportskrivning och policyframtagning\n\n\n\nSkapande av sälj‑ och kommunikationsstöd via AI‑drivna prompts\n\n\n\nMetoder för att använda ChatGPT som intern coach och team-assistans\n\n\n\nAtt anpassa tekniken utan att tappa det mänskliga uttrycket i ledarskapet\n\n\n\nReflektera över ansvarstagande och etiska perspektiv vid AI‑användning\n\n\n\n\nKursens längd:\n\n\n\n3 timmar \n\n\n\nKursledare:\n\n\n\nCharlotte da Silva är VD och grundare av Salgado Kommunikation. Med över ettdecennium som rådgivare till ledare och beslutsfattare\, har Charlotte en unik förmågaatt kombinera strategiskt tänkande med praktiska verktyg. Hon använder dagligen AIsom stöd i sitt eget ledarskap och delar i kursen med sig av konkreta exempel på hur AIkan skapa mervärde i allt från beslutsfattande till kommunikation och teamledning. \n\n\n\n\n\n\n\nKursdatum 19 november 2025\n\n\n\nAnmälan: gör du nedanPris: 5.200 kr + moms för medlem (9.800 kr icke medlem)Kursen sker live online och du kommer att få en länk till Zoom. \n\n\n\nDag: 19 november 2025Tid: Kl 09.00 -12.00Plats: Online. Zoom-länk skickasAnmälan: se nedan \n\n\n\nAnmälan är bindande.Sveriges Marknadsförbunds integritetspolicy.
URL:https://svemarknad.se.hosting.brainforest.se/evenemang/chatgpt-for-ledare-lar-dig-utveckla-dina-strategi-medai%e2%80%91drivet-stod/
CATEGORIES:Kurser
ATTACH;FMTTYPE=image/jpeg:https://svemarknad.se.hosting.brainforest.se/wp-content/uploads/2025/08/Lotta-Salgado_KVADRAT-1-scaled.jpg
END:VEVENT
END:VCALENDAR