BEGIN:VCALENDAR
VERSION:2.0
PRODID:-//Sveriges Marknadsförbund - ECPv6.7.0//NONSGML v1.0//EN
CALSCALE:GREGORIAN
METHOD:PUBLISH
X-WR-CALNAME:Sveriges Marknadsförbund
X-ORIGINAL-URL:https://svemarknad.se.hosting.brainforest.se
X-WR-CALDESC:Events for Sveriges Marknadsförbund
REFRESH-INTERVAL;VALUE=DURATION:PT1H
X-Robots-Tag:noindex
X-PUBLISHED-TTL:PT1H
BEGIN:VTIMEZONE
TZID:Europe/Stockholm
BEGIN:DAYLIGHT
TZOFFSETFROM:+0100
TZOFFSETTO:+0200
TZNAME:CEST
DTSTART:20250330T010000
END:DAYLIGHT
BEGIN:STANDARD
TZOFFSETFROM:+0200
TZOFFSETTO:+0100
TZNAME:CET
DTSTART:20251026T010000
END:STANDARD
END:VTIMEZONE
BEGIN:VEVENT
DTSTART;TZID=Europe/Stockholm:20251212T100000
DTEND;TZID=Europe/Stockholm:20251212T120000
DTSTAMP:20260423T121741
CREATED:20250813T122135Z
LAST-MODIFIED:20250929T111128Z
UID:63954-1765533600-1765540800@svemarknad.se.hosting.brainforest.se
SUMMARY:Copywriting med AI | Skapa smartare texter utan att förloradet mänskliga uttrycket
DESCRIPTION:Kurslängd 2 timmar \n\n\n\nAI förändrar hur vi skapar och optimerar textbaserat innehåll och öppnar upp nyamöjligheter för dig som arbetar med kommunikation. Denna kurs ger dig en praktiskintroduktion till hur du använder AI-verktyg som ett effektivt stöd i hela skrivprocessen\,från idé till färdig text. Perfekt för egenföretagare\, marknadsförare ellerkommunikatörer. \n\n\n\nDu lär dig hur AI kan generera\, analysera och förbättra texter för olika digitala kanaler\,samtidigt som du behåller den mänskliga tonen\, kreativiteten och varumärketsidentitet. Genom exempel\, övningar och konkreta metoder får du insikter i hur du skriversmartare\, inte mindre mänskligt. \n\n\n\nEfter kursen kommer du att kunna skapa effektiva prompts\, redigera AI-genereratinnehåll och använda AI strategiskt för att vässa dina texter\, spara tid och frigöra kreativkapacitet.Kursen kräver inga förkunskaper. \n\n\n\nKursinnehåll\n\n\n\nUnder denna kurs kommer du att: \n\n\n\n\nFå insikt i hur AI förändrar rollen som copywriter och möjligheterna inommarknadsföring\n\n\n\nArbeta praktiskt med att ta fram rubriker\, annonstexter\, inlägg för sociala medieroch bloggar med stöd av AI\n\n\n\nLära dig att finjustera AI-genererat innehåll så att det speglar ditt varumärkes röstoch tonalitet\n\n\n\nTräna på att formulera prompts som styr AI:n mot önskat resultat\n\n\n\nLär dig om vanliga misstag inom AI och text\n\n\n\n\nKurs längd\n\n\n\n2 timmar \n\n\n\nKursledare\n\n\n\nMoa Wilén är marknadskoordinator och contentstrateg på Salgado Kommunikation\, därhon dagligen arbetar med AI-verktyg för att effektivisera och förädla det kreativaarbetet. Hon har en akademisk bakgrund inom medievetenskap och sociologi och är enuppskattad föreläsare på bland annat Stockholm School of Business ochMedieinstitutet. Moas erfarenhet av marknadsföring i praktiken gör att kursen utgår frånverkliga behov och situationer som du som deltagare direkt kan känna igen dig i \n\n\n\n\n\n\n\nKursdatum 12 december 2025\n\n\n\nAnmälan: gör du nedanPris: 3.995 kr + moms för medlem (4.995 kr icke medlem)Kursen sker live online och du kommer att få en länk till Zoom. \n\n\n\nDag: 12 december 2025Tid: Kl 10.00-12.00Plats: Online. Zoom-länk skickasAnmälan: se nedan \n\n\n\nAnmälan är bindande.Sveriges Marknadsförbunds integritetspolicy.
URL:https://svemarknad.se.hosting.brainforest.se/evenemang/copywriting-med-ai-skapa-smartare-texter-utan-att-forloradet-manskliga-uttrycket/
CATEGORIES:Kurser
ATTACH;FMTTYPE=image/webp:https://svemarknad.se.hosting.brainforest.se/wp-content/uploads/2024/04/moa-wilen.webp
END:VEVENT
END:VCALENDAR