BEGIN:VCALENDAR
VERSION:2.0
PRODID:-//Sveriges Marknadsförbund - ECPv6.7.0//NONSGML v1.0//EN
CALSCALE:GREGORIAN
METHOD:PUBLISH
X-ORIGINAL-URL:https://svemarknad.se.hosting.brainforest.se
X-WR-CALDESC:Events for Sveriges Marknadsförbund
REFRESH-INTERVAL;VALUE=DURATION:PT1H
X-Robots-Tag:noindex
X-PUBLISHED-TTL:PT1H
BEGIN:VTIMEZONE
TZID:Europe/Stockholm
BEGIN:DAYLIGHT
TZOFFSETFROM:+0100
TZOFFSETTO:+0200
TZNAME:CEST
DTSTART:20260329T010000
END:DAYLIGHT
BEGIN:STANDARD
TZOFFSETFROM:+0200
TZOFFSETTO:+0100
TZNAME:CET
DTSTART:20261025T010000
END:STANDARD
END:VTIMEZONE
BEGIN:VEVENT
DTSTART;TZID=Europe/Stockholm:20260616T090000
DTEND;TZID=Europe/Stockholm:20260616T094500
DTSTAMP:20260424T085051
CREATED:20260304T143230Z
LAST-MODIFIED:20260422T120158Z
UID:66878-1781600400-1781603100@svemarknad.se.hosting.brainforest.se
SUMMARY:Varumärkesresa med Strawberry
DESCRIPTION:Webbinarium med Cecilia Flodin\, Director of Marketing Hotel Operations Strawberry\n\n\n\nCecilia berättar om storyn\, omprofileringen (rebrandingen)\, framgångsrika kampanjer och hur de arbetat strategiskt med sin varumärkesresa. Strawberry har vunnit flera priser för deras största kampanjer.  \n\n\n\nHäng med på en spännande dragning om Strawberrys varumärkesresa! En story om hur vi gick från noll kännedom – där Google bokstavligen trodde att vi var en faktisk frukt – till att bli ett av Nordens mest välkända varumärken. \n\n\n\nUnder webbinariet kommer Cecilia att dela med sig av resan bakom kulisserna: \n\n\n\n\nStrategisk omprofilering: Hur vi arbetat med vår omfattande rebranding och de framgångsrika kampanjer som gett oss flera tunga priser längs vägen.\n\n\n\nClarion Collection blir Home Hotel: Jag berättar om det strategiska arbetet med att omprofilera Clarion Collection till Home Hotel.\n\n\n\nLanseringen av Stopover: En närmare titt på vår senaste hotellkedja – ett helt nytt koncept skräddarsytt för alla ”roadrunners” ute på vägarna.\n\n\n\n\n\n\n\n\nFöreläsare:\n\n\n\nCecilia Flodin\, Director of Marketing Hotel Operations\, StrawberryFritt för medlemmar! \n\n\n\nVarmt välkommen!\n\n\n\nAnmälan:\n\n\n\n1. Anmäl dig nedan.2. En timme innan webbinariet får du länken för att kunna delta. \n\n\n\nDag: 16 juniTid: kl 09.00 – 09.45Plats: Online via Google MeetAnmälan: se nedan
URL:https://svemarknad.se.hosting.brainforest.se/evenemang/strawberrys-varumarkesresa/
CATEGORIES:Webbinarium
ATTACH;FMTTYPE=image/jpeg:https://svemarknad.se.hosting.brainforest.se/wp-content/uploads/2025/05/Cecilia_flodin_-14-3.jpg
END:VEVENT
END:VCALENDAR