BEGIN:VCALENDAR
VERSION:2.0
PRODID:-//Sveriges Marknadsförbund - ECPv6.7.0//NONSGML v1.0//EN
CALSCALE:GREGORIAN
METHOD:PUBLISH
X-ORIGINAL-URL:https://svemarknad.se.hosting.brainforest.se
X-WR-CALDESC:Events for Sveriges Marknadsförbund
REFRESH-INTERVAL;VALUE=DURATION:PT1H
X-Robots-Tag:noindex
X-PUBLISHED-TTL:PT1H
BEGIN:VTIMEZONE
TZID:Europe/Stockholm
BEGIN:DAYLIGHT
TZOFFSETFROM:+0100
TZOFFSETTO:+0200
TZNAME:CEST
DTSTART:20250330T010000
END:DAYLIGHT
BEGIN:STANDARD
TZOFFSETFROM:+0200
TZOFFSETTO:+0100
TZNAME:CET
DTSTART:20251026T010000
END:STANDARD
END:VTIMEZONE
BEGIN:VEVENT
DTSTART;TZID=Europe/Stockholm:20250204T123000
DTEND;TZID=Europe/Stockholm:20250204T160000
DTSTAMP:20260424T030935
CREATED:20241030T152221Z
LAST-MODIFIED:20241212T143709Z
UID:60749-1738672200-1738684800@svemarknad.se.hosting.brainforest.se
SUMMARY:Marknadsföring & Annonsering på LinkedIn
DESCRIPTION:Lärarledd utbildning\n\n\n\n\n\nTvå halvdagar\, 8 timmars lärarledd utbildning\n\n\n\n4 feb kl 12.30-16.00 + 5 feb kl 09.00-12:30 \n\n\n\nLinkedIn har passerat 5 miljoner användare bara i Sverige och över 1 miljard globalt.\n\n\n\nOavsett om du vill nå ut med en tjänst\, en produkt eller ett varumärke så är LinkedIn ett fantastiskt redskap för att på ett kostnadseffektivt sätt nå ut med ditt budskap mot precis rätt målgrupp.Du får hjälp att navigera i LinkedIn’s alla möjligheter för att hitta din väg mot nya kunder och ökad varumärkeskännedom – på ett effektivt sätt.Det här är en fullmatad utbildning där du under utbildningen arbetar praktiskt med LinkedIn. Efter utbildningen kommer du direkt få användning av dina nya kunskaper och dessutom ingår 3st uppföljningsmöte för ytterligare fördjupning och kunskapssäkring.Utbildningen leds av Linda Björck\, en av Sveriges främsta LinkedIn-experter och som ingår i en expertgrupp utvald av LinkedIn Norden. Nyligen medverkade Linda i TV4 Nyhetsmorgon och pratade om LinkedIn.Den här utbildningen riktar sig till dig som jobbar inom marknadsföring & kommunikation och som arbetar med marknadsföring av ett företag på LinkedIn. \n\n\n\nLinkedIn-utbildningen är lärarledd och leds av Linda Björck:\n\n\n\nLinda har arbetat med marknadsföring  i 25 år\, är utbildad social media manager och expert på LinkedIn. \n\n\n\n\n\n\n\nTänk på:Den här utbildningen är för dig som arbetar med en företagssida och du behöver vara superadmin på en företagssida. \n\n\n\nDet här lär du dig:\n\n\n\nDen här utbildningen\, fördelad på två dagar\, riktar sig till dig vill förbättra effekten av företagets närvaro\, nå ut med ett budskap till rätt målgrupp och arbeta strategiskt med LinkedIn. \n\n\n\n\nEffektivisera & optimera närvaron.\n\n\n\nSå gör du företagssidan intressant & sökbar.\n\n\n\nLinkedIn’s statistikverktyg\, vilka når du idag?\n\n\n\nLinkedIns alla format – vilket är bäst\, egentligen?\n\n\n\nFå starkare varumärke & fler konverteringen med rätt innehåll.\n\n\n\nHur algoritmerna fungerar och hur du får bästa effekt på dina inlägg.\n\n\n\nVanliga  och dyra misstag gällande annonsering i campaign manager.\n\n\n\nVikten av en handlingsplan – jobba strategiskt och strukturerat\, eller inte alls!\n\n\n\nMedarbetarnas roll & vad som är viktigt på deras profiler som ambassadör för varumärket.\n\n\n\nPlus en on-demand kurs\, kom igång med annonsering på LinkedIn – tillgänglig i 3 månader.\n\n\n\n\nKursledare Linda Björck berättar\,\n\n\n\n\n\n\n\n\n\nDet här lär du dig:\n\n\n\nDen här utbildningen\, fördelad på två dagar\, riktar sig till dig vill förbättra effekten av företagets närvaro\, nå ut med ett budskap till rätt målgrupp och arbeta strategiskt med LinkedIn. \n\n\n\n\nEffektivisera & optimera närvaron.\n\n\n\nSå gör du företagssidan intressant & sökbar.\n\n\n\nLinkedIn’s statistikverktyg\, vilka når du idag?\n\n\n\nLinkedIns alla format – vilket är bäst\, egentligen?\n\n\n\nFå starkare varumärke & fler konverteringen med rätt innehåll.\n\n\n\nHur algoritmerna fungerar och hur du får bästa effekt på dina inlägg.\n\n\n\nVanliga  och dyra misstag gällande annonsering i campaign manager.\n\n\n\nVikten av en handlingsplan – jobba strategiskt och strukturerat\, eller inte alls!\n\n\n\nMedarbetarnas roll & vad som är viktigt på deras profiler som ambassadör för varumärket.\n\n\n\nPlus en on-demand kurs\, kom igång med annonsering på LinkedIn – tillgänglig i 3 månader.\n\n\n\n\nInvestering – Du får:\n\n\n\n\nTvå halvdagar\, 8 timmars lärarledd utbildning\n\n\n\nAnpassat fördjupningsmaterial samt presentation\n\n\n\nEn on-demand (inspelad) kurs\, kom igång med annonsering på LinkedIn (14 videos + checklistor)\n\n\n\n3x45min gemensamt Zoom-möte för kompetenssäkring\n\n\n\n\nKursdatum 4+ 5 februari 2025 (2 halvdagar)\n\n\n\nAnmälan: gör du nedanPris digitalt: 9.995 kr + moms för medlem (14.995 kr icke medlem) du kommer att få en länk till ZoomPris på plats: 10.995 kr + moms inkl lunch dag 2 & fika båda dagarna. (15.995 kr icke medlem)Adress: Genetor\, Sundstorget 2\, Helsingborg (Några minuters promenad från centralen och parkering utanför om någon kommer med bil.) \n\n\n\nDag: 4 + 5 februari 2025Tid: 4 feb kl 12.30 – 16.00\, 5 feb kl 09.00-12:30Plats: På plats eller Online. Zoom-länk skickasAnmälan: se nedan (Välj om du vill vara med på plats i Helsingborg eller digitalt.)  \n\n\n\nAnmälan är bindande.Sveriges Marknadsförbunds integritetspolicy.
URL:https://svemarknad.se.hosting.brainforest.se/evenemang/marknadsforing-annonsering-pa-linkedin/
CATEGORIES:Kurser
ATTACH;FMTTYPE=image/jpeg:https://svemarknad.se.hosting.brainforest.se/wp-content/uploads/2024/10/Linda-Bjorck.jpeg
END:VEVENT
BEGIN:VEVENT
DTSTART;TZID=Europe/Stockholm:20250206T090000
DTEND;TZID=Europe/Stockholm:20250206T101500
DTSTAMP:20260424T030935
CREATED:20241016T092047Z
LAST-MODIFIED:20250206T065159Z
UID:60541-1738832400-1738836900@svemarknad.se.hosting.brainforest.se
SUMMARY:Spaningar 2025 i ICC:s nya marknadsföringskod - dag 1
DESCRIPTION:Teamslänken är skickad i mejl kl 07.45. (Se ev skräpkorgen om du inte hittar länken eller mejla/ sms annika@svemarknad.se 073 – 052 00 91 så skickas länken igen) \n\n\n\nDAG 1 – 6 februari 2025 kl 09.00 – 10.15 Boka nedanDAG 2 – 7 februari 2025 kl 09.00 – 10.15 Boka här \n\n\n\nDen nya marknadsföringskoden\, som träder i kraft 2025\, innehåller uppdateringar inom områden som AI-användning/ AI-genererad reklam\, influencer marketing och algoritmer samt innehåller ett nytt kapitel om reklam riktad till barn och unga\, miljökommunikation och mångfald. Viktigt för oss alla som arbetar med marknadsföring och kommunikation att säkerställa nya kunskap i och med nya lagkraven. \n\n\n\nFräscha upp dina kunskaper!\n\n\n\nWebbinarium med Sveriges Marknadsförbunds experter.\n\n\n\nPassa på att få kunskap om flera viktiga områden frånSveriges Marknadsförbunds rådgivare. Snabb och effektiv uppdatering på många olika områden på samma dag.\n\n\n\nLäs mer om våra rådgivare nedan. Experterna har 15 minuters talartid.  \n\n\n\n6 februari 2025 Kl 09.00 – 10.15\n\n\n\nSpaningar i ICCs nya marknadsföringskod inom områdena:AI Artificiell Intelligens\, Juridik – marknadsrättsfrågor\, Medieval\, Rörlig kommunikation\, B2B frågor\n\n\n\nKonferencier \n\n\n\nFrancesca O’Brien vd Sveriges Marknadsförbund\n\n\n\n\n\n\n\nAI Artificiell Intelligens\n\n\n\nKl 09.00 Sara Öhman\n\n\n\n\n\n\n\nSara Öhman har sedan 2010 arbetat med flertalet marknadsorganisationer och dess utveckling av digitala kanaler\, till exempel Etihad Airways\, Getinge\, International Comittee of Red Cross och Asics. Idag verkar hon som fristående konsult med att stötta marknadsansvariga och deras chefer i att utveckla arbetet med moderna marknadsföringsmetoder och ställa om till ett mer datadrivet arbetssätt\, där arbetet med AI är en självklar del i att utveckla verktygslådan. \n\n\n\nJuridik – marknadsrättsfrågor\n\n\n\nKl 09.15 Christer Löfgren\n\n\n\n\n\n\n\nChrister Löfgren är jurist på IP-byrån Bergenstråhle & Partners och arbetar med kunder när det gäller IP-strategi\, registreringsskydd av varumärken\, design/formgivning och patent samt marknadsföringsrätt och tvister. I 28 år har Christer Löfgren följt\, granskat\, förklarat och kommenterat rättsutvecklingen inom immaterial- och marknadsrätten i Sverige och EU\, men också närliggande processrätt\, och vad den innebär för rättighetshavare och ombud. Christer var även redaktör i ca 15 år från starten av Bonnier Ledarskaps handbok om varumärken. Han har sedan starten 1995 t.o.m. 2020 som föredragande och sekreterare i juryn för SIGNUMPRISET granskat varumärkesarbetet\, marknadsmässigt och juridiskt\, hos alla nominerade. \n\n\n\nMedieval – strategi och transformation\n\n\n\nKl 09.30 Ebba Tärbe\n\n\n\n\n\n\n\nEbba Tärbe är rådgivare inom strategi\, media\, kommunikation och transformation. Hon arbetar på mediebyrån Scream. Ebba har lång erfarenhet av att arbeta med frågor gällande medieval\, kommunikationsstrategi\, datadriven marknadsföring och uppföljning av marknadsföringsinsatser för både svenska och internationella företag.Ebba har bakgrund från medie- och reklambyråbranschen och har även arbetat på marknadssidan. \n\n\n\nRörlig kommunikation\n\n\n\nKl 09.45 Mats Karsvall\n\n\n\n\n\n\n\nMats Karsvall är rådgivare med fokus på hur filmmediet kan användas på ett värdeskapande sätt i kommunikations-arbetet. Mats är kreativ chef/exekutiv producent och har arbetat med rörliga medier i över 20 år och har lång erfarenhet av kommunikation och varumärkesbyggande – från strategi och koncept till produktion. Han har arbetat med kampanjer för varumärken som Storytel\, Izettle\, Kaluha och Ericsson men också producerat och regisserat drama som tävlat i internationella sammanhang. Mats har också undervisat samt är anlitad föreläsare. \n\n\n\nB2B\n\n\n\nKl 10.00 Mikael Stange\n\n\n\n\n\n\n\nMikael Stange har + 20 års erfarenhet av marknad- och kommunikation inom B2B (de senaste sex åren som marknadschef för DHL) och är väl medveten om de utmaningar du inom en B2B-tung organisation kan ställas inför. Med Mikael kan du bolla marknadsföringsstrategier\, sponsorskap\, aktivering av koncept och kampanjer. Men också hur du kan jobba tightare och skapa förståelse för marknads roll gentemot sälj. Eller hur du “B2B” jobbar långsiktigt med varumärkesbyggande. Mikael har en bakgrund först inom journalistik\, därefter som copywriter och har även undervisat i kreativt skrivande på Forsbergs skola. Mellan 2022-2024 satt Mikael som styrelsemedlem i Sveriges Marknadsförbund. Idag jobbar Mikael i det egna bolaget Commercial Insights\, som specialiserar sig på insiktsdriven kommunikation\, rapporter och underlag.  \n\n\n\nHar du en fråga till Sveriges Marknadsförbunds rådgivare redan nu? Hör gärna av dig! info@svemarknad.se\n\n\n\nFritt för medlemmar!\n\n\n\nLänk till att boka även 7 februari (dag 2)\n\n\n\nAnmälan 6 februari\n\n\n\nOm AI Artificiell Intelligens\, Juridik – marknadsrättsfrågor\,Konsumentbeteende\, Rörlig kommunikation\, B2B\n\n\n\n1. Anmäl dig nedan.2. En timme innan webbinariet får du länken för att kunna delta.Dag: 6 februariTid: kl 09.00 – 10.15Plats: Online via TeamsAnmälan: \n\n\n\n\n\n\n	 \n\n\nNoshow debiteras\n\n\n\nAvbokning sker senast 2 vardagar innan eventet men platsen kan alltid överlåtas till annan person – namnjustering sker till annika@svemarknad.se.Vid utebliven närvaro utgår avgift på 495 kr ex moms. Vi reserverar oss för ev. ändringar i programmet.
URL:https://svemarknad.se.hosting.brainforest.se/evenemang/spaningar-2025/
CATEGORIES:Webbinarium
ATTACH;FMTTYPE=image/jpeg:https://svemarknad.se.hosting.brainforest.se/wp-content/uploads/2025/01/ALLAT_TOOTIE_DEC-2024.jpg
END:VEVENT
BEGIN:VEVENT
DTSTART;TZID=Europe/Stockholm:20250207T090000
DTEND;TZID=Europe/Stockholm:20250207T101500
DTSTAMP:20260424T030935
CREATED:20240124T080000Z
LAST-MODIFIED:20250207T060925Z
UID:60868-1738918800-1738923300@svemarknad.se.hosting.brainforest.se
SUMMARY:Spaningar 2025 i ICC:s nya marknadsföringskod – dag 2
DESCRIPTION:Teamslänken mejlas till anmälda ca kl 07.45. (Se ev skräpkorgen om du inte hittar länken eller mejla/ sms annika@svemarknad.se 073 – 052 00 91 så skickas länken igen) \n\n\n\nDAG 1 – 6 februari 2025 kl 09.00 – 10.15 Boka härDAG 2 – 7 februari 2025 kl 09.00 – 10.15 Boka nedan \n\n\n\nDen nya marknadsföringskoden\, som träder i kraft 2025\, innehåller uppdateringar inom områden som AI-användning/ AI-genererad reklam\, influencer marketing och algoritmer samt innehåller ett nytt kapitel om reklam riktad till barn och unga\, miljökommunikation och mångfald. Viktigt för oss alla som arbetar med marknadsföring och kommunikation att säkerställa nya kunskap i och med nya lagkraven. \n\n\n\nFräscha upp dina kunskaper!\n\n\n\nWebbinarium med Sveriges Marknadsförbunds experter.\n\n\n\nPassa på att få kunskap om flera viktiga områden frånSveriges Marknadsförbunds rådgivare.Snabb och effektiv uppdatering på många olika områden på samma dag.\n\n\n\nLäs mer om våra rådgivare nedan. Experterna har 15 minuters talartid. \n\n\n\n7 februari 2025 Kl 09.00 – 10.15\n\n\n\nSpaningar i ICCs nya marknadsföringskod inom områdena:Varumärkesposition och utveckling\, Byråval\, HållbarhetEmployer Branding\, Konsumentbeteende \n\n\n\nKonferencier\n\n\n\nFrancesca O’Brien vd Sveriges Marknadsförbund\n\n\n\n\n\n\n\nVarumärkesposition och utveckling\n\n\n\nKl 09.00 Peter Wissing\n\n\n\n\n\n\n\nPeter Wissing är senior konsult med en tydlig inriktning på varumärke och utveckling av varumärken på olika marknader. Han samarbetar med flera av Sveriges allra starkaste varumärken. Peters insikter ger en samsyn runt varumärkets aktuella position i målgrupperna\, vilket gör det enklare att sätta varumärkesmål. Målen blir konkreta och enkla att kommunicera i hela företagets organisation. Peters analyser stannar sällan där utan går vidare med varumärkets operativa egenskaper\, t ex prisnivå\, kvalitet och service. Egenskaper som i sin tur påverkar målgruppens syn på varumärket och den upplevelse varumärket ger. Dessa operativa egenskaper är något som du som varumärkesägare kan arbeta vidare med och utveckla\, så att den övergripande varumärkespositionen utvecklas positivt. \n\n\n\nByråval\n\n\n\nKl 09.15 Ann Baron\n\n\n\n\n\n\n\nAnn Baron är rådgivare med fokus Byråval.Med bred erfarenhet från kommunikation på reklambyrå\, i ideell organisation\, i det privata och offentliga näringslivet och under många år som egen företagare inom försäljning\, digitalt utvecklingsarbete\, affärsutveckling\, varumärkesinsikter\, strategiskt och operativt arbete på många olika plattformar förstår jag vikten av ett bra partnersamarbete. Allt från att vara lärare på Berghs School of Communications till marknadsansvarig inom flertalet life science företag. Allt sammantaget har det gett mig kontinuerlig utveckling och en\, blandad och bred erfarenhet. Uppdragen har ofta inkluderat allt från intern & extern kommunikation\, både B2B och B2C\, varumärkeshantering\, mediastrategi\, varumärkesvård\, övergripande projektledning/koordination av både digitala och mer analoga uppdrag inkl. uppdrag ett antal som handlat om att utveckla affären att bli tidsenlig\, modern och kundanpassad. Under mina uppdrag har arbete med utvärdering\, genomlysning och upphandling av byrå och kommunikationstjänster ofta ingått. \n\n\n\nHållbarhet\n\n\n\nKl 09.30 Kaj Török\n\n\n\n\n\n\n\nKaj Török är Chief Reputation & Chief Sustainability Officer Max Burgers. Kaj har flera gånger utsetts till en av Sveriges 100 mest inflytelserika personer i gröna frågor och han har arbetat med kommunikation och hållbarhet sedan 1996 vilket gjort honom till en pionjär inom området.Kaj har en bakgrund från bland annat Det Naturliga Steget. Han var också med och grundade hållbarhetskommunikationsbyrån Futerra Stockholm. \n\n\n\nEmployer Branding\n\n\n\nKl 09.45 Christine Bard\n\n\n\n\n\n\n\nChristine Bard\, är senior konsult inom Employer Branding\, insiktsarbeten och varumärkesutveckling. Hon har lång erfarenhet av att utveckla och stärka samarbetet mellan Marknad\, Kommunikation och HR inom stora organisationer. Syftet med att överbrygga gapet är skapa samarbetsdrivna strategier för att attrahera\, rekrytera\, behålla och utveckla såväl medarbetare som kunder.  \n\n\n\nKonsumentbeteende\n\n\n\nKl 10.00 Henrik Sjödin\n\n\n\n\n\n\n\nHenrik Sjödin är ekonomie doktor från Handelshögskolan\, med inriktning på konsumentbeteende och marknadsföring. Sedan 2013 är han verksam som strateg och partner på Åkestam Holst NoA. Från uppdrag med företag inom vitt skilda branscher har han bred erfarenhet av insiktsarbete\, och med sin forskarbakgrund är han passionerat intresserad av beteendevetenskap och användbara metoder för att förstå konsumenter.Henrik drivs av att sätta fingret på beteenden som driver verksamheter framåt och att göra komplexa samband mer begripliga\, med hjälp av fakta\, kunskap och pedagogik.  \n\n\n\nHar du en fråga till Sveriges Marknadsförbunds rådgivare redan nu? Hör gärna av dig! info@svemarknad.se\n\n\n\nFritt för medlemmar!\n\n\n\nLänk till att boka även 6 februari (dag 1)\n\n\n\nAnmälan\n\n\n\n1. Anmäl dig nedan.2. En timme innan webbinariet får du länken för att kunna delta.Dag: 7 februari Tid: kl 09.00 – 10.15Plats: Online via TeamsAnmälan: \n\n\n\n\n\n\n\n\n	 \n\n\nNoshow debiteras\n\n\n\nAvbokning sker senast 2 vardagar innan eventet men platsen kan alltid överlåtas till annan person – namnjustering sker till annika@svemarknad.se.Vid utebliven närvaro utgår avgift på 495 kr ex moms. Vi reserverar oss för ev. ändringar i programmet.
URL:https://svemarknad.se.hosting.brainforest.se/evenemang/spaningar-2025-boka-2-halvdagar/
CATEGORIES:Webbinarium
ATTACH;FMTTYPE=image/jpeg:https://svemarknad.se.hosting.brainforest.se/wp-content/uploads/2024/10/alla_tootie_sep-2024.jpg
END:VEVENT
BEGIN:VEVENT
DTSTART;TZID=Europe/Stockholm:20250212T090000
DTEND;TZID=Europe/Stockholm:20250212T160000
DTSTAMP:20260424T030935
CREATED:20241203T142511Z
LAST-MODIFIED:20241205T123909Z
UID:61320-1739350800-1739376000@svemarknad.se.hosting.brainforest.se
SUMMARY:Kurs i Adobe Express (Göteborg)
DESCRIPTION:Kurs på plats i Göteborg \n\n\n\nAdobe Express – är ett onlineverktyg med en kraftfull uppsättning av redigeringsverktyg och mängder av färdiga mallar som öppnar dörrar till att skapa övertygande visuellt innehåll för alla former av marknadsföringsmaterial. Denna kurs i Adobe Express passar dig som arbetar som marknadsförare som vill snabbt kunna skapa professionell grafik och video för sociala medier och digitala kampanjer. \n\n\n\n\n\n\n\nOm du vill lära dig hur du snabbt skapar innehåll som bilder\, grafik\, design samt video för sociala medier och digitala kampanjer\, kan detta absolut vara rätt kurs för dig. Adobe Express är det kostnadsfria Allt-i-ett-verktyget från Adobe som hjälper dig att uppnå dessa saker. \n\n\n\nMed detta verktyg kommer du att kunna använda olika mallar för att snabbt skapa ditt innehåll. Du behöver bara anpassa rätt mall efter dina behov och du kommer att vara klar på nolltid. Du kan även skapa bilder och grafik för trycksaker eller presentationer. \n\n\n\nI den här kursen kommer du att börja med grunderna\, som hur du ställer in Adobe Express 2024 och lär känna dess huvudfunktioner. Efter det kommer vi att gå steg för steg igenom mer avancerade saker\, som att redigera video och skapa fantastiska bilder för sociala medier – som Instagram. Du kommer också att lära dig att förstå och använda Adobe Firefly Ai\, vilket ger dig ännu mer kreativ kraft. \n\n\n\nDenna kurs i Adobe Express kan passa dig som även vill designa enkla webbplatser\, broschyrer\, presentationer\, e-böcker och mycket mer för att stärka din marknadskommunikation. \n\n\n\nGenerativa AI med Adobe Firefly\n\n\n\nUnder kursens gång\, går vi även genom de senaste funktionerna som drivs av Firefly\, en serie generativa AI-verktyg som finns både i Adobe Express samt i andra Adobe program\, som Photoshop\, Premiere och Illustrator. \n\n\n\nVideo för sociala medier\n\n\n\nNär det gäller innehåll på sociala medier\, är video så klart kung. Med Adobe Express allt-i-ett-redigerare kan du snabbt och enkelt skapa videor – oavsett om du animerar statiskt innehåll\, börjar från grunden med din egen video\, använder Stock-video eller hittar inspiration från en videomall. Vi kommer guida dig genom hela processen! \n\n\n\nKursinnehåll\n\n\n\n\nAnvändargränssnitt /inställningar\n\n\n\nSkapa din egen layout & design\n\n\n\nBildimport /redigeringsfunktioner\n\n\n\nInfoga och redigera text\n\n\n\nArbeta med animationer\n\n\n\nAtt välja rätt mall till ditt projekt\n\n\n\nArbete med lager\n\n\n\nLänka Photoshop / Illustrator-tillgångar\n\n\n\nSkapa AI genererade bilder\n\n\n\nAllt om nya Adobe FireFly\n\n\n\n\n\nFrilägga /justera storlek på bilder\n\n\n\nImplementera ditt eget varumärke\n\n\n\nArbeta med Video för sociala medier\n\n\n\nBeskära /trimma video\n\n\n\nBild\, text och ljud i video\n\n\n\nExportera rätt video-format\n\n\n\nSynkronisera med Adobe Creative Cloud\n\n\n\nKonvertera filer\n\n\n\nGenerera egna QR koder\n\n\n\nSchemalägg dina kampanjer\n\n\n\n\nKursledare: David Klein\n\n\n\nDavid har arbetat inom reklam & utbildningsbranschen i över 25 år och är en efterfrågad kursledare /föreläsare inom Marknadsföring\, Sociala Medier och Digital Design. Davids största passion är att inspirera och motivera framåttänkande människor och företag att uppfylla deras inneboende potential. David är även grundaren av utbildningsföretaget Grafiska Akademin samt Internet i fokus – södra Sveriges största konferens inom Sociala Medier & Digital Marknadsföring. \n\n\n\nKursdatum 12 februari 2025\n\n\n\nAnmälan: gör du nedanPris: 7.900 kr + moms för medlem (14.900 kr icke medlem) \n\n\n\nDag: 12 februari 2025Tid: 09.00-16.00Plats: Stampgatan 14\, GöteborgAnmälan: se nedanFrukost och lunch ingår \n\n\n\nAnmälan är bindande.Sveriges Marknadsförbunds integritetspolicy.
URL:https://svemarknad.se.hosting.brainforest.se/evenemang/kurs-i-adobe-express-goteborg/
CATEGORIES:Kurser
ATTACH;FMTTYPE=image/png:https://svemarknad.se.hosting.brainforest.se/wp-content/uploads/2024/12/kurs-i-adobe-express-2023_Halva.png
END:VEVENT
BEGIN:VEVENT
DTSTART;TZID=Europe/Stockholm:20250217T170000
DTEND;TZID=Europe/Stockholm:20250217T200000
DTSTAMP:20260424T030935
CREATED:20241121T114545Z
LAST-MODIFIED:20250210T090634Z
UID:61135-1739811600-1739822400@svemarknad.se.hosting.brainforest.se
SUMMARY:Välkommen på Bio
DESCRIPTION:F u l l b o k a t – anmäl dig till väntelistan nedan!  \n\n\n\nVi bjuder på bio 17 februari\n\n\n\nTa med en kollega / vän och se filmen Mad about the Boy med Bridget Jones Filmgenre: Drama\, komedi\, romantikPopcorn och läsk/mineralvatten ingår. \n\n\n\n\n\n\n\nVarmt välkommen – hoppas vi ses!\n\n\n\nDag: 17 februariTid: kl 17.00 – 20.00. Insläpp från 17.00. Dörrarna stängs 17.30.Plats: Biograf Hötorget\, Filmstaden Sergel\, Stockholm \n\n\n\nFilmen Mad about the Boy – se biotrailer \n\n\n\n\n\n\n\n\n\nAnmälan:\n\n\n\nDag: 17 februari Tid: kl 17.00 – 20.00 (Insläpp från 17.00. Dörrarna stängs 17.30)Plats: Filmstaden\, Sergel\, Hötorget 1\, StockholmPris: Kostnadsfritt för medlemmar. Popcorn och läsk/mineralvatten ingår.Du kan boka 2 biljetter  – en till dig och en till din vän. \n\n\n\nDu kan fylla 2 i antal och boka ditt namn 2 gånger för att få 2 biljetter. Eller skriv din väns namn och mejladress som medlem i bokningen. \n\n\n\nFullbokat – Anmäl dig till väntelistan nedan:\n\n\n\n\n\n\n	 \n\n\n\n\n\n	 \n\n\nNoshow debiterasAvbokning sker senast 2 vardagar innan eventet men platsen kan alltid överlåtas till annan person – namnjustering sker till annika@svemarknad.seVid utebliven närvaro utgår avgift på 495 kr ex moms. Vi reserverar oss för ev. ändringar i programmet.
URL:https://svemarknad.se.hosting.brainforest.se/evenemang/valkommen-pa-bio-2/
CATEGORIES:After Work,Aktiviteter
ATTACH;FMTTYPE=image/jpeg:https://svemarknad.se.hosting.brainforest.se/wp-content/uploads/2024/11/skarmklipp_filmstaden-bio-600x600-1.jpg
END:VEVENT
BEGIN:VEVENT
DTSTART;TZID=Europe/Stockholm:20250218T083000
DTEND;TZID=Europe/Stockholm:20250218T123000
DTSTAMP:20260424T030935
CREATED:20241203T113334Z
LAST-MODIFIED:20241213T073959Z
UID:61303-1739867400-1739881800@svemarknad.se.hosting.brainforest.se
SUMMARY:Kundupplevelsen som konkurrensfördel – Customer Experience (CX)
DESCRIPTION:Den här kursen är för dig som vill ta ett helhetsgrepp om kundupplevelsen och göra den till en strategisk motor för tillväxt. Under kursens gång kommer du inte bara att få teoretiska insikter\, utan också praktiska verktyg som direkt kan appliceras i din organisation. Den här kursen ger dig insikter och praktiska verktyg för att skapa kundupplevelser som stärker lojaliteten och gör att du kan konkurrera genom att erbjuda något unikt. Du lär dig att förstå vad som driver dina kunder och hur du kan omsätta den kunskapen i handling för att skapa minnesvärda upplevelser. \n\n\n\nKundupplevelsen som konkurrensfördel – Customer Experience (CX)\n\n\n\nEn av de största utmaningarna för marknadsförare idag är att tänka holistiskt och ta ansvar för hela kundresan\, inte bara den första kontakten. Framgång handlar inte bara om att attrahera kunder\, utan om att behålla dem genom att skapa en sammanhängande och minnesvärd upplevelse. Som marknadsförare har du en central roll i att skapa rätt förväntningar och bygga varumärket – men det är kundupplevelsen som avgör om kunden stannar. Den här kursen ger dig praktiska verktyg för att sätta kundens behov i centrum\, inte bara i kommunikationen\, utan i hela organisationens arbete. \n\n\n\nEn halvdagskurs i CX innefattar följande:\n\n\n\n\nÖversikt av praktiska verktyg och metoder för ett systematiskt CX-arbete\n\n\n\nIntroduktion till Customer Experience Management\n\n\n\nKundupplevelsen som konkurrensfördel och varför det är viktigt\n\n\n\nFörståelse för hur leveransen av kundupplevelser berör hela organisationen\n\n\n\nIntroduktion till ramverk för att förstå kundens behov och beteenden\n\n\n\n\nBoken Customer Experience Management på svenska blev Årets Marknadsföringsbok 2024. Boken ingår i kursen och kommer att skickas till dig vid anmälan. \n\n\n\n\n\n\n\nOm kursledaren:\n\n\n\nHelén RigamontiHeléns passion är att göra kundens röst hörd i organisationer. Hon har mer än 25 års erfarenhet som chef och har lett flera stora projekt med fokus på att förbättra kundupplevelsen i olika organisationer\, inklusive B2B\, B2C och icke-vinstdrivande  organisationer. Genom att kombinera sin expertis inom organisationsutveckling med sina roller som författare och föreläsare inspirerar Helén till kunddrivna förändringar som gör verklig skillnad. Hon föreläser regelbundet om Customer Experience (CX) och utbildar framtidens ledare i CX Management vid flera utbildningsinstitutioner.Läs mer om Helén Rigamonti här. \n\n\n\nKursdatum 18 februari 2025\n\n\n\nAnmälan: gör du nedanPris: 5.200 kr + moms för medlem (9.800 kr icke medlem)Kursen sker live online och du kommer att få en länk till Teams \n\n\n\nDag: 18 februari 2024Tid: 08.30-12.30Plats: Online. Teams-länk skickasAnmälan: se nedan \n\n\n\nAnmälan är bindande.Sveriges Marknadsförbunds integritetspolicy.
URL:https://svemarknad.se.hosting.brainforest.se/evenemang/kurs-i-cx-customer-experience/
CATEGORIES:Kurser
ATTACH;FMTTYPE=image/jpeg:https://svemarknad.se.hosting.brainforest.se/wp-content/uploads/2024/12/PP2024_38A4570-HeleneRigamonti_Kvadrat.jpg
END:VEVENT
END:VCALENDAR