BEGIN:VCALENDAR
VERSION:2.0
PRODID:-//Sveriges Marknadsförbund - ECPv6.7.0//NONSGML v1.0//EN
CALSCALE:GREGORIAN
METHOD:PUBLISH
X-WR-CALNAME:Sveriges Marknadsförbund
X-ORIGINAL-URL:https://svemarknad.se.hosting.brainforest.se
X-WR-CALDESC:Events for Sveriges Marknadsförbund
REFRESH-INTERVAL;VALUE=DURATION:PT1H
X-Robots-Tag:noindex
X-PUBLISHED-TTL:PT1H
BEGIN:VTIMEZONE
TZID:Europe/Stockholm
BEGIN:DAYLIGHT
TZOFFSETFROM:+0100
TZOFFSETTO:+0200
TZNAME:CEST
DTSTART:20250330T010000
END:DAYLIGHT
BEGIN:STANDARD
TZOFFSETFROM:+0200
TZOFFSETTO:+0100
TZNAME:CET
DTSTART:20251026T010000
END:STANDARD
END:VTIMEZONE
BEGIN:VEVENT
DTSTART;TZID=Europe/Stockholm:20250312T113000
DTEND;TZID=Europe/Stockholm:20250312T130000
DTSTAMP:20260424T011308
CREATED:20241203T133206Z
LAST-MODIFIED:20250218T204200Z
UID:61309-1741779000-1741784400@svemarknad.se.hosting.brainforest.se
SUMMARY:Lunchseminarium Göteborg 12 mars –  AI och juridiken
DESCRIPTION:Välkommen till lunchseminarium!Diskutera\, fråga\, hämta kunskap\, nätverka och mingla i Göteborg! \n\n\n\nAlexandra Ståhl\, Ebba Tapper\, Engström & Hellman Advokatbyrå\n\n\n\nAI och juridiken –Vilka möjligheter och risker finns det med att använda AI-verktyg i verksamheten?\n\n\n\nEbba Tapper och Alexandra Ståhl på Engström & Hellman Advokatbyrå bjuder på kunskap och tips i juridikens värld för oss marknadsförare!\n\n\n\nVärlden förändras snabbt och fler branscher gör intåg och använder sig dagligen av AI-system och modeller för att effektivisera sitt arbete. AI-förordningen har redan trätt i kraft men bestämmelserna kommer löpande börja tillämpas fram till och med augusti 2026. Det är alltså hög tid för berörda företag att förbereda sig och påbörja sitt arbete för att möta kraven som ställs på leverantörer och användare av AI-systemen. \n\n\n\nEftersom AI-systemen ofta kommer behandla personuppgifter är det klokt att fräscha upp minnet av vilka skyldigheter vi har enligt GDPR för behandling av personuppgifter m.m. men också titta på vad man ska tänka på inför implementeringen av AI i verksamheten. Juridik är alltid mer tillgängligt och begripligt när en erfaren advokat kan förklara och svara på frågor – detta är ett tillfälle ni inte vill missa. \n\n\n\n\nVad ska vi tänka på när vi implementerar våra nya AI-verktyg i verksamheten?\n\n\n\nHur förhåller sig GDPR till AI? \n\n\n\nVad har vi lärt oss av praxis? \n\n\n\nHur kan man tänka när det gäller hantering av personuppgifter m.h.a. AI?\n\n\n\n\nFöreläsare:Ebba Tapper  – Advokat & Partner\, Engström & Hellman AdvokatbyråAlexandra Ståhl – Biträdande jurist\, Engström & Hellman Advokatbyrå \n\n\n\n \n\n\n\nEngström & HellmanEn affärsjuridisk advokatbyrå som arbetar med compliance\, fastighetsrättsliga och bolagsrättsliga frågor\, med avtal\, transaktioner och tvist. Engström & Hellman Advokatbyrå är en progressiv aktör i en konservativ bransch. Engström & Hellman Advokatbyrå var först med att teckna kollektivavtal och är den enda byrån som är HBTQI-certifierad. Engström & Hellman Advokatbyrå blev utnämnda till årets advokatbyrå 2023 av Regi. \n\n\n\n \n\n\n\nFritt för medlemmar!\n\n\n\nAnmälan:\n\n\n\nDag: 12 marsTid: kl 11.30-13.00Plats: Engström & Hellman Advokatbyrå\, Spannmålsgatan 19\, GöteborgPris: Kostnadsfritt för medlemmar. Förtäring ingår. \n\n\n\n\n\n\n	 \n\n\nNoshow debiterasAvbokning sker senast 2 vardagar innan eventet men platsen kan alltid överlåtas till annan person – namnjustering sker till annika@svemarknad.seVid utebliven närvaro utgår avgift på 495 kr ex moms. Vi reserverar oss för ev. ändringar i programmet.
URL:https://svemarknad.se.hosting.brainforest.se/evenemang/lunchseminarium-goteborg-12-mars-ai-och-juridiken/
CATEGORIES:Lunchseminarium,Nätverk
ATTACH;FMTTYPE=image/jpeg:https://svemarknad.se.hosting.brainforest.se/wp-content/uploads/2024/12/Bada-bada-.jpg
END:VEVENT
BEGIN:VEVENT
DTSTART;TZID=Europe/Stockholm:20250314T090000
DTEND;TZID=Europe/Stockholm:20250314T120000
DTSTAMP:20260424T011308
CREATED:20241220T131813Z
LAST-MODIFIED:20250224T154458Z
UID:61587-1741942800-1741953600@svemarknad.se.hosting.brainforest.se
SUMMARY:Bli en PR-stjärna i det digitala landskapet 
DESCRIPTION:Vill du ta din PR-kompetens till nästa nivå och bli en mästare på att skapa buzz i den digitala världen? Då är vår kurs i digital PR något för dig. Kursen hjälper dig att inte bara förstå hur PR fungerar utan också att omsätta det i framgångsrika PR-uttag.  \n\n\n\nKursansvarig går igenom både klassisk PR och de senaste trenderna inom digital kommunikation\, att bygga strategiska samarbeten och förebygga kriser till att mäta effekten av dina insatser.  \n\n\n\nVår kursledare Karin Bäcklund är en av de nominerade till priset Cision PR Influencer Award 2025!\n\n\n\nKarin Bäcklund\n\n\n\nVad ingår i kursen?\n\n\n\nDen här kursen är för dig som är nyfiken på hur PR fungerar i en digital värld.  \n\n\n\nVi går igenom:  \n\n\n\n\nGrunderna inom PR och förutsättningarna som finns i det digitala medielandskapet. \n\n\n\nStrategiska samarbeten och event\n\n\n\nDatadriven PR och att mäta PR\n\n\n\nAtt jobba strategiskt med en PR-plan\n\n\n\n\nOm kursledaren:\n\n\n\nKarin Bäcklund har arbetat med digital kommunikation och PR de senaste 20 åren. Hon hjälper både B2B- och B2C-företag\, organisationer och personer med rådgivning\, strategi och genomförande av olika typer av PR- och kommunikationsinsatser. Idag som frilansande konsult\, men också som del av nätverksbyrån Hybrid. Karin Bäcklund vann 2024 till Cision PR Influencers Award\, ett pris som går till den PR-konsult som har mest digitalt inflytande i Sverige. \n\n\n\nKarin är dessutom nominerad till priset Cision PR Influencer Award 2025 \n\n\n\nKursdatum 14 mars 2025\n\n\n\nAnmälan: gör du nedanPris: 5.200 kr + moms för medlem (9.800 kr icke medlem)Kursen sker live online och du kommer att få en länk till Teams \n\n\n\nDag: 14 mars 2025Tid: 09.00-12.00Plats: Online. Tems-länk skickasAnmälan: se nedan \n\n\n\nAnmälan är bindande.Sveriges Marknadsförbunds integritetspolicy.
URL:https://svemarknad.se.hosting.brainforest.se/evenemang/bli-en-pr-stjarna-i-det-digitala-landskapet/
CATEGORIES:Kurser
ATTACH;FMTTYPE=image/jpeg:https://svemarknad.se.hosting.brainforest.se/wp-content/uploads/2024/12/unnamed.jpg
END:VEVENT
BEGIN:VEVENT
DTSTART;TZID=Europe/Stockholm:20250321T090000
DTEND;TZID=Europe/Stockholm:20250321T094500
DTSTAMP:20260424T011308
CREATED:20250206T203147Z
LAST-MODIFIED:20250321T062503Z
UID:61981-1742547600-1742550300@svemarknad.se.hosting.brainforest.se
SUMMARY:Spaningar från Ungdomsbarometern
DESCRIPTION:Teamslänken mejlas till anmälda ca kl 08.00. (Se ev skräpkorgen om du inte hittar länken eller mejla/ sms annika@svemarknad.se 073 – 052 00 91 så skickas länken igen) \n\n\n\n\nHur står det till med dagens ungdomsgeneration? \n\n\n\nVad tror unga kommer trenda 2025? \n\n\n\nVad engagerar unga lite extra i kommunikationsväg?\n\n\n\n\nUngdomsbarometern är Sveriges ledande analysföretag när det kommer till att kartlägga attityder och beteendemönster bland svenska ungdomar. Genom både kvantitativa och kvalitativa metoder studerar Ungdomsbarometern vad unga tycker\, tänker och gör – inte minst genom deras årliga studie i åldersgruppen 15-24\, Sveriges största återkommande ungdomsundersökning. Ungdomsbarometerns uppdragsgivare återfinns inom ett brett spektrum av branscher\, och innefattar allt från statliga myndigheter och verk till konsumentvaruföretag\, mediehus\, högskolor och stora arbetsgivare. \n\n\n\nUngdomsbarometerns stora trendrapport samlar trendspaningar om det kommande året från tusentals unga.\n\n\n\n \n\n\n\nFöreläsare: Johanna Göransson\n\n\n\n\n\n\n\nJohanna Göransson är expert på ungas livsstil\, konsumentbeteenden och kommunikationsvanor och har själv bakgrund i kommunikationsbranschen. Nu jobbar hon dagligen med att hjälpa andra företag\, organisationer och myndigheter att förstå sig på den unga generationen och hur man når ut till dem. I tillägg till detta ansvarar Johanna för Ungdomsbarometerns stora trendrapport som samlar trendspaningar om det kommande året från tusentals unga. \n\n\n\nFritt för medlemmar!\n\n\n\nVarmt välkommen!\n\n\n\nAnmälan:\n\n\n\n1. Anmäl dig nedan.2. En timme innan webbinariet får du länken för att kunna delta. \n\n\n\nDag: 21 marsTid: kl 09.00 – 09.45Plats: Online via TeamsAnmälan: se nedan \n\n\n\n\n\n\n	 \n\n\n\nNoshow debiteras\n\n\n\nAvbokning sker senast 2 vardagar innan eventet men platsen kan alltid överlåtas till annan person – namnjustering sker till annika@svemarknad.se.Vid utebliven närvaro utgår avgift på 495 kr ex moms. Vi reserverar oss för ev. ändringar i programmet.
URL:https://svemarknad.se.hosting.brainforest.se/evenemang/spaningar-fran-den-senaste-ungdomsbarometern/
CATEGORIES:Webbinarium
ATTACH;FMTTYPE=image/png:https://svemarknad.se.hosting.brainforest.se/wp-content/uploads/2025/02/Johanna-Goransson-1.png
END:VEVENT
BEGIN:VEVENT
DTSTART;TZID=Europe/Stockholm:20250326T090000
DTEND;TZID=Europe/Stockholm:20250326T110000
DTSTAMP:20260424T011308
CREATED:20241205T114042Z
LAST-MODIFIED:20250319T122109Z
UID:61345-1742979600-1742986800@svemarknad.se.hosting.brainforest.se
SUMMARY:Lär dig analysera sociala medier med hjälp av ChatGPT - på 2 timmar!
DESCRIPTION:Kursen är fullbokat datum 26 mars – nytt datum för kursen är 28 maj. Varmt välkommen- Se här\n\n\n\nVill du veta vad som ger bäst effekt i sociala medier? Med vår tvåtimmarsutbildning lär du dig att använda AI för att analysera och förstå resultat på djupet. Få snabba insikter\, identifiera trender och upptäck mönster som annars kan ta timmar att analysera fram. Digitalsnacks långa erfarenhet inom sociala medier kombinerat med kraften i AI ger dig konkreta verktyg att omedelbart förbättra din strategi. Dessutom får du tillgång till inspelningen i efterhand – perfekt för att gå tillbaka och fördjupa dina kunskaper när du vill. \n\n\n\nUnder två (2) timmar går vi igenom hur man laddar ner data\, anonymiserar den\, hur man bestämmer mål för sin analys. Och hur du promtar och kan få ChatGPT att skapa en färdig rapportstruktur som du sparar och återanvänder varje månad. Tiden du sparar och den förhöjda effektiviteten och säkerheten du kommer att känna efter denna kurs är oslagbar! \n\n\n\nKursledare: Cecilia Victoria Kärrberg\n\n\n\n\n\n\n\nCecilia Victoria Kärrberg är en av Sveriges främsta föreläsare och utbildare inom sociala medier. Med 13 års erfarenhet av digital marknadsföring har hon byggt upp flera framgångsrika varumärken med hjälp av sociala medier. De senaste åren har vi tagit hjälp av AI för att analysera våra kunders resultat för att sedan justera\, optimera för en ännu bättre effekt! \n\n\n\nKursprogram\n\n\n\n9:00 Introduktion \n\n\n\n9:15 Analysera organiskt innehåll på sociala medier med hjälp av ChatGPT \n\n\n\n\nVia dessa källor kan du hämta ner data\n\n\n\nSortera och anonymisera datan\n\n\n\nFörstå målsättning med analysen\n\n\n\nFörstå hur du skapar promts och struktur för din analys\n\n\n\nPraktiskt hur du promtar i ChatGPT samt vilken data du kan få ut\,\n\n\n\nHur du bygger en struktur för rapportering och sparar\n\n\n\nÖvning: Testa själv på egen data!\n\n\n\n\n10:15 Analysera annonsering på sociala medier med hjälp av ChatGPT \n\n\n\n\nSå hämtar du er data från Meta Ads Manager och andra annonsverktyg\n\n\n\nSortera och anonymisera datan\n\n\n\nFörstå målsättning med analysen\n\n\n\nFörstå hur du skapar promts och struktur för din analys\n\n\n\nPraktiskt hur du promtar i ChatGPT samt vilken data du kan få ut\,\n\n\n\nHur du bygger en struktur för rapportering och sparar\n\n\n\nÖvning: Testa själv på egen data!\n\n\n\n\n11:00 Avslut \n\n\n\nTänk om….. \n\n\n\nDu visste exakt vad som gett bra resultat?\n\n\n\nEfter du implementerat AI till din analys så kommer du få en betydligt mer träffsäker insikt att bygga din strategi på. Dessutom blir arbetet med data och analys så mycket roligare! \n\n\n\n\nSnabbare beslut med precisionDu kan fatta beslut på en helt ny nivå.\n\n\n\nEn djupdykning i din målgruppAI hjälper dig att förstå din målgrupps beteende på ett sätt du aldrig gjort tidigare – så du vet exakt vad som engagerar och lockar.\n\n\n\nSkärp din innehållsstrategiMed träffsäkra data kan du finjustera din innehållsplan och skapa inlägg som verkligen dina följare uppskattar.\n\n\n\nFå ut mer av din budgetLär dig vilka kampanjer som verkligen levererar och investera smartare – utan att slösa på onödiga kostnader.\n\n\n\nResultat som betyder någotFörstå resultatet och sambandet av resultatet.\n\n\n\nHåll dig steget före med realtidsinsikterUpptäck trender när de händer och skapa innehåll som träffar rätt.\n\n\n\nSlipp det tidskrävande manuella arbetetLåt AI sköta analysen och spara timmar på manuellt arbete – så kan du lägga mer tid på annat.\n\n\n\nKänn dig säker på dina strategiska beslutMed AI får du insikter som bygger trygghet till dina beslut.\n\n\n\n\nDETTA INGÅR I UTBILDNINGEN: \n\n\n\n2 timmar fyllda med matnyttig information för att kunna analysera både annonskampanjer och organiskt innehåll.\n\n\n\nDen här kursen ger dig allt du behöver för att enkelt komma igång med AI-drivna analyser och göra dina resultat på sociala medier både tydligare och roligare att arbeta med! \n\n\n\n\nAnalysera rätt data för bästa träffsäkerhetVi visar dig exakt vilken data som ger de mest värdefulla insikterna. Lär dig även hur du väljer rätt tidsperiod för att få en stabil och korrekt analys som du verkligen kan lita på.\n\n\n\nSmidiga metoder för att hämta och hantera dataAtt hämta data behöver inte vara svårt! Vi guidar dig steg för steg genom processen: vilka verktyg du kan använda\, hur du säkerställer anonymitet och vilka filformat som fungerar bäst för AI-analys.\n\n\n\nSå maxar du analysen med AI: Vad kan vi mäta?Få koll på de viktigaste KPI både för organiskt innehåll och annonsering. Vi visar hur AI kan hjälpa dig att fördjupa analysen och upptäcka mönster och insikter som annars lätt går förlorade.\n\n\n\nFrågestund – din chans att få personliga tips!Avslutningsvis får du möjlighet att ställa dina egna frågor om analys och sociala medier. Perfekt för att anpassa kunskapen till just dina behov!\n\n\n\n\nKursdatum 26 mars 2025\n\n\n\nAnmälan: gör du nedanPris: 3.995 kr + moms för medlem (4.995 kr icke medlem)Kursen sker live online och du kommer att få en länk till Zoom \n\n\n\nDag: 26 mars 2025Tid: 09.00 – 11.00Plats: Online. Google Meet-länk skickasAnmälan: – FULLLBOKAT 26 MARS – NYTT DATUM 28 MAJ – BOKA HÄR \n\n\n\nAnmälan är bindande.Sveriges Marknadsförbunds integritetspolicy.
URL:https://svemarknad.se.hosting.brainforest.se/evenemang/lar-dig-analysera-sociala-medier-med-hjalp-av-chatgpt-pa-2-timmar/
CATEGORIES:Kurser
ATTACH;FMTTYPE=image/jpeg:https://svemarknad.se.hosting.brainforest.se/wp-content/uploads/2024/12/Skarmbild-2025-02-18-FULLBOKAT_6.jpg
END:VEVENT
BEGIN:VEVENT
DTSTART;TZID=Europe/Stockholm:20250327T173000
DTEND;TZID=Europe/Stockholm:20250327T193000
DTSTAMP:20260424T011308
CREATED:20250120T144240Z
LAST-MODIFIED:20250324T081115Z
UID:61726-1743096600-1743103800@svemarknad.se.hosting.brainforest.se
SUMMARY:AI-middag hos Monks
DESCRIPTION:Fullbokat men anmäl dig gärna till väntelistan nedan  \n\n\n\nAI som sous-chef? Varför inte\, tänkte vår medlemsbyrå Monks och byggde en AI-modell baserat på stjärnkocken Albin Edbergs recept. Vi välkomnar er nu till en unik kväll\, där Albin själv tar hjälp av Gen-AI för att skapa ett helt unikt recept – framför ögonen på gästerna i Monks kök. Givetvis ingår avsmakning av resultatet samt intressanta talare på ämnet AI\, marknadsföring och transformation. Monks\, som fått utmärkelsen ‘Årets AI-byrå’ av Adweek\, bjuder på kundcase och inspiration från hela världen. Talar gör Sander van der Vegte\, VP Labs. Monks (Monks R&D-avdelning) och Nora Henriksson\, Monks vd i Norden. Maten står Albin Edberg för.  \n\n\n\nFullsatt – men väntelista finns!Varmt välkommen! \n\n\n\nTalare:Sander van der Vegte\, VP Labs Monks (Monks R&D-avdelning)Nora Henriksson\, vd Monks NordenAlbin Edberg\, stjärnkock \n\n\n\n\n\n\n\n\n\n\n\n \n\n\n\nFritt för medlemmar!\n\n\n\nAnmälan:\n\n\n\nDag: 27 marsTid: kl 17.30 – 19.30Plats: Hos Monks\, Norrlandsgatan 18\, StockholmAnmälan: Fullsatt men anmäl dig gärna till väntelista nedan:Pris: Kostnadsfritt för medlemmar. (begränsat antal platser\, vi välkomnar en gäst från ditt företag) Ev frågor kontakta info@svemarknad.se \n\n\n\nNoshow debiterasAnmälan är bindande. Platsen kan alltid överlåtas till annan person – namnjustering sker till annika@svemarknad.seVid utebliven närvaro utgår avgift på 495 kr ex moms. Vi reserverar oss för ev. ändringar i programmet. \n\n\n\nAnmäl dig till väntelistan nedan:
URL:https://svemarknad.se.hosting.brainforest.se/evenemang/ai-middag-hos-monks/
CATEGORIES:Nätverk,Seminarier
ATTACH;FMTTYPE=image/jpeg:https://svemarknad.se.hosting.brainforest.se/wp-content/uploads/2025/01/FULLBOKAT-BILD-MONKS.jpg
END:VEVENT
END:VCALENDAR