BEGIN:VCALENDAR
VERSION:2.0
PRODID:-//Sveriges Marknadsförbund - ECPv6.7.0//NONSGML v1.0//EN
CALSCALE:GREGORIAN
METHOD:PUBLISH
X-WR-CALNAME:Sveriges Marknadsförbund
X-ORIGINAL-URL:https://svemarknad.se.hosting.brainforest.se
X-WR-CALDESC:Events for Sveriges Marknadsförbund
REFRESH-INTERVAL;VALUE=DURATION:PT1H
X-Robots-Tag:noindex
X-PUBLISHED-TTL:PT1H
BEGIN:VTIMEZONE
TZID:Europe/Stockholm
BEGIN:DAYLIGHT
TZOFFSETFROM:+0100
TZOFFSETTO:+0200
TZNAME:CEST
DTSTART:20250330T010000
END:DAYLIGHT
BEGIN:STANDARD
TZOFFSETFROM:+0200
TZOFFSETTO:+0100
TZNAME:CET
DTSTART:20251026T010000
END:STANDARD
END:VTIMEZONE
BEGIN:VEVENT
DTSTART;TZID=Europe/Stockholm:20250415T083000
DTEND;TZID=Europe/Stockholm:20250415T123000
DTSTAMP:20260423T232719
CREATED:20250224T154709Z
LAST-MODIFIED:20250311T090616Z
UID:62128-1744705800-1744720200@svemarknad.se.hosting.brainforest.se
SUMMARY:Generativ AI
DESCRIPTION:Denna kurs ger dig en grundläggande förståelse för generativ AI och dess tillämpningarinom marknadsföring och innehållsskapande. Under kursen lär du dig hur AI-verktyg kaneffektivisera din kreativa process\, generera högkvalitativt innehåll och ge nya insikter i dittarbete. Kursen kombinerar teori med praktiska exempel för att ge dig en tydlig överblick överhur du kan använda AI i din dagliga marknadsföring.Efter kursen kommer du att ha en tydlig förståelse för hur generativ AI kan användas för atteffektivisera och förbättra din marknadsföring\, samt vilka verktyg som är mest användbaraför ditt arbete. \n\n\n\nDenna kurs riktar sig till marknadsförare\, kommunikatörer\, innehållsskapare och digitala strateger som vill förstå hur AI kan användas för att effektivisera och förbättra innehållsskapande. \n\n\n\nKursinnehåll\n\n\n\nUnder denna kurs kommer du att lära dig följande:● Vad generativ AI är och hur det fungerar● Hur man skriver bra prompts● De vanligaste AI-modellerna för marknadsförare och deras användningsområden● Etiska överväganden och etiska aspekter av AI-genererat innehåll● AI för textgenerering och copywriting● AI för bildproduktion● AI för att stödja dig i övriga arbetsprocesser \n\n\n\nKursledare\n\n\n\n\n\n\n\nMoa Wilén arbetar till vardags som marknadskoordinator och content producer på SalgadoKommunikation och hon har tidigare föreläst på bland annat Stockholm School of Businessoch Medieinstitutet. Hon har en bakgrund inom medievetenskap och sociologi\, något somhjälper henne förstå hur olika typer av innehåll påverkar och engagerar olika målgrupper påsociala medier. Moa arbetar aktivt med AI i sin arbetsroll och baserar kursen på de verktyghon som marknadsförare har mest användning av. \n\n\n\nKursdatum 15 april 2025\n\n\n\nAnmälan: gör du nedanPris: 5.200 kr + moms för medlem (9.800 kr icke medlem)Kursen sker live online och du kommer att få en länk till Zoom. \n\n\n\nDag: 15 april 2025Tid: 08.30-12.30Plats: Online. Zoom-länk skickasAnmälan: se nedan \n\n\n\nAnmälan är bindande.Sveriges Marknadsförbunds integritetspolicy.
URL:https://svemarknad.se.hosting.brainforest.se/evenemang/kurs-generativ-ai/
CATEGORIES:Kurser
ATTACH;FMTTYPE=image/png:https://svemarknad.se.hosting.brainforest.se/wp-content/uploads/2025/02/Moa.png
END:VEVENT
BEGIN:VEVENT
DTSTART;TZID=Europe/Stockholm:20250425T090000
DTEND;TZID=Europe/Stockholm:20250425T094500
DTSTAMP:20260423T232719
CREATED:20250306T151749Z
LAST-MODIFIED:20250425T054039Z
UID:62197-1745571600-1745574300@svemarknad.se.hosting.brainforest.se
SUMMARY:Hur kan marknads- och hållbarhetschefen samverka?
DESCRIPTION:Teamslänken är skickad till anmälda deltagare. Den skickas igen samma morgon som webbinariet kl 08.00. Saknar du länken och vill delta – mejla till annika@svemarknad.se  eller smsa till 073 – 052 00 91 \n\n\n\nVälkommen till webbinarium med professor Johan Anselmsson från Lunds universitet\n\n\n\nLönsam och engagerande hållbarhetskommunikation\n\n\n\nNya generationer av konsumenter blir allt mer köpstarka\, hållbarhetskraven förändras\, och ny lagstiftning påverkar kommunikation och redovisning. Hur navigerar vi i detta landskap och skapar hållbarhetsengagemang som gynnar både branschen och varumärken? Hur kan marknads- och hållbarhetschefen samverka\, och hur kan starka varumärken leda vägen mot en mer hållbar framtid? \n\n\n\n\n\n\n\nFöreläsare:\n\n\n\nJohan Anselmsson är professor i Företagsekonomi på Ekonomihögskolan vid Lunds universitet och har forskat om varumärken och hållbarhet sedan 2007. \n\n\n\n \n\n\n\nFritt för medlemmar!\n\n\n\nVarmt välkommen!\n\n\n\nAnmälan:\n\n\n\n1. Anmäl dig nedan.2. En timme innan webbinariet får du länken för att kunna delta. \n\n\n\nDag: 25 april Tid: kl 09.00 – 09.45Plats: Online via TeamsAnmälan: se nedan \n\n\n\n\n\n\n	 \n\n\nNoshow debiteras\n\n\n\nAvbokning sker senast 2 vardagar innan eventet men platsen kan alltid överlåtas till annan person – namnjustering sker till annika@svemarknad.se.Vid utebliven närvaro utgår avgift på 495 kr ex moms. Vi reserverar oss för ev. ändringar i programmet.
URL:https://svemarknad.se.hosting.brainforest.se/evenemang/marknadsforingsforskare-johan-anselmsson/
CATEGORIES:Webbinarium
ATTACH;FMTTYPE=image/jpeg:https://svemarknad.se.hosting.brainforest.se/wp-content/uploads/2025/03/JOHAN-ANSELMSSON.jpg
END:VEVENT
END:VCALENDAR