BEGIN:VCALENDAR
VERSION:2.0
PRODID:-//Sveriges Marknadsförbund - ECPv6.7.0//NONSGML v1.0//EN
CALSCALE:GREGORIAN
METHOD:PUBLISH
X-ORIGINAL-URL:https://svemarknad.se.hosting.brainforest.se
X-WR-CALDESC:Events for Sveriges Marknadsförbund
REFRESH-INTERVAL;VALUE=DURATION:PT1H
X-Robots-Tag:noindex
X-PUBLISHED-TTL:PT1H
BEGIN:VTIMEZONE
TZID:Europe/Stockholm
BEGIN:DAYLIGHT
TZOFFSETFROM:+0100
TZOFFSETTO:+0200
TZNAME:CEST
DTSTART:20250330T010000
END:DAYLIGHT
BEGIN:STANDARD
TZOFFSETFROM:+0200
TZOFFSETTO:+0100
TZNAME:CET
DTSTART:20251026T010000
END:STANDARD
END:VTIMEZONE
BEGIN:VEVENT
DTSTART;TZID=Europe/Stockholm:20250514T113000
DTEND;TZID=Europe/Stockholm:20250514T130000
DTSTAMP:20260423T215351
CREATED:20250410T064333Z
LAST-MODIFIED:20250507T132441Z
UID:62522-1747222200-1747227600@svemarknad.se.hosting.brainforest.se
SUMMARY:Showing What Fits: Så skapar vi verklig representation i modet med AI
DESCRIPTION:Seminariet kommer att hållas på engelska\n\n\n\nLäs intervju med Lisa Marie Bagge och Camilla Westerlind FashionLab \n\n\n\nLunchseminarium Göteborg 14 maj – Fashionlab\n\n\n\nInte Bara för Modebranschen: Även om vårt fokus ligger på mode\, är idéerna vi utforskar – AI-driven effektivitet\, inkluderande representation och mer autentiskt engagemang – relevanta för alla branscher. Oavsett om du jobbar inom detaljhandel\, fastigheter\, rekrytering eller utbildning\, kan dessa verktyg hjälpa dig att visualisera produkter\, tjänster och människor på ett sätt som skapar starkare kopplingar till en mångfaldig målgrupp. Det handlar om att få ditt budskap att träffa rätt – hos alla du vill nå. \n\n\n\nShowing What Fits: Så skapar vi verklig representation i modet med AI\n\n\n\nModebilder ser ofta likadana ut – en lång\, smal kroppstyp\, ofta retuscherad och långt ifrån verklighetens mångfald. Men den bilden matchar inte konsumenternas verklighet. I det här seminariet visar vi hur AI gör det möjligt att visa samma plagg på olika kroppstyper\, etniciteter och åldersgrupper – varumärkesanpassat\, kostnadseffektivt och utan behov av provplagg i varje storlek. \n\n\n\nLisa Marie Bagge och Camilla Westerlind FashionLab\n\n\n\nVi går igenom:● Hur traditionell modebild skapar ett förväntningsglapp● Hur AI gör inkluderande storlek och etnicitet skalbart● Varför AI-genererade bilder inte ersätter äkthet – de förstärker den● Hur varumärken kan kombinera perfektion med äkthet och engagemang● Vad vår testpilot visar: hur inkluderande bilder påverkar kundupplevelsen \n\n\n\nVarför det är viktigtKunder vill se kläder på personer som liknar dem. Samtidigt som sociala medier är fulla av verkliga provningar\, fortsätter varumärken att visa ett enda utseende. AI förändrar spelet – samma plagg\, flera kroppstyper\, samma varumärkeskänsla – snabbare och smartare än någonsin. \n\n\n\nViktigt att ta med sigRepresentation handlar inte bara om att göra rätt – det är också affärsmässigt smart. Med AI kan vi äntligen visa vad som faktiskt passar. \n\n\n\nOm FashionLabFashionLab ligger i framkant när det gäller AI-drivna bildlösningar för modebranschen. Genom att kombinera expertis inom mode\, teknik och e-handel hjälper vi varumärken att minska returer\, öka köptillit och skapa en mer inkluderande shoppingupplevelse – allt genom visuella lösningar som är både hållbara och varumärkesanpassade.Föreläsare:Camilla Westerlind  – Commercial Director & Co-founder FashionLabLisa Marie Bagge – Director of Strategic Growth & Co-founder FashionLab \n\n\n\nLäs intervju med Camilla och Lisa \n\n\n\n \n\n\n\nFritt för medlemmar! Varmt välkommen! \n\n\n\nSeminariet äger rum hos Convendum och vi serveras bagels från Jimmy & Joan’s\n\n\n\n\n\n\n\nCONVENDUM erbjuder moderna och efterfrågade kontorslösningar för små och stora företag. CONVENDUMs erbjudande sträcker sig från Coworking\, Private Office\, Big Office\, Exclusive Office\, Enterprise Membership till Office Management. Gemensamt för de olika produkterna är premiumkontor i kombination med aktivitetsbaserade öppna coworkingytor\, lounger\, konferenscenter\, café\, gym\, musikstudios och showrooms. Följ oss på Facebook\, LinkedIn och Instagram. \n\n\n\n\n\n\n\nJimmy & Joan´s New York öppnade 2018 i Göteborg av grundaren Elizabeth Rubin som själv är från New York. Hon ville erbjuda sina gäster en känsla av sin forna hemstad\, sina barndoms söndagsbagels och fasters bakverk. Detta genom uttryck i inredningen\, atmosfären\, den varma servicen och inte minst autentiska bagels och bakverk. Ett besök hos Jimmy & Joan´s ska vara mer av en upplevelse än bara ett ordinärt besök på ett café. Sedan i hösten 2024 drivs bolaget av mig Charlotte Florberger. Ursprungsstället på Teatergatan i Göteborg finns kvar och sedan i oktober finns Jimmy & Joan´s även i Stora saluhallen på Kungstorget för take-away. Våra autentiska New York bagels bakas i eget bageri utanför Göteborg. De är unika för den svenska marknaden. De är inte ”vanligt bröd med hål i ”\, utan en måltid. Efter jäsning kokas de i malt innan de sedan bakas i ugn. Detta ger en seg\, matig bagel med krispig utsida. I bageriet bakas även vår fantastiska cheesecake. Den serveras med blåbärskompott eller karamell sås\, jordnötter och pretzels. Eftersom vi har säkrat upp en större produktionskapacitet\, har vi som intention att växa även utanför Göteborg. Därför har vi börjat handplocka återförsäljare. Vår målsättning är även att öppna ytterligare bagel-shops. Vi erbjuder servering på plats\, take away\, möjligheten att köpa med sig styckvisa bagels för den egna brunchen hem\, men också catering till både företag och privatpersoner. Vi använder noggrant utvalda råvaror. Bland annat kallrökt lax och varmrökta lax-nuggets från Savolax\, kalkonbröst från Nobelius vilt i Stora Saluhallen och grönsaker från Aroma frukt & grönt. Varmt välkomna att besöka oss för att testa ”The best bagel East of New York” som en internationell gäst uttryckte det i vintras! \n\n\n\nAnmälan:\n\n\n\nFritt för medlemmar! Varmt välkommen! \n\n\n\nDag: 14 maj Tid: kl 11.30 – 13.00 – vi serveras bagels från Jimmy & Joan’sPlats: Convendum\, Stampgatan 14\, Göteborg Anmälan: se nedanSeminariet kommer att hållas på engelska. \n\n\n\n\n\n\n	 \n\n\nNoshow debiteras\n\n\n\nAvbokning sker senast 2 vardagar innan eventet men platsen kan alltid överlåtas till annan person – namnjustering sker till annika@svemarknad.se.Vid utebliven närvaro utgår avgift på 495 kr ex moms. Vi reserverar oss för ev. ändringar i programmet.
URL:https://svemarknad.se.hosting.brainforest.se/evenemang/showing-what-fits-sa-skapar-vi-verklig-representation-i-modet-med-ai/
CATEGORIES:Nätverk,Seminarier
ATTACH;FMTTYPE=image/jpeg:https://svemarknad.se.hosting.brainforest.se/wp-content/uploads/2025/04/Camilla-och-Lisa-_-Tattihop.jpg
END:VEVENT
BEGIN:VEVENT
DTSTART;TZID=Europe/Stockholm:20250515T090000
DTEND;TZID=Europe/Stockholm:20250515T150000
DTSTAMP:20260423T215351
CREATED:20250205T162723Z
LAST-MODIFIED:20250401T130903Z
UID:61951-1747299600-1747321200@svemarknad.se.hosting.brainforest.se
SUMMARY:Skapa träffsäkra annonser i sociala medier med utbildning i Meta Ads Manager
DESCRIPTION:Lär dig skapa träffsäkra kampanjer med Meta Ads Manager och denna topprankade utbildning! Jobbar du som kommunikatör eller är egenföretagare och vill ta kontrollen och annonsera på Facebook och Instagram på egen hand? Då är detta utbildningen för dig. Lär dig hur du skapar en smart struktur på annonskontot\, hur du väljer rätt målsättning\, målgrupper och hur du skapar bra annonsinnehåll för Facebook och Instagram. \n\n\n\nSkapa bättre & billigare kampanjer!\n\n\n\nUnder denna utbildning lär du dig att använda Meta Ads Manager från planering\, strategi och utförande. Du kommer efter kursen förstå hur kampanj\, Ad Set (målgrupp) och annonser hör ihop för att maximera resultatet och få så kostnadseffektiva annonser som möjligt. \n\n\n\nTeoretiskt & praktiskt\n\n\n\nKursledaren har jobbat i Meta Ads Manager i många år\, och har stor erfarenhet av olika typer av kampanjer\, målgrupper och att skapa annonser. De finns med under hela dagen för att strategiskt berätta\, teoretisk visa och se till så du även får testa praktiskt. Detta är den mest kompletta utbildningen i Meta Ads Manager på marknaden. Där du direkt får svar på dina frågor\, stöd från våra annonsexperter och med en färdig kampanj att jobba vidare med! \n\n\n\nVem passar utbildningen till?\n\n\n\nUtbildningen är till för dig som tidigare har varit inne i Meta Ads Manager verktyget och annonserat. Om du endast har sponsrat inlägg tidigare\, erbjuder vi coachning innan för att se till så du har alla inställningar och kunskaper som behövs för att klara utbildningen. Den riktar sig till dig som är kommunikatör och som köper annonstjänster eller har själv hand om annonseringen. Utbildningen är också populär för de som driver eget företag och som vill sälja sina tjänster och produkter på ett mer träffsäkert sätt! \n\n\n\nHandledd & Digital\n\n\n\nUtbildningen sker digitalt via Google Meet. Vilket innebär att du kan delta oavsett vart du sitter så länge du har tillgång till internet. Utbildningen är live och handledd av kursledaren. Vilket ger dig möjligheten att ställa frågor under tiden och få hjälp direkt. \n\n\n\nDen senaste kunskapen\n\n\n\nUtbildningen uppdateras inför varje omgång och har den absolut senaste kunskapen om verktyget. Men också hur du ska jobba strategiskt med de olika utmaningarna med att annonsera utan pixel\, använda AI till produktion och utvärdering. \n\n\n\nUppskattad utbildning\n\n\n\nDenna utbildning är topprankad med 4\,9 av 5 i betyg på senaste utbildningstillfället. \n\n\n\nKursledare: Cecilia Victoria Kärrberg\n\n\n\n\n\n\n\nCecilia Victoria Kärrberg är en av Sveriges främsta föreläsare och utbildare inom sociala medier. Med 13 års erfarenhet av digital marknadsföring har hon byggt upp flera framgångsrika varumärken med hjälp av sociala medier. De senaste åren har vi tagit hjälp av AI för att analysera våra kunders resultat för att sedan justera\, optimera för en ännu bättre effekt! \n\n\n\nUtbildningsprogram\n\n\n\n9:00 Introduktion \n\n\n\nVarför ska du annonsera på Facebook och Instagram? Vilken effekt kan man uppnå? \n\n\n\nGrundintroduktion till Facebook Ads Manager som plattform. \n\n\n\n9:30 Kampanj  \n\n\n\nSkapa en smart annonsstruktur för dina kampanjer \n\n\n\nGenomgång av plattformens olika möjliga målsättningar och annonsformat. \n\n\n\n11:00 Ad set \n\n\n\nSå skapar du rätt målgrupp för din kampanj och målsättning \n\n\n\n12:00 Lunchpaus \n\n\n\n13:00 Annonsutformning \n\n\n\nHur du skapar annonsinnehåll som ger effekt \n\n\n\nGenomgång av Metas AI-drivna annonsverktyg \n\n\n\n14:00 Utvärdering av annonsresultat \n\n\n\nGenomgång av de viktigaste nyckeltalen och hur du jämför kampanjer över tid \n\n\n\n15:00 Avslut \n\n\n\nKursdatum 15 maj 2025\n\n\n\nAnmälan: gör du nedanPris: 7.995 kr + moms för medlem (9.995 kr icke medlem)Kursen sker live online och du kommer att få en länk till Google Meet \n\n\n\nDag: 15 maj 2025Tid: 09.00 – 15.00Plats: Online. Google Meet-länk skickasAnmälan: se nedanKompetenskrav inför utbildning \n\n\n\nOk Jag har tidigare erfarenheter att att annonsera i Facebook Ads manger.Jag har inte tidigare annonserat tidigare och önskar guidning* inför utbildningen. Boka nedan.*1×60 min coachingsamtal för 2.500 kr exkl. moms (ordinarie pris 3 000 kr exkl. moms) \n\n\n\nAnmälan är bindande.Sveriges Marknadsförbunds integritetspolicy.
URL:https://svemarknad.se.hosting.brainforest.se/evenemang/skapa-traffsakra-annonser-i-sociala-medier-med-utbildning-i-meta-ads-manager/
CATEGORIES:Kurser
ATTACH;FMTTYPE=image/jpeg:https://svemarknad.se.hosting.brainforest.se/wp-content/uploads/2025/02/NY_Cecilia-Victoria-Karrberg.webp.jpg
END:VEVENT
BEGIN:VEVENT
DTSTART;TZID=Europe/Stockholm:20250515T150000
DTEND;TZID=Europe/Stockholm:20250515T153000
DTSTAMP:20260423T215351
CREATED:20241125T134738Z
LAST-MODIFIED:20260216T155718Z
UID:61231-1747321200-1747323000@svemarknad.se.hosting.brainforest.se
SUMMARY:Kallelse till Årsmöte 2025
DESCRIPTION:Teamslänken är skickad till anmälda deltagare – saknar du länk mejla annika@svemarknad.se eller ring 073 – 052 00 91 \n\n\n\nSveriges Marknadsförbund 2025 \n\n\n\n\n\n\n\nVälkommen till årsmöte den 15 maj kl 15.00 – 15.30 \n\n\n\nPlats: Via Teams. (teamslänk skickas till anmälda deltagare)Anmälan görs till francesca@svemarknad.se \n\n\n\n \n\n\n\nDAGORDNING ORDINARIE ÅRSMÖTE1. Val av ordförande att leda årsmötets förhandlingar och sekreterare för mötet2. Val av två justeringsmän3. Fråga om mötets behöriga utlysande4. Redogörelse för inkomna fullmakter5. Styrelsens verksamhetsberättelse samt balans och resultaträkning för föregående år6. Revisorernas berättelse7. Beslut om ansvarsfrihet för styrelsen8. Val av ordförande i förbundet9. Fastställande av antalet styrelseledamöter10. Val av styrelsens övriga ledamöter11. Val av revisor12. Val av valberedning13. Övriga frågor \n\n\n\n \n\n\n\nValberedningens förslag till styrelse:Omval till 2027Niclas Fröberg\, Tre Kronor Media – A Making Science Company – ordförande (omval)Vald till 2026Christer Löfgren\, Bergenstråhle & Partners (vald)Karolina Strand\, Björn Axén (vald)Tomas Bäckefjord\, Alfa Laval (vald)Nyval till 2027Helena Nord\, Saab (nyval)Maria Johansson\, IKEA (nyval) \n\n\n\nValberedningCecilia Flodin\, Strawberry (nyval)Elizabeth Anderberg\, Tetrapak (vald)Gunilla Welander\, GW Rekalmjuridik (vald)Lena Rodin\, Löfbergs (nyval) \n\n\n\n\n\n\n\nLänk till stadgar
URL:https://svemarknad.se.hosting.brainforest.se/evenemang/kallelse-till-arsmote-2025/
CATEGORIES:Årsmöte
ATTACH;FMTTYPE=image/jpeg:https://svemarknad.se.hosting.brainforest.se/wp-content/uploads/2024/05/ordforandeklubba-1.jpg
END:VEVENT
BEGIN:VEVENT
DTSTART;TZID=Europe/Stockholm:20250516T090000
DTEND;TZID=Europe/Stockholm:20250516T110000
DTSTAMP:20260423T215351
CREATED:20250225T104928Z
LAST-MODIFIED:20250307T124149Z
UID:62162-1747386000-1747393200@svemarknad.se.hosting.brainforest.se
SUMMARY:Copywriting med AI-fokus
DESCRIPTION:AI förändrar hur vi skapar och optimerar textbaserat innehåll. Denna kurs ger dig en praktiskintroduktion till hur du kan använda AI-verktyg för att effektivisera ditt copywriting-arbete\,från idé till färdig text. Du lär dig hur AI kan hjälpa till att generera\, analysera och förbättratexter för olika digitala kanaler – utan att tappa den mänskliga tonen och kreativiteten.Du vet hur du skapar effektiva prompts\, redigerar och anpassar AI-genererade texter för attmatcha varumärkets tonalitet samt använder AI som ett verktyg för att effektivisera dinskrivprocess utan att kompromissa med kvalitet och kreativitet. \n\n\n\nKursinnehåll:\n\n\n\nUnder denna kurs kommer du att lära dig följande:● Förstå AI:s roll inom copywriting och marknadsföring● Hur du använder AI-verktyg för att skapa effektiva texter● Skapa AI-genererade rubriker\, annonser\, blogginlägg och sociala medier-texter● Optimera och redigera AI-genererat innehåll för att bevara varumärkets tonalitet● Arbeta med prompts och AI-strategier för att få bättre resultat● Etiska och juridiska aspekter av AI-skapad copy● Hur AI kan effektivisera research och idéutveckling \n\n\n\nKursledare:\n\n\n\n\n\n\n\nTheo Hafström arbetar som Contentproducent på Salgado Kommunikation och har ett ögaför detaljer inom innehållsproduktion. Med flera års erfarenhet av att skapa engagerandecontent för olika sociala kanaler har han utvecklat en djup förståelse för vad som fångarpublikens intresse. Hans bakgrund inom journalistik\, kombinerat med ett stort intresse förmusik\, präglar hans kreativa arbetssätt och hjälper företag skapa innehåll som kännsrelevant\, trovärdigt och visuellt tilltalande. \n\n\n\nKursdatum 16 maj 2025\n\n\n\nAnmälan: gör du nedanPris: 3.995 kr + moms för medlem (4.995 kr icke medlem)Kursen sker live online och du kommer att få en länk till Zoom. \n\n\n\nDag: 16 maj 2025Tid: 09.00-11.00Plats: Online. Zoom-länk skickasAnmälan: se nedan \n\n\n\nAnmälan är bindande.Sveriges Marknadsförbunds integritetspolicy.
URL:https://svemarknad.se.hosting.brainforest.se/evenemang/copywriting-med-ai-fokus/
CATEGORIES:Kurser
ATTACH;FMTTYPE=image/jpeg:https://svemarknad.se.hosting.brainforest.se/wp-content/uploads/2025/02/Theo-Hafstrom.jpg
END:VEVENT
BEGIN:VEVENT
DTSTART;TZID=Europe/Stockholm:20250520T090000
DTEND;TZID=Europe/Stockholm:20250520T094500
DTSTAMP:20260423T215351
CREATED:20250401T100126Z
LAST-MODIFIED:20250520T051354Z
UID:62437-1747731600-1747734300@svemarknad.se.hosting.brainforest.se
SUMMARY:Att våga skava i en trist kategori och varför det ger effekt – SBAB
DESCRIPTION:Teamslänken är skickad till anmälda deltagare. Den skickas igen samma morgon som webbinariet kl 08.00. Saknar du länken och vill delta – mejla till annika@svemarknad.se eller smsa till 073 – 052 00 91 \n\n\n\nKommunikation som skördat flera framgångar\n\n\n\n\nBalansgången: Humor i en förtroendekategori.\n\n\n\nVikten av att vara valbar – inte bara en prisfråga.\n\n\n\nHur bibehåller man företagsledningens förtroende?\n\n\n\n\nDet är några områden Patrik Söder\, Marknadschef på SBAB pratar kring under det här webbinariet. SBAB har under senare år växlat upp i sin marknadsföring vilket resulterat i stora tillväxtkliv och större marknadsandelar. Dessutom har kommunikationen skördat flera framgångar i bland annat 100-wattaren! Välkommen! \n\n\n\n\n\n\n\nFöreläsare:\n\n\n\nPatrik Söder\, Marknadschef SBAB \n\n\n\nFritt för medlemmar!\n\n\n\nVarmt välkommen!\n\n\n\nAnmälan:\n\n\n\n1. Anmäl dig nedan.2. En timme innan webbinariet får du länken för att kunna delta. \n\n\n\nDag: 20 majTid: kl 09.00 – 09.45Plats: Online via TeamsAnmälan: se nedan \n\n\n\n\n\n\n	 \n\n\nNoshow debiteras\n\n\n\nAvbokning sker senast 2 vardagar innan eventet men platsen kan alltid överlåtas till annan person – namnjustering sker till annika@svemarknad.se.Vid utebliven närvaro utgår avgift på 495 kr ex moms. Vi reserverar oss för ev. ändringar i programmet.
URL:https://svemarknad.se.hosting.brainforest.se/evenemang/att-vaga-skava-i-en-trist-kategori-och-varfor-det-ger-effekt-sbab/
CATEGORIES:Webbinarium
ATTACH;FMTTYPE=image/jpeg:https://svemarknad.se.hosting.brainforest.se/wp-content/uploads/2025/04/16_Patrik_So╠eder_SBAB_039-scaled.jpg
END:VEVENT
BEGIN:VEVENT
DTSTART;TZID=Europe/Stockholm:20250528T090000
DTEND;TZID=Europe/Stockholm:20250528T110000
DTSTAMP:20260423T215351
CREATED:20250205T155332Z
LAST-MODIFIED:20250401T130835Z
UID:61947-1748422800-1748430000@svemarknad.se.hosting.brainforest.se
SUMMARY:Lär dig analysera sociala medier med hjälp av ChatGPT – på 2 timmar!
DESCRIPTION:Vill du veta vad som ger bäst effekt i sociala medier? Med vår tvåtimmarsutbildning lär du dig att använda AI för att analysera och förstå resultat på djupet. Få snabba insikter\, identifiera trender och upptäck mönster som annars kan ta timmar att analysera fram. Digitalsnacks långa erfarenhet inom sociala medier kombinerat med kraften i AI ger dig konkreta verktyg att omedelbart förbättra din strategi. Dessutom får du tillgång till inspelningen i efterhand – perfekt för att gå tillbaka och fördjupa dina kunskaper när du vill. \n\n\n\nUnder två (2) timmar går vi igenom hur man laddar ner data\, anonymiserar den\, hur man bestämmer mål för sin analys. Och hur du promtar och kan få ChatGPT att skapa en färdig rapportstruktur som du sparar och återanvänder varje månad. Tiden du sparar och den förhöjda effektiviteten och säkerheten du kommer att känna efter denna kurs är oslagbar! \n\n\n\nKursledare: Cecilia Victoria Kärrberg\n\n\n\n\n\n\n\nCecilia Victoria Kärrberg är en av Sveriges främsta föreläsare och utbildare inom sociala medier. Med 13 års erfarenhet av digital marknadsföring har hon byggt upp flera framgångsrika varumärken med hjälp av sociala medier. De senaste åren har vi tagit hjälp av AI för att analysera våra kunders resultat för att sedan justera\, optimera för en ännu bättre effekt! \n\n\n\nKursprogram\n\n\n\n9:00 Introduktion \n\n\n\n9:15 Analysera organiskt innehåll på sociala medier med hjälp av ChatGPT \n\n\n\n\nVia dessa källor kan du hämta ner data\n\n\n\nSortera och anonymisera datan\n\n\n\nFörstå målsättning med analysen\n\n\n\nFörstå hur du skapar promts och struktur för din analys\n\n\n\nPraktiskt hur du promtar i ChatGPT samt vilken data du kan få ut\,\n\n\n\nHur du bygger en struktur för rapportering och sparar\n\n\n\nÖvning: Testa själv på egen data!\n\n\n\n\n10:15 Analysera annonsering på sociala medier med hjälp av ChatGPT \n\n\n\n\nSå hämtar du er data från Meta Ads Manager och andra annonsverktyg\n\n\n\nSortera och anonymisera datan\n\n\n\nFörstå målsättning med analysen\n\n\n\nFörstå hur du skapar promts och struktur för din analys\n\n\n\nPraktiskt hur du promtar i ChatGPT samt vilken data du kan få ut\,\n\n\n\nHur du bygger en struktur för rapportering och sparar\n\n\n\nÖvning: Testa själv på egen data!\n\n\n\n\n11:00 Avslut \n\n\n\nTänk om….. \n\n\n\nDu visste exakt vad som gett bra resultat?\n\n\n\nEfter du implementerat AI till din analys så kommer du få en betydligt mer träffsäker insikt att bygga din strategi på. Dessutom blir arbetet med data och analys så mycket roligare! \n\n\n\n\nSnabbare beslut med precisionDu kan fatta beslut på en helt ny nivå.\n\n\n\nEn djupdykning i din målgruppAI hjälper dig att förstå din målgrupps beteende på ett sätt du aldrig gjort tidigare – så du vet exakt vad som engagerar och lockar.\n\n\n\nSkärp din innehållsstrategiMed träffsäkra data kan du finjustera din innehållsplan och skapa inlägg som verkligen dina följare uppskattar.\n\n\n\nFå ut mer av din budgetLär dig vilka kampanjer som verkligen levererar och investera smartare – utan att slösa på onödiga kostnader.\n\n\n\nResultat som betyder någotFörstå resultatet och sambandet av resultatet.\n\n\n\nHåll dig steget före med realtidsinsikterUpptäck trender när de händer och skapa innehåll som träffar rätt.\n\n\n\nSlipp det tidskrävande manuella arbetetLåt AI sköta analysen och spara timmar på manuellt arbete – så kan du lägga mer tid på annat.\n\n\n\nKänn dig säker på dina strategiska beslutMed AI får du insikter som bygger trygghet till dina beslut.\n\n\n\n\nDETTA INGÅR I UTBILDNINGEN: \n\n\n\n2 timmar fyllda med matnyttig information för att kunna analysera både annonskampanjer och organiskt innehåll.\n\n\n\nDen här kursen ger dig allt du behöver för att enkelt komma igång med AI-drivna analyser och göra dina resultat på sociala medier både tydligare och roligare att arbeta med! \n\n\n\n\nAnalysera rätt data för bästa träffsäkerhetVi visar dig exakt vilken data som ger de mest värdefulla insikterna. Lär dig även hur du väljer rätt tidsperiod för att få en stabil och korrekt analys som du verkligen kan lita på.\n\n\n\nSmidiga metoder för att hämta och hantera dataAtt hämta data behöver inte vara svårt! Vi guidar dig steg för steg genom processen: vilka verktyg du kan använda\, hur du säkerställer anonymitet och vilka filformat som fungerar bäst för AI-analys.\n\n\n\nSå maxar du analysen med AI: Vad kan vi mäta?Få koll på de viktigaste KPI både för organiskt innehåll och annonsering. Vi visar hur AI kan hjälpa dig att fördjupa analysen och upptäcka mönster och insikter som annars lätt går förlorade.\n\n\n\nFrågestund – din chans att få personliga tips!Avslutningsvis får du möjlighet att ställa dina egna frågor om analys och sociala medier. Perfekt för att anpassa kunskapen till just dina behov!\n\n\n\n\nKursdatum 28 maj 2025\n\n\n\nAnmälan: gör du nedanPris: 3.995 kr + moms för medlem (4.995 kr icke medlem)Kursen sker live online och du kommer att få en länk till Google Meet \n\n\n\nDag: 28 maj 2025Tid: 09.00 – 11.00Plats: Online. Google Meet-länk skickasAnmälan: se nedan \n\n\n\nAnmälan är bindande.Sveriges Marknadsförbunds integritetspolicy.
URL:https://svemarknad.se.hosting.brainforest.se/evenemang/lar-dig-analysera-sociala-medier-med-hjalp-av-chatgpt-pa-2-timmar-2/
CATEGORIES:Kurser
ATTACH;FMTTYPE=image/webp:https://svemarknad.se.hosting.brainforest.se/wp-content/uploads/2024/12/Cecilia-Victoria-Karrberg.webp
END:VEVENT
END:VCALENDAR