BEGIN:VCALENDAR
VERSION:2.0
PRODID:-//Sveriges Marknadsförbund - ECPv6.7.0//NONSGML v1.0//EN
CALSCALE:GREGORIAN
METHOD:PUBLISH
X-WR-CALNAME:Sveriges Marknadsförbund
X-ORIGINAL-URL:https://svemarknad.se.hosting.brainforest.se
X-WR-CALDESC:Events for Sveriges Marknadsförbund
REFRESH-INTERVAL;VALUE=DURATION:PT1H
X-Robots-Tag:noindex
X-PUBLISHED-TTL:PT1H
BEGIN:VTIMEZONE
TZID:Europe/Stockholm
BEGIN:DAYLIGHT
TZOFFSETFROM:+0100
TZOFFSETTO:+0200
TZNAME:CEST
DTSTART:20250330T010000
END:DAYLIGHT
BEGIN:STANDARD
TZOFFSETFROM:+0200
TZOFFSETTO:+0100
TZNAME:CET
DTSTART:20251026T010000
END:STANDARD
END:VTIMEZONE
BEGIN:VEVENT
DTSTART;TZID=Europe/Stockholm:20251201T130000
DTEND;TZID=Europe/Stockholm:20251201T160000
DTSTAMP:20260423T104539
CREATED:20250702T140735Z
LAST-MODIFIED:20251031T092553Z
UID:63711-1764594000-1764604800@svemarknad.se.hosting.brainforest.se
SUMMARY:Skapa en digital marknadsplan som ger resultat: Från strategi till mätbara mål
DESCRIPTION:En effektiv digital marknadsplan är avgörande för att skapa struktur\, fokus och mätbararesultat i marknadsföringsarbetet. I denna kurs får du en praktisk genomgång av hur dusteg för steg bygger en digital marknadsplan som är både strategiskt hållbar ochanpassad för snabb digital förändring.Du får lära dig att identifiera rätt målgrupper\, formulera tydliga mål\, välja rätt kanaler\,planera innehåll och skapa struktur för uppföljning\, oavsett om du arbetar ensam eller iteam. Genom verklighetsnära exempel och mallar du kan ta med dig\, får du verktygenatt skapa en plan som faktiskt blir genomförd och skapar resultat. \n\n\n\nKursinnehåll:\n\n\n\nUnder denna kurs kommer du att lära dig följande:● Lära dig grunderna för en effektiv digital marknadsstrategi● Definiera syfte\, målgrupp och budskap på ett strukturerat sätt● Välja rätt digitala kanaler utifrån mål och resurser● Planera innehåll och kampanjer i linje med övergripande affärsmål● Strukturera upp en konkret aktivitetsplan med tidslinje● Sätta relevanta mätpunkter och följa upp resultat \n\n\n\nKursens längd:\n\n\n\nHalvdagskurs: 4 timmar \n\n\n\nKursledare:\n\n\n\nCharlotte da Silva är VD och grundare av Salgado Kommunikation. Hon har långerfarenhet av att utveckla digitala strategier och marknadsplaner för både små ochstora organisationer och vet vad som krävs för att en plan inte bara ska se bra ut påpapper\, utan faktiskt bli genomförd. Hon kombinerar struktur med kreativitet och visarhur du kan ta kontroll över din marknadsföring med en tydlig\, genomförbar och mätbarplan \n\n\n\n\n\n\n\nKursdatum 1 december\n\n\n\nAnmälan: gör du nedanPris: 5.200 kr + moms för medlem (9.800 kr icke medlem)Kursen sker live online och du kommer att få en länk till Zoom. \n\n\n\nDag: 1 december 2025Tid: Kl 13.00-16.00Plats: Online. Zoom-länk skickasAnmälan: se nedan \n\n\n\nAnmälan är bindande.Sveriges Marknadsförbunds integritetspolicy.
URL:https://svemarknad.se.hosting.brainforest.se/evenemang/skapa-en-digital-marknadsplan-som-ger-resultat-fran-strategi-till-matbara-mal/
CATEGORIES:Kurser
ATTACH;FMTTYPE=image/jpeg:https://svemarknad.se.hosting.brainforest.se/wp-content/uploads/2025/05/Charlotte-Lotta-da-silva-Salgado_KVADRAT-scaled.jpg
END:VEVENT
BEGIN:VEVENT
DTSTART;TZID=Europe/Stockholm:20251210T090000
DTEND;TZID=Europe/Stockholm:20251210T110000
DTSTAMP:20260423T104539
CREATED:20250905T075229Z
LAST-MODIFIED:20250905T080441Z
UID:64353-1765357200-1765364400@svemarknad.se.hosting.brainforest.se
SUMMARY:Lär dig analysera sociala medier med hjälp av ChatGPT – på 2 timmar!
DESCRIPTION:Vill du veta vad som ger bäst effekt i sociala medier? Med vår tvåtimmarsutbildning lär du dig att använda AI för att analysera och förstå resultat på djupet. Få snabba insikter\, identifiera trender och upptäck mönster som annars kan ta timmar att analysera fram. Digitalsnacks långa erfarenhet inom sociala medier kombinerat med kraften i AI ger dig konkreta verktyg att omedelbart förbättra din strategi. Dessutom får du tillgång till inspelningen i efterhand – perfekt för att gå tillbaka och fördjupa dina kunskaper när du vill. \n\n\n\nUnder två (2) timmar går vi igenom hur man laddar ner data\, anonymiserar den\, hur man bestämmer mål för sin analys. Och hur du promtar och kan få ChatGPT att skapa en färdig rapportstruktur som du sparar och återanvänder varje månad. Tiden du sparar och den förhöjda effektiviteten och säkerheten du kommer att känna efter denna kurs är oslagbar! \n\n\n\nKursledare: Cecilia Victoria Kärrberg\n\n\n\n\n\n\n\nCecilia Victoria Kärrberg är en av Sveriges främsta föreläsare och utbildare inom sociala medier. Med 13 års erfarenhet av digital marknadsföring har hon byggt upp flera framgångsrika varumärken med hjälp av sociala medier. De senaste åren har vi tagit hjälp av AI för att analysera våra kunders resultat för att sedan justera\, optimera för en ännu bättre effekt! \n\n\n\nKursprogram\n\n\n\n9:00 Introduktion \n\n\n\n9:15 Analysera organiskt innehåll på sociala medier med hjälp av ChatGPT \n\n\n\n\nVia dessa källor kan du hämta ner data\n\n\n\nSortera och anonymisera datan\n\n\n\nFörstå målsättning med analysen\n\n\n\nFörstå hur du skapar promts och struktur för din analys\n\n\n\nPraktiskt hur du promtar i ChatGPT samt vilken data du kan få ut\,\n\n\n\nHur du bygger en struktur för rapportering och sparar\n\n\n\nÖvning: Testa själv på egen data!\n\n\n\n\n10:15 Analysera annonsering på sociala medier med hjälp av ChatGPT \n\n\n\n\nSå hämtar du er data från Meta Ads Manager och andra annonsverktyg\n\n\n\nSortera och anonymisera datan\n\n\n\nFörstå målsättning med analysen\n\n\n\nFörstå hur du skapar promts och struktur för din analys\n\n\n\nPraktiskt hur du promtar i ChatGPT samt vilken data du kan få ut\,\n\n\n\nHur du bygger en struktur för rapportering och sparar\n\n\n\nÖvning: Testa själv på egen data!\n\n\n\n\n11:00 Avslut \n\n\n\nTänk om….. \n\n\n\nDu visste exakt vad som gett bra resultat?\n\n\n\nEfter du implementerat AI till din analys så kommer du få en betydligt mer träffsäker insikt att bygga din strategi på. Dessutom blir arbetet med data och analys så mycket roligare! \n\n\n\n\nSnabbare beslut med precisionDu kan fatta beslut på en helt ny nivå.\n\n\n\nEn djupdykning i din målgruppAI hjälper dig att förstå din målgrupps beteende på ett sätt du aldrig gjort tidigare – så du vet exakt vad som engagerar och lockar.\n\n\n\nSkärp din innehållsstrategiMed träffsäkra data kan du finjustera din innehållsplan och skapa inlägg som verkligen dina följare uppskattar.\n\n\n\nFå ut mer av din budgetLär dig vilka kampanjer som verkligen levererar och investera smartare – utan att slösa på onödiga kostnader.\n\n\n\nResultat som betyder någotFörstå resultatet och sambandet av resultatet.\n\n\n\nHåll dig steget före med realtidsinsikterUpptäck trender när de händer och skapa innehåll som träffar rätt.\n\n\n\nSlipp det tidskrävande manuella arbetetLåt AI sköta analysen och spara timmar på manuellt arbete – så kan du lägga mer tid på annat.\n\n\n\nKänn dig säker på dina strategiska beslutMed AI får du insikter som bygger trygghet till dina beslut.\n\n\n\n\nDETTA INGÅR I UTBILDNINGEN: \n\n\n\n2 timmar fyllda med matnyttig information för att kunna analysera både annonskampanjer och organiskt innehåll.\n\n\n\nDen här kursen ger dig allt du behöver för att enkelt komma igång med AI-drivna analyser och göra dina resultat på sociala medier både tydligare och roligare att arbeta med! \n\n\n\n\nAnalysera rätt data för bästa träffsäkerhetVi visar dig exakt vilken data som ger de mest värdefulla insikterna. Lär dig även hur du väljer rätt tidsperiod för att få en stabil och korrekt analys som du verkligen kan lita på.\n\n\n\nSmidiga metoder för att hämta och hantera dataAtt hämta data behöver inte vara svårt! Vi guidar dig steg för steg genom processen: vilka verktyg du kan använda\, hur du säkerställer anonymitet och vilka filformat som fungerar bäst för AI-analys.\n\n\n\nSå maxar du analysen med AI: Vad kan vi mäta?Få koll på de viktigaste KPI både för organiskt innehåll och annonsering. Vi visar hur AI kan hjälpa dig att fördjupa analysen och upptäcka mönster och insikter som annars lätt går förlorade.\n\n\n\nFrågestund – din chans att få personliga tips!Avslutningsvis får du möjlighet att ställa dina egna frågor om analys och sociala medier. Perfekt för att anpassa kunskapen till just dina behov!\n\n\n\n\nKursdatum 10 december 2025\n\n\n\nAnmälan: gör du nedanPris: 3.995 kr + moms för medlem (4.995 kr icke medlem)Kursen sker live online och du kommer att få en länk till Google Meet \n\n\n\nDag: 10 december 2025Tid: 09.00 – 11.00Plats: Online. Google Meet-länk skickasAnmälan: se nedan \n\n\n\nAnmälan är bindande.Sveriges Marknadsförbunds integritetspolicy.
URL:https://svemarknad.se.hosting.brainforest.se/evenemang/lar-dig-analysera-sociala-medier-med-hjalp-av-chatgpt-pa-2-timmar-4/
CATEGORIES:Kurser
ATTACH;FMTTYPE=image/jpeg:https://svemarknad.se.hosting.brainforest.se/wp-content/uploads/2025/05/Skarmbild-2024-12-05-Cecilia-Viktoria-Karrberg_Annat-format.jpg
END:VEVENT
BEGIN:VEVENT
DTSTART;TZID=Europe/Stockholm:20251212T100000
DTEND;TZID=Europe/Stockholm:20251212T120000
DTSTAMP:20260423T104539
CREATED:20250813T122135Z
LAST-MODIFIED:20250929T111128Z
UID:63954-1765533600-1765540800@svemarknad.se.hosting.brainforest.se
SUMMARY:Copywriting med AI | Skapa smartare texter utan att förloradet mänskliga uttrycket
DESCRIPTION:Kurslängd 2 timmar \n\n\n\nAI förändrar hur vi skapar och optimerar textbaserat innehåll och öppnar upp nyamöjligheter för dig som arbetar med kommunikation. Denna kurs ger dig en praktiskintroduktion till hur du använder AI-verktyg som ett effektivt stöd i hela skrivprocessen\,från idé till färdig text. Perfekt för egenföretagare\, marknadsförare ellerkommunikatörer. \n\n\n\nDu lär dig hur AI kan generera\, analysera och förbättra texter för olika digitala kanaler\,samtidigt som du behåller den mänskliga tonen\, kreativiteten och varumärketsidentitet. Genom exempel\, övningar och konkreta metoder får du insikter i hur du skriversmartare\, inte mindre mänskligt. \n\n\n\nEfter kursen kommer du att kunna skapa effektiva prompts\, redigera AI-genereratinnehåll och använda AI strategiskt för att vässa dina texter\, spara tid och frigöra kreativkapacitet.Kursen kräver inga förkunskaper. \n\n\n\nKursinnehåll\n\n\n\nUnder denna kurs kommer du att: \n\n\n\n\nFå insikt i hur AI förändrar rollen som copywriter och möjligheterna inommarknadsföring\n\n\n\nArbeta praktiskt med att ta fram rubriker\, annonstexter\, inlägg för sociala medieroch bloggar med stöd av AI\n\n\n\nLära dig att finjustera AI-genererat innehåll så att det speglar ditt varumärkes röstoch tonalitet\n\n\n\nTräna på att formulera prompts som styr AI:n mot önskat resultat\n\n\n\nLär dig om vanliga misstag inom AI och text\n\n\n\n\nKurs längd\n\n\n\n2 timmar \n\n\n\nKursledare\n\n\n\nMoa Wilén är marknadskoordinator och contentstrateg på Salgado Kommunikation\, därhon dagligen arbetar med AI-verktyg för att effektivisera och förädla det kreativaarbetet. Hon har en akademisk bakgrund inom medievetenskap och sociologi och är enuppskattad föreläsare på bland annat Stockholm School of Business ochMedieinstitutet. Moas erfarenhet av marknadsföring i praktiken gör att kursen utgår frånverkliga behov och situationer som du som deltagare direkt kan känna igen dig i \n\n\n\n\n\n\n\nKursdatum 12 december 2025\n\n\n\nAnmälan: gör du nedanPris: 3.995 kr + moms för medlem (4.995 kr icke medlem)Kursen sker live online och du kommer att få en länk till Zoom. \n\n\n\nDag: 12 december 2025Tid: Kl 10.00-12.00Plats: Online. Zoom-länk skickasAnmälan: se nedan \n\n\n\nAnmälan är bindande.Sveriges Marknadsförbunds integritetspolicy.
URL:https://svemarknad.se.hosting.brainforest.se/evenemang/copywriting-med-ai-skapa-smartare-texter-utan-att-forloradet-manskliga-uttrycket/
CATEGORIES:Kurser
ATTACH;FMTTYPE=image/webp:https://svemarknad.se.hosting.brainforest.se/wp-content/uploads/2024/04/moa-wilen.webp
END:VEVENT
BEGIN:VEVENT
DTSTART;TZID=Europe/Stockholm:20251217T090000
DTEND;TZID=Europe/Stockholm:20251217T094500
DTSTAMP:20260423T104539
CREATED:20250515T123404Z
LAST-MODIFIED:20251217T083658Z
UID:62967-1765962000-1765964700@svemarknad.se.hosting.brainforest.se
SUMMARY:Event Årets Marknadsföringsbok 2025
DESCRIPTION:Välkommen till föreläsning & webbinarium med författarna till Årets Marknadsföringsbok 2025\n\n\n\nGoogle Meet länken är skickad till anmälda kl 08.00 – om du saknar länken mejla till annika@svemarknad.se eller smsa 073 052 00 91 \n\n\n\n \n\n\n\nÅrets Marknadsföringsbok 2025 är boken ”Power\, seduction och skill.”Hemligheten bakom framgångsrika varumärken. Ekerlids Förlag.\n\n\n\nVarmt välkommen att anmäla dig till detta webbinarium för att få lyssna till författarna David Loid och Carl Schreiter.\n\n\n\nDavid Loid och Carl Schreiter erbjuder en ny syn på varumärkesutveckling som tar sin utgångspunkt i kundernas beslutssituation. De ger en inblick i vad som gör ett varumärke framgångsrikt\, baserat på djup kunskap och förståelse för hur olika typer av varumärken fungerar. David Lois och Carl Schreiter är internationellt verksamma som coacher och rådgivare inom ledarskap\, kommunikation och varumärkesutveckling. Deras erfarenhet sträcker sig över flera branscher från teknologi och tillverkning till professional services och start-ups. Carl har en bakgrund inom dramaturgi och som skribent medan David även verkar som entreprenör och forskare. \n\n\n\nOm boken:Globala konsumentföretag bygger sina varumärken utifrån etablerade teorier – teorier som i grunden är anpassade efter dessa företags specifika behov och syften. Men de flesta företag är inte globala konsumentvarumärken och för dem fungerar inte de etablerade teorierna speciellt bra och kan i vissa fall vara direkt kontraproduktiva.  \n\n\n\nDen här boken definierar\, beskriver och utvecklar tre grundläggande varumärkestyper: Power\, Seduction och Skill brands med utgångspunkt i hur kunder tänker\, agerar och fattar beslut i olika situationer. \n\n\n\nI boken illustreras varje varumärkestyp och modell med konkreta exempel från olika företag\, dels storföretag som Volvo Cars\, ICA\, Gillette\, BDO International\, och Ocean Infinity\, men också medelstora aktörer inom restaurangbranschen\, nischad teknik och den privata vårdsektorn.  \n\n\n\nFörfattarna ger också vägledning i hur man går till väga för att bygga varumärken kring såväl företag som personer i syfte att få maximalt genomslag i utvalda målgrupper. \n\n\n\nJuryns motivering för Årets Marknadsföringsbok 2025Juryn har utsett boken Power seduction och skill\, av David Loid och Carl Schreiter till årets marknadsföringsbok 2025. Boken beskriver på ett intressant sätt hemligheten bakom framgångsrika varumärken\, delvis genom ny varumärkesteori\, för produkter förknippade med svåra köpbeslut. Boken använder på ett nytänkande sätt kundens situation och perspektiv som utgångspunkt i arbetet med att skapa och bygga varumärken. Boken är tydlig och välskriven\, juryn rekommenderar den till alla som vill arbeta med sitt varumärke i syfte att skapa större förståelse och framgång\, oavsett om det är ett helt nytt varumärke eller om behovet är att tänka omkring ett existerande varumärke från grunden \n\n\n\n\n\n\n\nSveriges Marknadsförbund belönar bra och läsvärd marknadsföringslitteratur på svenska och engelska. Årets Marknadsföringsbok är en årlig utmärkelse från Sveriges Marknadsförbund. Juryn bedömer böcker baserat på aktualitet\, kvalitet och relevans för branschen. Priset har delas ut årligen sedan 1991. \n\n\n\nJuryn utser även ett hederspris – Årets Hedersomnämnande 2025 går till boken Intervjun\, tala framgångsrikt med journalister och media.Läs mer om Årets Marknadsföringsbok och juryn – här \n\n\n\nJuryn för Årets Marknadsföringsbok\, Jonas Colliander\, doktor och forskare vid institutionen marknadsföring och strategi vid Handelshögskolan i Stockholm\, Carin Wikström\, marknadschef SIFU AB\, Sofia Ulver\, docent vid företagsekonomiska institutionen vid Lunds universitet\, Francesca O’Brien\, vd på Sveriges Marknadsförbund Ordförande: Henning Robach\, kursledare inom marknadsföring bl a på IHM Business School\, konsult. Johan Hagberg\, professor Handelshögskolan Göteborgs Universitet\n\n\n\nSe hela lista på nominerade böcker för 2025 – här \n\n\n\nSe listan över tidigare års vinnande böcker – här \n\n\n\nFritt för medlemmar! \n\n\n\nÅrets bok brukar vara ett fint julklappstips till kollegor!\n\n\n\n \n\n\n\nAnmälan: \n\n\n\n1. Anmäl dig nedan.2. En timme innan webbinariet får du länken för att kunna delta. \n\n\n\nDag: 17 decemberTid: kl 09.00 – 09.45Plats: Online via Google MeetsAnmälan: – se nedan \n\n\n\n\n\n\n	 \n\n\nNoshow debiteras\n\n\n\nAvbokning sker senast 2 vardagar innan eventet men platsen kan alltid överlåtas till annan person – namnjustering sker till annika@svemarknad.se.Vid utebliven närvaro utgår avgift på 495 kr ex moms. Vi reserverar oss för ev. ändringar i programmet.
URL:https://svemarknad.se.hosting.brainforest.se/evenemang/event-arets-marknadsforingsbok-2025/
CATEGORIES:Webbinarium
ATTACH;FMTTYPE=image/jpeg:https://svemarknad.se.hosting.brainforest.se/wp-content/uploads/2025/11/omslagpower-seduction-and-skill-lag.jpeg
END:VEVENT
BEGIN:VEVENT
DTSTART;TZID=Europe/Stockholm:20251218T083000
DTEND;TZID=Europe/Stockholm:20251218T123000
DTSTAMP:20260423T104539
CREATED:20250813T134007Z
LAST-MODIFIED:20251111T083201Z
UID:63971-1766046600-1766061000@svemarknad.se.hosting.brainforest.se
SUMMARY:Skapa den ultimata TikTok-strategin för företag
DESCRIPTION:TikTok är inte längre bara en underhållningsplattform\, det är en av de mest kraftfulla kanalerna för att bygga varumärke\, skapa engagemang och nå ut till nya målgrupper. I denna kurs får du en strategisk och praktisk genomgång av hur du som marknadsförare\, kommunikatör eller egenföretagare kan använda TikTok för att stärka ditt varumärkes närvaro\, nå ut organiskt och skapa innehåll som träffar rätt. Allt detta från en prisad digital marknadsföringsbyrå som själva hjälper flertalet företag med allt från strategi till produktion. Du lär dig hur plattformens algoritm fungerar\, vilka format som fungerar bäst och hur du anpassar ditt innehåll till TikToks unika kultur. Genom konkreta exempel\, trendanalyser och strategiska övningar får du verktygen att skapa en TikTok-strategi som inte bara syns utan också ger effekt.Kursen kräver inga förkunskaper. \n\n\n\nKursinnehåll:\n\n\n\nUnder denna kurs kommer du att lära dig följande: \n\n\n\n\nTikToks grundprinciper och innehållskultur\n\n\n\nLära dig vilka innehållstyper och format som presterar bäst\n\n\n\nFörstå hur TikToks algoritm påverkar synlighet och räckvidd\n\n\n\nFå konkreta tips på hur du skapar innehåll som engagerar\n\n\n\nLära dig att bygga en långsiktig och hållbar TikTok-strategi\n\n\n\nOptimera ditt konto och dina videor för ökad synlighet\n\n\n\nFå en lättare introduktion till betald annonsering som komplement till organisknärvaro\n\n\n\n\nKursens längd:\n\n\n\n4 timmar \n\n\n\nKursledare:\n\n\n\nMoa Wilén är marknadskoordinator och contentstrateg på Salgado Kommunikation.Hon har en akademisk bakgrund inom medievetenskap och sociologi\, vilket ger henneen djup förståelse för hur olika innehållstyper påverkar och engagerar målgrupper isociala medier. Moa har tidigare studerat TikTok-communities och deras roll iidentitetsskapande hos unga kvinnor och hon föreläser regelbundet vid bland annatStockholm School of Business och Medieinstitutet. I kursen delar hon med sig av bådestrategiska insikter och praktiska erfarenheter från sitt arbete med TikTok. \n\n\n\n\n\n\n\nKursdatum 18 december 2025\n\n\n\nAnmälan: gör du nedanPris: 5.200 kr + moms för medlem (9.800 kr icke medlem)Kursen sker live online och du kommer att få en länk till Zoom. \n\n\n\nDag: 18 november 2025Tid: Kl 08.30-12.30Plats: Online. Zoom-länk skickasAnmälan: se nedan \n\n\n\nAnmälan är bindande.Sveriges Marknadsförbunds integritetspolicy.
URL:https://svemarknad.se.hosting.brainforest.se/evenemang/skapa-den-ultimata-tiktok-strategin-for-foretag/
CATEGORIES:Kurser
ATTACH;FMTTYPE=image/png:https://svemarknad.se.hosting.brainforest.se/wp-content/uploads/2025/08/Moa-2.png
END:VEVENT
BEGIN:VEVENT
DTSTART;TZID=Europe/Stockholm:20251231T080000
DTEND;TZID=Europe/Stockholm:20251231T170000
DTSTAMP:20260423T104539
CREATED:20251118T102044Z
LAST-MODIFIED:20251218T075143Z
UID:65576-1767168000-1767200400@svemarknad.se.hosting.brainforest.se
SUMMARY:Vill du ha en egen mentor 2026?
DESCRIPTION:Tips till dig inför kommande år – skaffa dig en mentor!En mentor är för många en bra ledsagare för att utvecklas i yrkesrollen. Det gäller inte bara för dem som just börjat sin karriär\, utan kan vara till stor nytta även senare.En senior medarbetare kanske vill få kunskap och lära känna generation Y och Z och deras kultur- och mediavanor\, köpbeteende samt erfarenheter inom kommunikationsyrket. \n\n\n\nEn yngre medarbetare på marknads- eller kommunikationsavdelningen kanske söker efter en extern äldre marknads- och kommunikationschef att bolla med? \n\n\n\nLäs mer här
URL:https://svemarknad.se.hosting.brainforest.se/evenemang/vill-du-ha-en-egen-mentor-2026/
CATEGORIES:Kurser
ATTACH;FMTTYPE=image/jpeg:https://svemarknad.se.hosting.brainforest.se/wp-content/uploads/2025/05/Mentor-Adept_-Catarina-Falkenhav-scaled.jpg
END:VEVENT
END:VCALENDAR